Workbook

Sheet 2017
A1: Martfűi Városfejlesztési Nkft
A2: Számviteli törvény szerinti eredménylevezetés tevékenységek szerint 2017.év
D3: 1 | E3: 2 | F3: 3 | G3: 4
A4: Sor-szám | C4: A tétel megnevezése | D4: Hulladékgazdálkodás (nettó) | E4: Ingatlangazdálkodás (nettó) | F4: TESZ (bruttó) ÁFA levonási jog nincs | G4: Vállalkozási szerződésen alapuló TESZ | H4: 2017.év összesített eredmény
A5: 1 | C5: Árbevételek | D5: =2500000+1440000+120000+250000 -> 4310000 | E5: =35196584+27500 -> 35224084 | F5: 0 | G5: =1203874+738717 -> 1942591 | H5: =SUM(D5:G5) -> 41476675
A6: =A5+1 -> 2 | C6: Közvetített szolgáltatások árbevétele (92.) | H6: =SUM(D6:G6) -> 0
A7: =A6+1 -> 3 | B7: 1 | C7: Belföldi értékesítés árbevétele | D7: =SUM(D5:D6) -> 4310000 | E7: =SUM(E5:E6) -> 35224084 | F7: =SUM(F5:F6) -> 0 | G7: =SUM(G5:G6) -> 1942591 | H7: =SUM(H5:H6) -> 41476675
A8: =A7+1 -> 4 | B8: 2 | C8: Exportértékesítés nettó árbevétele | D8: 0 | E8: 0 | F8: 0 | G8: 0 | H8: =SUM(D8:G8) -> 0
A9: =A8+1 -> 5 | B9: I. | C9: Értékesítés nettó árbevétele (01+02) | D9: =SUM(D7:D8) -> 4310000 | E9: =SUM(E7:E8) -> 35224084 | F9: =SUM(F7:F8) -> 0 | G9: =SUM(G7:G8) -> 1942591 | H9: =SUM(H7:H8) -> 41476675
A10: =A9+1 -> 6 | B10: 3 | C10: Saját termelésű készletek állományváltozása ± | D10: 0 | E10: 0 | F10: 0 | G10: 0 | H10: =SUM(D10:G10) -> 0
A11: =A10+1 -> 7 | B11: 4 | C11: Saját előállítású eszközök aktivált értéke | D11: 0 | E11: 0 | F11: 0 | G11: 0 | H11: =SUM(D11:G11) -> 0
A12: =A11+1 -> 8 | B12: II. | C12: Aktivált saját teljesítmények értéke (±03+04) | D12: =SUM(D10:D11) -> 0 | E12: =SUM(E10:E11) -> 0 | F12: =SUM(F10:F11) -> 0 | G12: =SUM(G10:G11) -> 0 | H12: =SUM(H10:H11) -> 0
A13: =A12+1 -> 9 | C13: Önkormányzati támogatás | D13: 0 | E13: 0 | F13: 66895507 | G13: 0 | H13: =D13+E13+F13+G13 -> 66895507
A14: =A13+1 -> 10 | C14: Vagyonkezelésbe átvett vevőállományra történt befizetések miatti támogatás feloldása | D14: 0 | E14: =4816481+42632+938753 -> 5797866 | F14: 0 | G14: 0 | H14: =D14+E14+F14+G14 -> 5797866
A15: =A14+1 -> 11 | C15: Értékesített tárgyi eszközök | D15: 4680000 | E15: 0 | F15: 0 | G15: 0 | H15: =D15+E15+F15+G15 -> 4680000
A16: =A15+1 -> 12 | C16: Fejlesztési tartalék visszaírása | D16: =8158408 -> 8158408 | E16: 0 | F16: 0 | G16: 0 | H16: =D16+E16+F16+G16 -> 8158408
A17: =A16+1 -> 13 | C17: Egyéb bevételek | D17: =-269523+6200 -> -263323 | E17: =8022 -> 8022 | F17: =70725+5000+162982+342 -> 239049 | G17: 0 | H17: =D17+E17+F17+G17 -> -16252
A18: =A17+1 -> 14 | B18: III. | C18: Egyéb bevételek összesen | D18: =SUM(D13:D17) -> 12575085 | E18: =SUM(E13:E17) -> 5805888 | F18: =SUM(F13:F17) -> 67134556 | G18: =SUM(G13:G17) -> 0 | H18: =SUM(H13:H17) -> 85515529
A19: =A18+1 -> 15 | D19: 0 | E19: 0 | F19: 0 | G19: 0 | H19: =D19+E19+F19+G19 -> 0
A20: =A19+1 -> 16 | C20: Csomagolóanyagok | D20: 0 | E20: 0 | F20: 40488 | G20: 0 | H20: =D20+E20+F20+G20 -> 40488
A21: =A20+1 -> 17 | C21: Üzemanyagok, kenőanyagok | D21: 0 | E21: 0 | F21: =987+3024524+1958038+349696 -> 5333245 | G21: 0 | H21: =D21+E21+F21+G21 -> 5333245
A22: =A21+1 -> 18 | C22: Közüzemi díjak (víz-, villany, gáz) | D22: 0 | E22: =6591704+3071091+2160207 -> 11823002 | F22: =1367182+827781+114802 -> 2309765 | G22: 0 | H22: =D22+E22+F22+G22 -> 14132767
A23: =A22+1 -> 19 | C23: Karbantartási anyagok | D23: 0 | E23: =923008+85028+256750 -> 1264786 | F23: =1019866+866391+980642+645914+932998+209896 -> 4655707 | G23: 121670 | H23: =D23+E23+F23+G23 -> 6042163
A24: =A23+1 -> 20 | C24: Munkaruha, védőruha, védőfelszerelés | D24: 0 | E24: =3304+9778 -> 13082 | F24: =677854+244670 -> 922524 | G24: 0 | H24: =D24+E24+F24+G24 -> 935606
A25: =A24+1 -> 21 | C25: Nyomtatvány, irodaszer | D25: 0 | E25: =57490+20690 -> 78180 | F25: 44695 | G25: 0 | H25: =D25+E25+F25+G25 -> 122875
A26: =A25+1 -> 22 | C26: Tisztítószerek | D26: 0 | E26: 83252 | F26: 114598 | G26: 0 | H26: =D26+E26+F26+G26 -> 197850
A27: =A26+1 -> 23 | C27: Egyéb előzőekbe be nem sorolható anyagok, szerszámok | D27: 0 | E27: =7254+2716 -> 9970 | F27: =229726+17994 -> 247720 | G27: =F28-13668742 -> 0 | H27: =D27+E27+F27+G27 -> 257690
A28: =A27+1 -> 24 | B28: 5 | C28: Anyagköltségek összesen | D28: =SUM(D19:D27) -> 0 | E28: =SUM(E19:E27) -> 13272272 | F28: =SUM(F19:F27) -> 13668742 | G28: =SUM(G19:G27) -> 121670 | H28: =SUM(D28:G28) -> 27062684
A29: =A28+1 -> 25 | C29: Parkolás, autópálya, útdíjak | D29: 10000 | E29: =5694 -> 5694 | F29: =72826+4907 -> 77733 | G29: 0 | H29: =SUM(D29:G29) -> 93427
A30: =A29+1 -> 26 | C30: Bérleti díjak | D30: 0 | E30: =96600+58587 -> 155187 | F30: =294032+81232 -> 375264 | G30: 0 | H30: =SUM(D30:G30) -> 530451
A31: =A30+1 -> 27 | C31: Épületen végzett karbantartás | D31: 0 | E31: 796360 | F31: 94634 | G31: 0 | H31: =SUM(D31:G31) -> 890994
A32: =A31+1 -> 28 | C32: Járműveken végzett karbantartás | D32: 0 | E32: 0 | F32: 1327863 | G32: 0 | H32: =SUM(D32:G32) -> 1327863
A33: =A32+1 -> 29 | C33: Egyéb eszközökön végzett karbantartás | D33: 0 | E33: 103769 | F33: 468016 | G33: 0 | H33: =SUM(D33:G33) -> 571785
A34: =A33+1 -> 30 | C34: Irodai eszközökön végzett karbantartás | D34: 0 | E34: 4320 | F34: 11731 | G34: 0 | H34: =SUM(D34:G34) -> 16051
A35: =A34+1 -> 31 | C35: Oktatás | D35: 0 | E35: 0 | F35: 0 | G35: 0 | H35: =SUM(D35:G35) -> 0
A36: =A35+1 -> 32 | C36: Üzleti célú utazási költségek | D36: 0 | E36: 0 | F36: 0 | G36: 0 | H36: =SUM(D36:G36) -> 0
A37: =A36+1 -> 33 | C37: Szakértői szolgáltatások (munka és tűzvédelem, kockázatelemzés, ügyvédi díj, könyvvezetés) | D37: 0 | E37: =864000+101970+54090 -> 1020060 | F37: =1341120+179070+224790 -> 1744980 | G37: 0 | H37: =SUM(D37:G37) -> 2765040
A38: =A37+1 -> 34 | C38: Alvállalkozói költség (útépítés) | D38: 0 | E38: 0 | F38: 0 | H38: =SUM(D38:G38) -> 0
A39: =A38+1 -> 35 | C39: Posta-, telefon-, internetköltség | D39: =63595+26461 -> 90056 | E39: =22595+15303 -> 37898 | F39: =15690+339791 -> 355481 | G39: 0 | H39: =SUM(D39:G39) -> 483435
A40: =A39+1 -> 36 | C40: Internet (kábeltv.- internet) | D40: 0 | E40: =131158+3820 -> 134978 | F40: 0 | G40: 0 | H40: =SUM(D40:G40) -> 134978
...

Sheet Előző évek korrekciój
A1: Martfűi Városfejlesztési Nkft
A2: Előző évek korrekciója eredménylevezetés tevékenységek szerint
D3: 2017.év
D4: 1 | E4: 2 | F4: 3 | G4: 4
A5: Sor-szám | C5: A tétel megnevezése | D5: Hulladékgazdálkodás (nettó) | E5: Ingatlangazdálkodás (nettó) | F5: TESZ (bruttó) ÁFA levonási jog nincs | G5: Vállalkozási szerződésen alapuló TESZ | H5: 2016.év összesített eredmény
A6: 1 | C6: Árbevételek | E6: -27500 | H6: =SUM(D6:G6) -> -27500
A7: =A6+1 -> 2 | C7: Közvetített szolgáltatások árbevétele (92.) | H7: =SUM(D7:G7) -> 0
A8: =A7+1 -> 3 | B8: 1 | C8: Belföldi értékesítés árbevétele | D8: =SUM(D6:D7) -> 0 | E8: =SUM(E6:E7) -> -27500 | F8: =SUM(F6:F7) -> 0 | G8: =SUM(G6:G7) -> 0 | H8: =SUM(H6:H7) -> -27500
A9: =A8+1 -> 4 | B9: 2 | C9: Exportértékesítés nettó árbevétele | D9: 0 | E9: 0 | F9: 0 | G9: 0 | H9: =SUM(D9:G9) -> 0
A10: =A9+1 -> 5 | B10: I. | C10: Értékesítés nettó árbevétele (01+02) | D10: =SUM(D8:D9) -> 0 | E10: =SUM(E8:E9) -> -27500 | F10: =SUM(F8:F9) -> 0 | G10: =SUM(G8:G9) -> 0 | H10: =SUM(H8:H9) -> -27500
A11: =A10+1 -> 6 | B11: 3 | C11: Saját termelésű készletek állományváltozása ± | D11: 0 | E11: 0 | F11: 0 | G11: 0 | H11: =SUM(D11:G11) -> 0
A12: =A11+1 -> 7 | B12: 4 | C12: Saját előállítású eszközök aktivált értéke | D12: 0 | E12: 0 | F12: 0 | G12: 0 | H12: =SUM(D12:G12) -> 0
A13: =A12+1 -> 8 | B13: II. | C13: Aktivált saját teljesítmények értéke (±03+04) | D13: =SUM(D11:D12) -> 0 | E13: =SUM(E11:E12) -> 0 | F13: =SUM(F11:F12) -> 0 | G13: =SUM(G11:G12) -> 0 | H13: =SUM(H11:H12) -> 0
A14: =A13+1 -> 9 | C14: Önkormányzati támogatás | D14: 0 | E14: 0 | G14: 0 | H14: =D14+E14+F14+G14 -> 0
A15: =A14+1 -> 10 | C15: Vagyonkezelésbe átvett vevőállományra történt befizetések miatti támogatás feloldása | D15: 0 | E15: 0 | F15: 0 | G15: 0 | H15: =D15+E15+F15+G15 -> 0
A16: =A15+1 -> 11 | C16: Értékesített tárgyi eszközök | D16: 0 | E16: 0 | F16: 0 | G16: 0 | H16: =D16+E16+F16+G16 -> 0
A17: =A16+1 -> 12 | C17: Fejlesztési tartalék visszaírása | D17: 361479 | E17: 0 | F17: 0 | G17: 0 | H17: =D17+E17+F17+G17 -> 361479
A18: =A17+1 -> 13 | C18: Egyéb bevételek | D18: 0 | F18: 0 | G18: 0 | H18: =D18+E18+F18+G18 -> 0
A19: =A18+1 -> 14 | B19: III. | C19: Egyéb bevételek összesen | D19: =SUM(D14:D18) -> 361479 | E19: =SUM(E14:E18) -> 0 | F19: =SUM(F14:F18) -> 0 | G19: =SUM(G14:G18) -> 0 | H19: =SUM(H14:H18) -> 361479
A20: =A19+1 -> 15 | D20: 0 | E20: 0 | F20: 0 | G20: 0 | H20: =D20+E20+F20+G20 -> 0
A21: =A20+1 -> 16 | C21: Csomagolóanyagok | D21: 0 | E21: 0 | F21: 0 | G21: 0 | H21: =D21+E21+F21+G21 -> 0
A22: =A21+1 -> 17 | C22: Üzemanyagok, kenőanyagok | D22: 0 | E22: 0 | F22: 0 | G22: 0 | H22: =D22+E22+F22+G22 -> 0
A23: =A22+1 -> 18 | C23: Közüzemi díjak (víz-, villany, gáz) | D23: 0 | E23: 0 | F23: 0 | G23: 0 | H23: =D23+E23+F23+G23 -> 0
A24: =A23+1 -> 19 | C24: Karbantartási anyagok | D24: 0 | E24: 0 | F24: 0 | G24: 0 | H24: =D24+E24+F24+G24 -> 0
A25: =A24+1 -> 20 | C25: Munkaruha, védőruha, védőfelszerelés | D25: 0 | E25: 0 | F25: 0 | G25: 0 | H25: =D25+E25+F25+G25 -> 0
A26: =A25+1 -> 21 | C26: Nyomtatvány, irodaszer | D26: 0 | E26: 0 | F26: 0 | G26: 0 | H26: =D26+E26+F26+G26 -> 0
A27: =A26+1 -> 22 | C27: Tisztítószerek | D27: 0 | E27: 0 | F27: 0 | G27: 0 | H27: =D27+E27+F27+G27 -> 0
A28: =A27+1 -> 23 | C28: Egyéb előzőekbe be nem sorolható anyagok, szerszámok | D28: 0 | E28: 0 | F28: 0 | G28: 0 | H28: =D28+E28+F28+G28 -> 0
A29: =A28+1 -> 24 | B29: 5 | C29: Anyagköltségek összesen | D29: =SUM(D20:D28) -> 0 | E29: =SUM(E20:E28) -> 0 | F29: =SUM(F20:F28) -> 0 | G29: =SUM(G20:G28) -> 0 | H29: =SUM(D29:G29) -> 0
A30: =A29+1 -> 25 | C30: Parkolás, autópálya, útdíjak | D30: 0 | E30: 0 | F30: 0 | G30: 0 | H30: =SUM(D30:G30) -> 0
A31: =A30+1 -> 26 | C31: Bérleti díjak | D31: 0 | E31: 0 | F31: 0 | G31: 0 | H31: =SUM(D31:G31) -> 0
A32: =A31+1 -> 27 | C32: Épületen végzett karbantartás | D32: 0 | E32: 0 | F32: 0 | G32: 0 | H32: =SUM(D32:G32) -> 0
A33: =A32+1 -> 28 | C33: Járműveken végzett karbantartás | D33: 0 | E33: 0 | F33: 0 | G33: 0 | H33: =SUM(D33:G33) -> 0
A34: =A33+1 -> 29 | C34: Egyéb eszközökön végzett karbantartás | D34: 0 | E34: 0 | F34: 0 | G34: 0 | H34: =SUM(D34:G34) -> 0
A35: =A34+1 -> 30 | C35: Irodai eszközökön végzett karbantartás | D35: 0 | E35: 0 | F35: 0 | G35: 0 | H35: =SUM(D35:G35) -> 0
A36: =A35+1 -> 31 | C36: Oktatás | D36: 0 | E36: 0 | F36: 0 | G36: 0 | H36: =SUM(D36:G36) -> 0
A37: =A36+1 -> 32 | C37: Üzleti célú utazási költségek | D37: 0 | E37: 0 | F37: 0 | G37: 0 | H37: =SUM(D37:G37) -> 0
A38: =A37+1 -> 33 | C38: Szakértői szolgáltatások (munka és tűzvédelem, kockázatelemzés, ügyvédi díj, könyvvezetés) | D38: 0 | E38: 0 | F38: 0 | G38: 0 | H38: =SUM(D38:G38) -> 0
A39: =A38+1 -> 34 | C39: Alvállalkozói költség (útépítés) | D39: 0 | E39: 0 | F39: 0 | H39: =SUM(D39:G39) -> 0
A40: =A39+1 -> 35 | C40: Posta-, telefon-, internetköltség | D40: 0 | E40: 0 | F40: 0 | G40: 0 | H40: =SUM(D40:G40) -> 0
...

Sheet Munka1
C5: Bérek | D5: bér | E5: 13 | F5: hónap | H5: étk.hj 8000 | I5: szja | J5: eü
B6: 1
B7: 2 | K7: =SUM(H7:J7) -> 0 | M7: =K7/12 -> 0
B8: 3
B9: 4
B10: 5
B11: 6
B12: 7
B13: 8
B14: 9
B15: 10
B16: 11
B17: 12
B18: 13
B19: 14
B20: 15
L26: =E23+E24+E25+H23+I23+J23 -> 0
B29: 16

Sheet Összesen
A1: Martfűi Városfejlesztési Nkft
A2: Számviteli törvény szerinti eredménylevezetés tevékenységek szerint
D3: 2017.év
D4: 1 | E4: 2 | F4: 3 | G4: 4
A5: Sor-szám | C5: A tétel megnevezése | D5: Hulladékgazdálkodás (nettó) | E5: Ingatlangazdálkodás (nettó) | F5: TESZ (bruttó) ÁFA levonási jog nincs | G5: Vállalkozási szerződésen alapuló TESZ | H5: 2017.év összesített eredmény
A6: 1 | C6: Árbevételek | D6: ='Előző évek korrekciój'!D6+'2017'!D5 -> 4310000 | E6: ='Előző évek korrekciój'!E6+'2017'!E5 -> 35196584 | F6: ='Előző évek korrekciój'!F6+'2017'!F5 -> 0 | G6: ='Előző évek korrekciój'!G6+'2017'!G5 -> 1942591 | H6: ='Előző évek korrekciój'!H6+'2017'!H5 -> 41449175
A7: =A6+1 -> 2 | C7: Közvetített szolgáltatások árbevétele (92.) | D7: ='Előző évek korrekciój'!D7+'2017'!D6 -> 0 | E7: ='Előző évek korrekciój'!E7+'2017'!E6 -> 0 | F7: ='Előző évek korrekciój'!F7+'2017'!F6 -> 0 | G7: ='Előző évek korrekciój'!G7+'2017'!G6 -> 0 | H7: ='Előző évek korrekciój'!H7+'2017'!H6 -> 0
A8: =A7+1 -> 3 | B8: 1 | C8: Belföldi értékesítés árbevétele | D8: ='Előző évek korrekciój'!D8+'2017'!D7 -> 4310000 | E8: ='Előző évek korrekciój'!E8+'2017'!E7 -> 35196584 | F8: ='Előző évek korrekciój'!F8+'2017'!F7 -> 0 | G8: ='Előző évek korrekciój'!G8+'2017'!G7 -> 1942591 | H8: ='Előző évek korrekciój'!H8+'2017'!H7 -> 41449175
A9: =A8+1 -> 4 | B9: 2 | C9: Exportértékesítés nettó árbevétele | D9: ='Előző évek korrekciój'!D9+'2017'!D8 -> 0 | E9: ='Előző évek korrekciój'!E9+'2017'!E8 -> 0 | F9: ='Előző évek korrekciój'!F9+'2017'!F8 -> 0 | G9: ='Előző évek korrekciój'!G9+'2017'!G8 -> 0 | H9: ='Előző évek korrekciój'!H9+'2017'!H8 -> 0
A10: =A9+1 -> 5 | B10: I. | C10: Értékesítés nettó árbevétele (01+02) | D10: ='Előző évek korrekciój'!D10+'2017'!D9 -> 4310000 | E10: ='Előző évek korrekciój'!E10+'2017'!E9 -> 35196584 | F10: ='Előző évek korrekciój'!F10+'2017'!F9 -> 0 | G10: ='Előző évek korrekciój'!G10+'2017'!G9 -> 1942591 | H10: ='Előző évek korrekciój'!H10+'2017'!H9 -> 41449175
A11: =A10+1 -> 6 | B11: 3 | C11: Saját termelésű készletek állományváltozása ± | D11: ='Előző évek korrekciój'!D11+'2017'!D10 -> 0 | E11: ='Előző évek korrekciój'!E11+'2017'!E10 -> 0 | F11: ='Előző évek korrekciój'!F11+'2017'!F10 -> 0 | G11: ='Előző évek korrekciój'!G11+'2017'!G10 -> 0 | H11: ='Előző évek korrekciój'!H11+'2017'!H10 -> 0
A12: =A11+1 -> 7 | B12: 4 | C12: Saját előállítású eszközök aktivált értéke | D12: ='Előző évek korrekciój'!D12+'2017'!D11 -> 0 | E12: ='Előző évek korrekciój'!E12+'2017'!E11 -> 0 | F12: ='Előző évek korrekciój'!F12+'2017'!F11 -> 0 | G12: ='Előző évek korrekciój'!G12+'2017'!G11 -> 0 | H12: ='Előző évek korrekciój'!H12+'2017'!H11 -> 0
A13: =A12+1 -> 8 | B13: II. | C13: Aktivált saját teljesítmények értéke (±03+04) | D13: ='Előző évek korrekciój'!D13+'2017'!D12 -> 0 | E13: ='Előző évek korrekciój'!E13+'2017'!E12 -> 0 | F13: ='Előző évek korrekciój'!F13+'2017'!F12 -> 0 | G13: ='Előző évek korrekciój'!G13+'2017'!G12 -> 0 | H13: ='Előző évek korrekciój'!H13+'2017'!H12 -> 0
A14: =A13+1 -> 9 | C14: Önkormányzati támogatás | D14: ='Előző évek korrekciój'!D14+'2017'!D13 -> 0 | E14: ='Előző évek korrekciój'!E14+'2017'!E13 -> 0 | F14: ='Előző évek korrekciój'!F14+'2017'!F13 -> 66895507 | G14: ='Előző évek korrekciój'!G14+'2017'!G13 -> 0 | H14: ='Előző évek korrekciój'!H14+'2017'!H13 -> 66895507
A15: =A14+1 -> 10 | C15: Vagyonkezelésbe átvett vevőállományra történt befizetések miatti támogatás feloldása | D15: ='Előző évek korrekciój'!D15+'2017'!D14 -> 0 | E15: ='Előző évek korrekciój'!E15+'2017'!E14 -> 5797866 | F15: ='Előző évek korrekciój'!F15+'2017'!F14 -> 0 | G15: ='Előző évek korrekciój'!G15+'2017'!G14 -> 0 | H15: ='Előző évek korrekciój'!H15+'2017'!H14 -> 5797866
A16: =A15+1 -> 11 | C16: Értékesített tárgyi eszközök | D16: ='Előző évek korrekciój'!D16+'2017'!D15 -> 4680000 | E16: ='Előző évek korrekciój'!E16+'2017'!E15 -> 0 | F16: ='Előző évek korrekciój'!F16+'2017'!F15 -> 0 | G16: ='Előző évek korrekciój'!G16+'2017'!G15 -> 0 | H16: ='Előző évek korrekciój'!H16+'2017'!H15 -> 4680000
A17: =A16+1 -> 12 | C17: Fejlesztési tartalék visszaírása | D17: ='Előző évek korrekciój'!D17+'2017'!D16 -> 8519887 | E17: ='Előző évek korrekciój'!E17+'2017'!E16 -> 0 | F17: ='Előző évek korrekciój'!F17+'2017'!F16 -> 0 | G17: ='Előző évek korrekciój'!G17+'2017'!G16 -> 0 | H17: ='Előző évek korrekciój'!H17+'2017'!H16 -> 8519887
A18: =A17+1 -> 13 | C18: Egyéb bevételek | D18: ='Előző évek korrekciój'!D18+'2017'!D17 -> -263323 | E18: ='Előző évek korrekciój'!E18+'2017'!E17 -> 8022 | F18: ='Előző évek korrekciój'!F18+'2017'!F17 -> 239049 | G18: ='Előző évek korrekciój'!G18+'2017'!G17 -> 0 | H18: ='Előző évek korrekciój'!H18+'2017'!H17 -> -16252
A19: =A18+1 -> 14 | B19: III. | C19: Egyéb bevételek összesen | D19: ='Előző évek korrekciój'!D19+'2017'!D18 -> 12936564 | E19: ='Előző évek korrekciój'!E19+'2017'!E18 -> 5805888 | F19: ='Előző évek korrekciój'!F19+'2017'!F18 -> 67134556 | G19: ='Előző évek korrekciój'!G19+'2017'!G18 -> 0 | H19: ='Előző évek korrekciój'!H19+'2017'!H18 -> 85877008
A20: =A19+1 -> 15 | D20: ='Előző évek korrekciój'!D20+'2017'!D19 -> 0 | E20: ='Előző évek korrekciój'!E20+'2017'!E19 -> 0 | F20: ='Előző évek korrekciój'!F20+'2017'!F19 -> 0 | G20: ='Előző évek korrekciój'!G20+'2017'!G19 -> 0 | H20: ='Előző évek korrekciój'!H20+'2017'!H19 -> 0
A21: =A20+1 -> 16 | C21: Csomagolóanyagok | D21: ='Előző évek korrekciój'!D21+'2017'!D20 -> 0 | E21: ='Előző évek korrekciój'!E21+'2017'!E20 -> 0 | F21: ='Előző évek korrekciój'!F21+'2017'!F20 -> 40488 | G21: ='Előző évek korrekciój'!G21+'2017'!G20 -> 0 | H21: ='Előző évek korrekciój'!H21+'2017'!H20 -> 40488
A22: =A21+1 -> 17 | C22: Üzemanyagok, kenőanyagok | D22: ='Előző évek korrekciój'!D22+'2017'!D21 -> 0 | E22: ='Előző évek korrekciój'!E22+'2017'!E21 -> 0 | F22: ='Előző évek korrekciój'!F22+'2017'!F21 -> 5333245 | G22: ='Előző évek korrekciój'!G22+'2017'!G21 -> 0 | H22: ='Előző évek korrekciój'!H22+'2017'!H21 -> 5333245
A23: =A22+1 -> 18 | C23: Közüzemi díjak (víz-, villany, gáz) | D23: ='Előző évek korrekciój'!D23+'2017'!D22 -> 0 | E23: ='Előző évek korrekciój'!E23+'2017'!E22 -> 11823002 | F23: ='Előző évek korrekciój'!F23+'2017'!F22 -> 2309765 | G23: ='Előző évek korrekciój'!G23+'2017'!G22 -> 0 | H23: ='Előző évek korrekciój'!H23+'2017'!H22 -> 14132767
A24: =A23+1 -> 19 | C24: Karbantartási anyagok | D24: ='Előző évek korrekciój'!D24+'2017'!D23 -> 0 | E24: ='Előző évek korrekciój'!E24+'2017'!E23 -> 1264786 | F24: ='Előző évek korrekciój'!F24+'2017'!F23 -> 4655707 | G24: ='Előző évek korrekciój'!G24+'2017'!G23 -> 121670 | H24: ='Előző évek korrekciój'!H24+'2017'!H23 -> 6042163
A25: =A24+1 -> 20 | C25: Munkaruha, védőruha, védőfelszerelés | D25: ='Előző évek korrekciój'!D25+'2017'!D24 -> 0 | E25: ='Előző évek korrekciój'!E25+'2017'!E24 -> 13082 | F25: ='Előző évek korrekciój'!F25+'2017'!F24 -> 922524 | G25: ='Előző évek korrekciój'!G25+'2017'!G24 -> 0 | H25: ='Előző évek korrekciój'!H25+'2017'!H24 -> 935606
A26: =A25+1 -> 21 | C26: Nyomtatvány, irodaszer | D26: ='Előző évek korrekciój'!D26+'2017'!D25 -> 0 | E26: ='Előző évek korrekciój'!E26+'2017'!E25 -> 78180 | F26: ='Előző évek korrekciój'!F26+'2017'!F25 -> 44695 | G26: ='Előző évek korrekciój'!G26+'2017'!G25 -> 0 | H26: ='Előző évek korrekciój'!H26+'2017'!H25 -> 122875
A27: =A26+1 -> 22 | C27: Tisztítószerek | D27: ='Előző évek korrekciój'!D27+'2017'!D26 -> 0 | E27: ='Előző évek korrekciój'!E27+'2017'!E26 -> 83252 | F27: ='Előző évek korrekciój'!F27+'2017'!F26 -> 114598 | G27: ='Előző évek korrekciój'!G27+'2017'!G26 -> 0 | H27: ='Előző évek korrekciój'!H27+'2017'!H26 -> 197850
A28: =A27+1 -> 23 | C28: Egyéb előzőekbe be nem sorolható anyagok, szerszámok | D28: ='Előző évek korrekciój'!D28+'2017'!D27 -> 0 | E28: ='Előző évek korrekciój'!E28+'2017'!E27 -> 9970 | F28: ='Előző évek korrekciój'!F28+'2017'!F27 -> 247720 | G28: ='Előző évek korrekciój'!G28+'2017'!G27 -> 0 | H28: ='Előző évek korrekciój'!H28+'2017'!H27 -> 257690
A29: =A28+1 -> 24 | B29: 5 | C29: Anyagköltségek összesen | D29: ='Előző évek korrekciój'!D29+'2017'!D28 -> 0 | E29: ='Előző évek korrekciój'!E29+'2017'!E28 -> 13272272 | F29: ='Előző évek korrekciój'!F29+'2017'!F28 -> 13668742 | H29: ='Előző évek korrekciój'!H29+'2017'!H28 -> 27062684
A30: =A29+1 -> 25 | C30: Parkolás, autópálya, útdíjak | D30: ='Előző évek korrekciój'!D30+'2017'!D29 -> 10000 | E30: ='Előző évek korrekciój'!E30+'2017'!E29 -> 5694 | F30: ='Előző évek korrekciój'!F30+'2017'!F29 -> 77733 | G30: ='Előző évek korrekciój'!G30+'2017'!G29 -> 0 | H30: ='Előző évek korrekciój'!H30+'2017'!H29 -> 93427
A31: =A30+1 -> 26 | C31: Bérleti díjak | D31: ='Előző évek korrekciój'!D31+'2017'!D30 -> 0 | E31: ='Előző évek korrekciój'!E31+'2017'!E30 -> 155187 | F31: ='Előző évek korrekciój'!F31+'2017'!F30 -> 375264 | G31: ='Előző évek korrekciój'!G31+'2017'!G30 -> 0 | H31: ='Előző évek korrekciój'!H31+'2017'!H30 -> 530451
A32: =A31+1 -> 27 | C32: Épületen végzett karbantartás | D32: ='Előző évek korrekciój'!D32+'2017'!D31 -> 0 | E32: ='Előző évek korrekciój'!E32+'2017'!E31 -> 796360 | F32: ='Előző évek korrekciój'!F32+'2017'!F31 -> 94634 | G32: ='Előző évek korrekciój'!G32+'2017'!G31 -> 0 | H32: ='Előző évek korrekciój'!H32+'2017'!H31 -> 890994
A33: =A32+1 -> 28 | C33: Járműveken végzett karbantartás | D33: ='Előző évek korrekciój'!D33+'2017'!D32 -> 0 | E33: ='Előző évek korrekciój'!E33+'2017'!E32 -> 0 | F33: ='Előző évek korrekciój'!F33+'2017'!F32 -> 1327863 | G33: ='Előző évek korrekciój'!G33+'2017'!G32 -> 0 | H33: ='Előző évek korrekciój'!H33+'2017'!H32 -> 1327863
A34: =A33+1 -> 29 | C34: Egyéb eszközökön végzett karbantartás | D34: ='Előző évek korrekciój'!D34+'2017'!D33 -> 0 | E34: ='Előző évek korrekciój'!E34+'2017'!E33 -> 103769 | F34: ='Előző évek korrekciój'!F34+'2017'!F33 -> 468016 | G34: ='Előző évek korrekciój'!G34+'2017'!G33 -> 0 | H34: ='Előző évek korrekciój'!H34+'2017'!H33 -> 571785
A35: =A34+1 -> 30 | C35: Irodai eszközökön végzett karbantartás | D35: ='Előző évek korrekciój'!D35+'2017'!D34 -> 0 | E35: ='Előző évek korrekciój'!E35+'2017'!E34 -> 4320 | F35: ='Előző évek korrekciój'!F35+'2017'!F34 -> 11731 | G35: ='Előző évek korrekciój'!G35+'2017'!G34 -> 0 | H35: ='Előző évek korrekciój'!H35+'2017'!H34 -> 16051
A36: =A35+1 -> 31 | C36: Oktatás | D36: ='Előző évek korrekciój'!D36+'2017'!D35 -> 0 | E36: ='Előző évek korrekciój'!E36+'2017'!E35 -> 0 | F36: ='Előző évek korrekciój'!F36+'2017'!F35 -> 0 | G36: ='Előző évek korrekciój'!G36+'2017'!G35 -> 0 | H36: ='Előző évek korrekciój'!H36+'2017'!H35 -> 0
A37: =A36+1 -> 32 | C37: Üzleti célú utazási költségek | D37: ='Előző évek korrekciój'!D37+'2017'!D36 -> 0 | E37: ='Előző évek korrekciój'!E37+'2017'!E36 -> 0 | F37: ='Előző évek korrekciój'!F37+'2017'!F36 -> 0 | G37: ='Előző évek korrekciój'!G37+'2017'!G36 -> 0 | H37: ='Előző évek korrekciój'!H37+'2017'!H36 -> 0
A38: =A37+1 -> 33 | C38: Szakértői szolgáltatások (munka és tűzvédelem, kockázatelemzés, ügyvédi díj, könyvvezetés) | D38: ='Előző évek korrekciój'!D38+'2017'!D37 -> 0 | E38: ='Előző évek korrekciój'!E38+'2017'!E37 -> 1020060 | F38: ='Előző évek korrekciój'!F38+'2017'!F37 -> 1744980 | G38: ='Előző évek korrekciój'!G38+'2017'!G37 -> 0 | H38: ='Előző évek korrekciój'!H38+'2017'!H37 -> 2765040
A39: =A38+1 -> 34 | C39: Alvállalkozói költség (útépítés) | D39: ='Előző évek korrekciój'!D39+'2017'!D38 -> 0 | E39: ='Előző évek korrekciój'!E39+'2017'!E38 -> 0 | F39: ='Előző évek korrekciój'!F39+'2017'!F38 -> 0 | G39: ='Előző évek korrekciój'!G39+'2017'!G38 -> 0 | H39: ='Előző évek korrekciój'!H39+'2017'!H38 -> 0
A40: =A39+1 -> 35 | C40: Posta-, telefon-, internetköltség | D40: ='Előző évek korrekciój'!D40+'2017'!D39 -> 90056 | E40: ='Előző évek korrekciój'!E40+'2017'!E39 -> 37898 | F40: ='Előző évek korrekciój'!F40+'2017'!F39 -> 355481 | G40: ='Előző évek korrekciój'!G40+'2017'!G39 -> 0 | H40: ='Előző évek korrekciój'!H40+'2017'!H39 -> 483435
...
