Workbook

Sheet 2017
A1: Martfűi Városfejlesztési Nkft
A2: Számviteli törvény szerinti eredménylevezetés tevékenységek szerint 2017.év
D3: 1 | E3: 2 | F3: 3 | G3: 4
A4: Sor-szám | C4: A tétel megnevezése | D4: Hulladékgazdálkodás (nettó) | E4: Ingatlangazdálkodás (nettó) | F4: TESZ (bruttó) ÁFA levonási jog nincs | G4: Vállalkozási szerződésen alapuló TESZ | H4: 2017.év összesített eredmény
A5: 1 | C5: Árbevételek | D5: =2500000+1440000+120000+250000 -> 4310000 | E5: =35196584+27500 -> 35224084 | F5: 0 | G5: =1203874+738717 -> 1942591 | H5: =SUM(D5:G5) -> 41476675
A6: =A5+1 -> 2 | C6: Közvetített szolgáltatások árbevétele (92.) | H6: =SUM(D6:G6) -> 0
A7: =A6+1 -> 3 | B7: 1 | C7: Belföldi értékesítés árbevétele | D7: =SUM(D5:D6) -> 4310000 | E7: =SUM(E5:E6) -> 35224084 | F7: =SUM(F5:F6) -> 0 | G7: =SUM(G5:G6) -> 1942591 | H7: =SUM(H5:H6) -> 41476675
A8: =A7+1 -> 4 | B8: 2 | C8: Exportértékesítés nettó árbevétele | D8: 0 | E8: 0 | F8: 0 | G8: 0 | H8: =SUM(D8:G8) -> 0
A9: =A8+1 -> 5 | B9: I. | C9: Értékesítés nettó árbevétele (01+02) | D9: =SUM(D7:D8) -> 4310000 | E9: =SUM(E7:E8) -> 35224084 | F9: =SUM(F7:F8) -> 0 | G9: =SUM(G7:G8) -> 1942591 | H9: =SUM(H7:H8) -> 41476675
A10: =A9+1 -> 6 | B10: 3 | C10: Saját termelésű készletek állományváltozása ± | D10: 0 | E10: 0 | F10: 0 | G10: 0 | H10: =SUM(D10:G10) -> 0
A11: =A10+1 -> 7 | B11: 4 | C11: Saját előállítású eszközök aktivált értéke | D11: 0 | E11: 0 | F11: 0 | G11: 0 | H11: =SUM(D11:G11) -> 0
A12: =A11+1 -> 8 | B12: II. | C12: Aktivált saját teljesítmények értéke (±03+04) | D12: =SUM(D10:D11) -> 0 | E12: =SUM(E10:E11) -> 0 | F12: =SUM(F10:F11) -> 0 | G12: =SUM(G10:G11) -> 0 | H12: =SUM(H10:H11) -> 0
A13: =A12+1 -> 9 | C13: Önkormányzati támogatás | D13: 0 | E13: 0 | F13: 66895507 | G13: 0 | H13: =D13+E13+F13+G13 -> 66895507
A14: =A13+1 -> 10 | C14: Vagyonkezelésbe átvett vevőállományra történt befizetések miatti támogatás feloldása | D14: 0 | E14: =4816481+42632+938753 -> 5797866 | F14: 0 | G14: 0 | H14: =D14+E14+F14+G14 -> 5797866
A15: =A14+1 -> 11 | C15: Értékesített tárgyi eszközök | D15: 4680000 | E15: 0 | F15: 0 | G15: 0 | H15: =D15+E15+F15+G15 -> 4680000
A16: =A15+1 -> 12 | C16: Fejlesztési tartalék visszaírása | D16: =8158408 -> 8158408 | E16: 0 | F16: 0 | G16: 0 | H16: =D16+E16+F16+G16 -> 8158408
A17: =A16+1 -> 13 | C17: Egyéb bevételek | D17: =-269523+6200 -> -263323 | E17: =8022 -> 8022 | F17: =70725+5000+162982+342 -> 239049 | G17: 0 | H17: =D17+E17+F17+G17 -> -16252
A18: =A17+1 -> 14 | B18: III. | C18: Egyéb bevételek összesen | D18: =SUM(D13:D17) -> 12575085 | E18: =SUM(E13:E17) -> 5805888 | F18: =SUM(F13:F17) -> 67134556 | G18: =SUM(G13:G17) -> 0 | H18: =SUM(H13:H17) -> 85515529
A19: =A18+1 -> 15 | D19: 0 | E19: 0 | F19: 0 | G19: 0 | H19: =D19+E19+F19+G19 -> 0
A20: =A19+1 -> 16 | C20: Csomagolóanyagok | D20: 0 | E20: 0 | F20: 40488 | G20: 0 | H20: =D20+E20+F20+G20 -> 40488
A21: =A20+1 -> 17 | C21: Üzemanyagok, kenőanyagok | D21: 0 | E21: 0 | F21: =987+3024524+1958038+349696 -> 5333245 | G21: 0 | H21: =D21+E21+F21+G21 -> 5333245
A22: =A21+1 -> 18 | C22: Közüzemi díjak (víz-, villany, gáz) | D22: 0 | E22: =6591704+3071091+2160207 -> 11823002 | F22: =1367182+827781+114802 -> 2309765 | G22: 0 | H22: =D22+E22+F22+G22 -> 14132767
A23: =A22+1 -> 19 | C23: Karbantartási anyagok | D23: 0 | E23: =923008+85028+256750 -> 1264786 | F23: =1019866+866391+980642+645914+932998+209896 -> 4655707 | G23: 121670 | H23: =D23+E23+F23+G23 -> 6042163
A24: =A23+1 -> 20 | C24: Munkaruha, védőruha, védőfelszerelés | D24: 0 | E24: =3304+9778 -> 13082 | F24: =677854+244670 -> 922524 | G24: 0 | H24: =D24+E24+F24+G24 -> 935606
A25: =A24+1 -> 21 | C25: Nyomtatvány, irodaszer | D25: 0 | E25: =57490+20690 -> 78180 | F25: 44695 | G25: 0 | H25: =D25+E25+F25+G25 -> 122875
A26: =A25+1 -> 22 | C26: Tisztítószerek | D26: 0 | E26: 83252 | F26: 114598 | G26: 0 | H26: =D26+E26+F26+G26 -> 197850
A27: =A26+1 -> 23 | C27: Egyéb előzőekbe be nem sorolható anyagok, szerszámok | D27: 0 | E27: =7254+2716 -> 9970 | F27: =229726+17994 -> 247720 | G27: =F28-13668742 -> 0 | H27: =D27+E27+F27+G27 -> 257690
A28: =A27+1 -> 24 | B28: 5 | C28: Anyagköltségek összesen | D28: =SUM(D19:D27) -> 0 | E28: =SUM(E19:E27) -> 13272272 | F28: =SUM(F19:F27) -> 13668742 | G28: =SUM(G19:G27) -> 121670 | H28: =SUM(D28:G28) -> 27062684
A29: =A28+1 -> 25 | C29: Parkolás, autópálya, útdíjak | D29: 10000 | E29: =5694 -> 5694 | F29: =72826+4907 -> 77733 | G29: 0 | H29: =SUM(D29:G29) -> 93427
A30: =A29+1 -> 26 | C30: Bérleti díjak | D30: 0 | E30: =96600+58587 -> 155187 | F30: =294032+81232 -> 375264 | G30: 0 | H30: =SUM(D30:G30) -> 530451
A31: =A30+1 -> 27 | C31: Épületen végzett karbantartás | D31: 0 | E31: 796360 | F31: 94634 | G31: 0 | H31: =SUM(D31:G31) -> 890994
A32: =A31+1 -> 28 | C32: Járműveken végzett karbantartás | D32: 0 | E32: 0 | F32: 1327863 | G32: 0 | H32: =SUM(D32:G32) -> 1327863
A33: =A32+1 -> 29 | C33: Egyéb eszközökön végzett karbantartás | D33: 0 | E33: 103769 | F33: 468016 | G33: 0 | H33: =SUM(D33:G33) -> 571785
A34: =A33+1 -> 30 | C34: Irodai eszközökön végzett karbantartás | D34: 0 | E34: 4320 | F34: 11731 | G34: 0 | H34: =SUM(D34:G34) -> 16051
A35: =A34+1 -> 31 | C35: Oktatás | D35: 0 | E35: 0 | F35: 0 | G35: 0 | H35: =SUM(D35:G35) -> 0
A36: =A35+1 -> 32 | C36: Üzleti célú utazási költségek | D36: 0 | E36: 0 | F36: 0 | G36: 0 | H36: =SUM(D36:G36) -> 0
A37: =A36+1 -> 33 | C37: Szakértői szolgáltatások (munka és tűzvédelem, kockázatelemzés, ügyvédi díj, könyvvezetés) | D37: 0 | E37: =864000+101970+54090 -> 1020060 | F37: =1341120+179070+224790 -> 1744980 | G37: 0 | H37: =SUM(D37:G37) -> 2765040
A38: =A37+1 -> 34 | C38: Alvállalkozói költség (útépítés) | D38: 0 | E38: 0 | F38: 0 | H38: =SUM(D38:G38) -> 0
A39: =A38+1 -> 35 | C39: Posta-, telefon-, internetköltség | D39: =63595+26461 -> 90056 | E39: =22595+15303 -> 37898 | F39: =15690+339791 -> 355481 | G39: 0 | H39: =SUM(D39:G39) -> 483435
A40: =A39+1 -> 36 | C40: Internet (kábeltv.- internet) | D40: 0 | E40: =131158+3820 -> 134978 | F40: 0 | G40: 0 | H40: =SUM(D40:G40) -> 134978
A41: =A40+1 -> 37 | C41: Rágcsálóirtás | D41: 0 | E41: 222000 | F41: 76200 | G41: 0 | H41: =SUM(D41:G41) -> 298200
A42: =A41+1 -> 38 | C42: Távhő szolgáltatás | D42: 0 | E42: 490471 | F42: 0 | G42: 0 | H42: =SUM(D42:G42) -> 490471
A43: =A42+1 -> 39 | C43: Különféle egyéb igénybe vett szolgáltatások | D43: 45000 | E43: =105513 -> 105513 | F43: 0 | G43: 0 | H43: =SUM(D43:G43) -> 150513
A44: =A43+1 -> 40 | C44: Hulladékszállítás | D44: 10701 | E44: 732776 | F44: 3175000 | H44: =SUM(D44:G44) -> 3918477
A45: =A44+1 -> 41 | H45: =SUM(D45:G45) -> 0
A46: =A45+1 -> 42 | B46: 6 | C46: Igénybe vett szolgáltatások értéke | D46: =SUM(D29:D45) -> 155757 | E46: =SUM(E29:E45) -> 3809026 | F46: =SUM(F29:F45) -> 7706902 | G46: =SUM(G29:G45) -> 0 | H46: =SUM(H29:H44) -> 11671685
A47: =A46+1 -> 43 | C47: Bankköltség | D47: 142459 | E47: 452455 | F47: 385111 | G47: 0 | H47: =SUM(D47:G47) -> 980025
A48: =A47+1 -> 44 | C48: Biztosítási díjak | D48: 0 | E48: 0 | F48: 458509 | G48: 0 | H48: =SUM(D48:G48) -> 458509
A49: =A48+1 -> 45 | C49: Hatósági díjak | D49: 40000 | E49: 10000 | F49: 4800 | G49: 0 | H49: =SUM(D49:G49) -> 54800
A50: =A49+1 -> 46 | B50: 7 | C50: Egyéb szolgáltatások értéke | D50: =SUM(D47:D49) -> 182459 | E50: =SUM(E47:E49) -> 462455 | F50: =SUM(F47:F49) -> 848420 | G50: =SUM(G47:G49) -> 0 | H50: =SUM(H47:H49) -> 1493334
A51: =A50+1 -> 47 | B51: 8 | C51: Eladott áruk beszerzési értéke | D51: 0 | E51: 0 | F51: 548141 | G51: 0 | H51: =SUM(D51:G51) -> 548141
A52: =A51+1 -> 48 | B52: 9 | C52: Eladott (közvetített) szolgáltatások értéke | D52: 0 | E52: 0 | F52: 0 | G52: 51204 | H52: =SUM(D52:G52) -> 51204
A53: =A52+1 -> 49 | B53: IV. | C53: Anyagjellegű ráfordítások (18+36+40+41+42) | D53: =D28+D46+D50+D51+D52 -> 338216 | E53: =E28+E46+E50+E51+E52 -> 17543753 | F53: =F28+F46+F50+F51+F52 -> 22772205 | G53: =G28+G46+G50+G51+G52 -> 172874 | H53: =H28+H46+H50+H51+H52 -> 40827048
A54: =A53+1 -> 50 | C54: Munkabérek | D54: 2398011 | E54: 5358662 | F54: 35033315 | G54: 0 | H54: =SUM(D54:G54) -> 42789988
A55: =A54+1 -> 51 | C55: Megbízási díj | D55: 0 | E55: 0 | F55: 0 | G55: 0 | H55: =SUM(D55:G55) -> 0
A56: =A55+1 -> 52 | C56: Tiszteletdíjak | D56: 0 | E56: 0 | F56: 0 | G56: 0 | H56: =SUM(D56:G56) -> 0
A57: =A56+1 -> 53 | B57: 10 | C57: Bérköltség összesen (43+44+45) | D57: =SUM(D54:D56) -> 2398011 | E57: =SUM(E54:E56) -> 5358662 | F57: =SUM(F54:F56) -> 35033315 | G57: =SUM(G54:G56) -> 0 | H57: =SUM(H54:H56) -> 42789988
A58: =A57+1 -> 54 | C58: Betegszabadság | D58: 0 | E58: 0 | F58: 386238 | G58: 0 | H58: =SUM(D58:G58) -> 386238
A59: =A58+1 -> 55 | C59: Munkába járás térítése | D59: 0 | E59: 0 | F59: 0 | G59: 0 | H59: =SUM(D59:G59) -> 0
A60: =A59+1 -> 56 | C60: Kiküldetés, Napidíjak | D60: 0 | E60: =478809 -> 478809 | F60: =1212897+124495 -> 1337392 | G60: 0 | H60: =SUM(D60:G60) -> 1816201
A61: =A60+1 -> 57 | C61: Étkezési hozzájárulás | D61: 141000 | E61: =325600 -> 325600 | F61: 2220400 | G61: 0 | H61: =SUM(D61:G61) -> 2687000
A62: =A61+1 -> 58 | C62: Foglalkozás eü. szolgálat | E62: 7000 | F62: 95200 | G62: 0 | H62: =SUM(D62:G62) -> 102200
A63: =A62+1 -> 59 | C63: Munkáltató által fizetett táppénz-hozzájárulás | D63: 0 | E63: 0 | F63: 7802 | G63: 0 | H63: =SUM(D63:G63) -> 7802
A64: =A63+1 -> 60 | C64: Egyéb kifizetés (alkalmi foglalkoztatás) | E64: =66162+23456 -> 89618 | F64: 0 | H64: =SUM(D64:G64) -> 89618
A65: =A64+1 -> 61 | B65: 11 | C65: Személyi jellegű egyéb kifizetések összesen | D65: =SUM(D58:D64) -> 141000 | E65: =SUM(E58:E64) -> 901027 | F65: =SUM(F58:F64) -> 4047032 | G65: =SUM(G58:G64) -> 0 | H65: =SUM(H58:H64) -> 5089059
A66: =A65+1 -> 62 | B66: 12 | C66: Bérjárulékok | D66: =329563+27546+24957 -> 382066 | E66: =1066153+65698+57622+8000 -> 1197473 | F66: =6731096+431451+360+393020 -> 7555927 | G66: 0 | H66: =SUM(D66:G66) -> 9135466
A67: =A66+1 -> 63 | B67: V. | C67: Személyi jellegű ráfordítások (46+54+55) | D67: =SUM(D57+D65+D66) -> 2921077 | E67: =SUM(E57+E65+E66) -> 7457162 | F67: =SUM(F57+F65+F66) -> 46636274 | G67: =SUM(G57+G65+G66) -> 0 | H67: =SUM(H57+H65+H66) -> 57014513
A68: =A67+1 -> 64 | B68: VI. | C68: Értékcsökkenési leírás | D68: 4592236 | E68: =15280927-'Előző évek korrekciój'!E69 -> 3550019 | F68: 672268 | G68: 0 | H68: =SUM(D68:G68) -> 8814523
A69: =A68+1 -> 65 | C69: Értékesített tárgyi eszközök nyilv.szer.értéke | D69: 4118652 | E69: 0 | F69: 0 | G69: 0 | H69: =SUM(D69:G69) -> 4118652
A70: =A69+1 -> 66 | C70: Egyéb nem részletezett | D70: =99131+1457 -> 100588 | E70: =7328+9725 -> 17053 | F70: 45 | G70: 15 | H70: =SUM(D70:G70) -> 117701
A71: =A70+1 -> 67 | C71: Értékvesztések | D71: 1107469 | E71: 4847600 | F71: 0 | G71: 0 | H71: =SUM(D71:G71) -> 5955069
A72: =A71+1 -> 68 | C72: Behajthatatlan köv. leírt összeg | D72: 0 | E72: 485517 | F72: 0 | G72: 0 | H72: =SUM(D72:G72) -> 485517
A73: =A72+1 -> 69 | C73: Helyi iparűzési adó | D73: 0 | E73: 275700 | F73: 0 | G73: 0 | H73: =SUM(D73:G73) -> 275700
A74: =A73+1 -> 70 | C74: Céltartalék | D74: 4450035 | E74: 0 | F74: 0 | G74: 0 | H74: =SUM(D74:G74) -> 4450035
A75: =A74+1 -> 71 | B75: VII. | C75: Egyéb ráfordítások | D75: =D69+D70+D71+D74 -> 9776744 | E75: =E69+E70+E71+E72+E73 -> 5625870 | F75: =F71+F70+F69 -> 45 | G75: =SUM(G69:G71) -> 15 | H75: =SUM(H69:H74) -> 15402674
A76: =A75+1 -> 72 | C76: ebből: értékvesztés | H76: =SUM(D76:G76) -> 0
A77: =A76+1 -> 73 | B77: A. | C77: ÜZEMI (ÜZLETI) TEVÉKENYSÉG EREDMÉNYE (I±II+III-IV-V-VI-VII) | D77: =D9+D12+D18-D53-D67-D68-D75 -> -743188 | E77: =E9-E12+E18-E53-E67-E68-E75 -> 6853168 | F77: =F9+F12+F18-F53-F67-F68-F75 -> -2946236 | G77: =G9+G12+G18-G53-G67-G68-G75 -> 1769702 | H77: =H9-H12+H18-H53-H67-H68-H75 -> 4933446
A78: =A77+1 -> 74 | B78: 13 | C78: Kapott (járó) osztalék és részesedés | H78: =SUM(D78:G78) -> 0
A79: =A78+1 -> 75 | C79: ebből: kapcsolt vállalkozástól kapott | H79: =SUM(D79:G79) -> 0
A80: =A79+1 -> 76 | B80: 14 | C80: Részesedések értékesítésének árfolyamnyeresége | H80: =SUM(D80:G80) -> 0
A81: =A80+1 -> 77 | C81: ebből: kapcsolt vállalkozástól kapott | H81: =SUM(D81:G81) -> 0
A82: =A81+1 -> 78 | B82: 15 | C82: Befektetett pénzügyi eszközök kamatai, árfolyamny. | H82: =SUM(D82:G82) -> 0
A83: =A82+1 -> 79 | C83: ebből: kapcsolt vállalkozástól kapott | H83: =SUM(D83:G83) -> 0
A84: =A83+1 -> 80 | B84: 16 | C84: Egyéb kapott kamatok,kamatjellegű bevételek | D84: 110 | E84: 269 | F84: 66 | H84: =SUM(D84:G84) -> 445
A85: =A84+1 -> 81 | C85: ebből: kapcsolt vállalkozástól kapott | H85: =SUM(D85:G85) -> 0
A86: =A85+1 -> 82 | B86: 17 | C86: Pénzügyi műveletek egyéb bevételei | H86: =SUM(D86:G86) -> 0
A87: =A86+1 -> 83 | B87: VIII. | C87: Pénzügyi műv. bevételei (13+14+15+16+17) | D87: =+D78+D80+D82+D84+D86 -> 110 | E87: =+E78+E80+E82+E84+E86 -> 269 | F87: =+F78+F80+F82+F84+F86 -> 66 | G87: =+G78+G80+G82+G84+G86 -> 0 | H87: =+H78+H80+H82+H84+H86 -> 445
A88: =A87+1 -> 84 | B88: 19 | C88: Befektetett pénzügyi eszközök árfolyamvesztesége | H88: =SUM(D88:G88) -> 0
A89: =A88+1 -> 85 | C89: ebből: kapcsolt vállalkozásnak adott | H89: =SUM(D89:G89) -> 0
A90: =A89+1 -> 86 | B90: 20 | C90: Fizetendő kamatok és kamatjellegű ráfordítások | H90: =SUM(D90:G90) -> 0
A91: =A90+1 -> 87 | C91: ebből: kapcsolt vállalkozásnak adott | H91: =SUM(D91:G91) -> 0
A92: =A91+1 -> 88 | B92: 21 | C92: Részesedések, értékp., bankbetétek értékvesztése | H92: =SUM(D92:G92) -> 0
A93: =A92+1 -> 89 | B93: 22 | C93: Pénzügyi műveletek egyéb ráfordításai | H93: =SUM(D93:G93) -> 0
A94: =A93+1 -> 90 | B94: IX. | C94: Pénzügyi műveletek ráfordításai (18+19±20+21) | D94: =+D88+D90+D92+D93 -> 0 | E94: =+E88+E90+E92+E93 -> 0 | F94: =+F88+F90+F92+F93 -> 0 | G94: =+G88+G90+G92+G93 -> 0 | H94: =+H88+H90+H92+H93 -> 0
A95: =A94+1 -> 91 | B95: B. | C95: PÉNZÜGYI MŰVELETEK EREDMÉNYE | D95: =+D87-D94 -> 110 | E95: =+E87-E94 -> 269 | F95: =+F87-F94 -> 66 | G95: =+G87-G94 -> 0 | H95: =+H87-H94 -> 445
A96: =A95+1 -> 92 | B96: C. | C96: ADÓZÁS ELŐTTI EREDMÉNY (±A±B) | D96: =+D77+D95 -> -743078 | E96: =+E77+E95 -> 6853437 | F96: =+F77+F95 -> -2946170 | G96: =+G77+G95 -> 1769702 | H96: =+H77+H95 -> 4933891
A97: =A96+1 -> 93 | B97: X | C97: Adófizetési kötelezettség | E97: 342000 | H97: =E97 -> 342000
A98: =A97+1 -> 94 | B98: D | C98: ADÓZOTT EREDMÉNY (±E-XII) | D98: =D96-D97 -> -743078 | E98: =E96-E97 -> 6511437 | F98: =F96-F97 -> -2946170 | G98: =G96-G97 -> 1769702 | H98: =H96-H97 -> 4591891
A99: =A98+1 -> 95 | C99: Tájékoztató adat: Állományban lévő létszám (fő) | H99: 20 fő
B101: Szolnok, 2018.04.06.

Sheet Előző évek korrekciój
A1: Martfűi Városfejlesztési Nkft
A2: Előző évek korrekciója eredménylevezetés tevékenységek szerint
D3: 2017.év
D4: 1 | E4: 2 | F4: 3 | G4: 4
A5: Sor-szám | C5: A tétel megnevezése | D5: Hulladékgazdálkodás (nettó) | E5: Ingatlangazdálkodás (nettó) | F5: TESZ (bruttó) ÁFA levonási jog nincs | G5: Vállalkozási szerződésen alapuló TESZ | H5: 2016.év összesített eredmény
A6: 1 | C6: Árbevételek | E6: -27500 | H6: =SUM(D6:G6) -> -27500
A7: =A6+1 -> 2 | C7: Közvetített szolgáltatások árbevétele (92.) | H7: =SUM(D7:G7) -> 0
A8: =A7+1 -> 3 | B8: 1 | C8: Belföldi értékesítés árbevétele | D8: =SUM(D6:D7) -> 0 | E8: =SUM(E6:E7) -> -27500 | F8: =SUM(F6:F7) -> 0 | G8: =SUM(G6:G7) -> 0 | H8: =SUM(H6:H7) -> -27500
A9: =A8+1 -> 4 | B9: 2 | C9: Exportértékesítés nettó árbevétele | D9: 0 | E9: 0 | F9: 0 | G9: 0 | H9: =SUM(D9:G9) -> 0
A10: =A9+1 -> 5 | B10: I. | C10: Értékesítés nettó árbevétele (01+02) | D10: =SUM(D8:D9) -> 0 | E10: =SUM(E8:E9) -> -27500 | F10: =SUM(F8:F9) -> 0 | G10: =SUM(G8:G9) -> 0 | H10: =SUM(H8:H9) -> -27500
A11: =A10+1 -> 6 | B11: 3 | C11: Saját termelésű készletek állományváltozása ± | D11: 0 | E11: 0 | F11: 0 | G11: 0 | H11: =SUM(D11:G11) -> 0
A12: =A11+1 -> 7 | B12: 4 | C12: Saját előállítású eszközök aktivált értéke | D12: 0 | E12: 0 | F12: 0 | G12: 0 | H12: =SUM(D12:G12) -> 0
A13: =A12+1 -> 8 | B13: II. | C13: Aktivált saját teljesítmények értéke (±03+04) | D13: =SUM(D11:D12) -> 0 | E13: =SUM(E11:E12) -> 0 | F13: =SUM(F11:F12) -> 0 | G13: =SUM(G11:G12) -> 0 | H13: =SUM(H11:H12) -> 0
A14: =A13+1 -> 9 | C14: Önkormányzati támogatás | D14: 0 | E14: 0 | G14: 0 | H14: =D14+E14+F14+G14 -> 0
A15: =A14+1 -> 10 | C15: Vagyonkezelésbe átvett vevőállományra történt befizetések miatti támogatás feloldása | D15: 0 | E15: 0 | F15: 0 | G15: 0 | H15: =D15+E15+F15+G15 -> 0
A16: =A15+1 -> 11 | C16: Értékesített tárgyi eszközök | D16: 0 | E16: 0 | F16: 0 | G16: 0 | H16: =D16+E16+F16+G16 -> 0
A17: =A16+1 -> 12 | C17: Fejlesztési tartalék visszaírása | D17: 361479 | E17: 0 | F17: 0 | G17: 0 | H17: =D17+E17+F17+G17 -> 361479
A18: =A17+1 -> 13 | C18: Egyéb bevételek | D18: 0 | F18: 0 | G18: 0 | H18: =D18+E18+F18+G18 -> 0
A19: =A18+1 -> 14 | B19: III. | C19: Egyéb bevételek összesen | D19: =SUM(D14:D18) -> 361479 | E19: =SUM(E14:E18) -> 0 | F19: =SUM(F14:F18) -> 0 | G19: =SUM(G14:G18) -> 0 | H19: =SUM(H14:H18) -> 361479
A20: =A19+1 -> 15 | D20: 0 | E20: 0 | F20: 0 | G20: 0 | H20: =D20+E20+F20+G20 -> 0
A21: =A20+1 -> 16 | C21: Csomagolóanyagok | D21: 0 | E21: 0 | F21: 0 | G21: 0 | H21: =D21+E21+F21+G21 -> 0
A22: =A21+1 -> 17 | C22: Üzemanyagok, kenőanyagok | D22: 0 | E22: 0 | F22: 0 | G22: 0 | H22: =D22+E22+F22+G22 -> 0
A23: =A22+1 -> 18 | C23: Közüzemi díjak (víz-, villany, gáz) | D23: 0 | E23: 0 | F23: 0 | G23: 0 | H23: =D23+E23+F23+G23 -> 0
A24: =A23+1 -> 19 | C24: Karbantartási anyagok | D24: 0 | E24: 0 | F24: 0 | G24: 0 | H24: =D24+E24+F24+G24 -> 0
A25: =A24+1 -> 20 | C25: Munkaruha, védőruha, védőfelszerelés | D25: 0 | E25: 0 | F25: 0 | G25: 0 | H25: =D25+E25+F25+G25 -> 0
A26: =A25+1 -> 21 | C26: Nyomtatvány, irodaszer | D26: 0 | E26: 0 | F26: 0 | G26: 0 | H26: =D26+E26+F26+G26 -> 0
A27: =A26+1 -> 22 | C27: Tisztítószerek | D27: 0 | E27: 0 | F27: 0 | G27: 0 | H27: =D27+E27+F27+G27 -> 0
A28: =A27+1 -> 23 | C28: Egyéb előzőekbe be nem sorolható anyagok, szerszámok | D28: 0 | E28: 0 | F28: 0 | G28: 0 | H28: =D28+E28+F28+G28 -> 0
A29: =A28+1 -> 24 | B29: 5 | C29: Anyagköltségek összesen | D29: =SUM(D20:D28) -> 0 | E29: =SUM(E20:E28) -> 0 | F29: =SUM(F20:F28) -> 0 | G29: =SUM(G20:G28) -> 0 | H29: =SUM(D29:G29) -> 0
A30: =A29+1 -> 25 | C30: Parkolás, autópálya, útdíjak | D30: 0 | E30: 0 | F30: 0 | G30: 0 | H30: =SUM(D30:G30) -> 0
A31: =A30+1 -> 26 | C31: Bérleti díjak | D31: 0 | E31: 0 | F31: 0 | G31: 0 | H31: =SUM(D31:G31) -> 0
A32: =A31+1 -> 27 | C32: Épületen végzett karbantartás | D32: 0 | E32: 0 | F32: 0 | G32: 0 | H32: =SUM(D32:G32) -> 0
A33: =A32+1 -> 28 | C33: Járműveken végzett karbantartás | D33: 0 | E33: 0 | F33: 0 | G33: 0 | H33: =SUM(D33:G33) -> 0
A34: =A33+1 -> 29 | C34: Egyéb eszközökön végzett karbantartás | D34: 0 | E34: 0 | F34: 0 | G34: 0 | H34: =SUM(D34:G34) -> 0
A35: =A34+1 -> 30 | C35: Irodai eszközökön végzett karbantartás | D35: 0 | E35: 0 | F35: 0 | G35: 0 | H35: =SUM(D35:G35) -> 0
A36: =A35+1 -> 31 | C36: Oktatás | D36: 0 | E36: 0 | F36: 0 | G36: 0 | H36: =SUM(D36:G36) -> 0
A37: =A36+1 -> 32 | C37: Üzleti célú utazási költségek | D37: 0 | E37: 0 | F37: 0 | G37: 0 | H37: =SUM(D37:G37) -> 0
A38: =A37+1 -> 33 | C38: Szakértői szolgáltatások (munka és tűzvédelem, kockázatelemzés, ügyvédi díj, könyvvezetés) | D38: 0 | E38: 0 | F38: 0 | G38: 0 | H38: =SUM(D38:G38) -> 0
A39: =A38+1 -> 34 | C39: Alvállalkozói költség (útépítés) | D39: 0 | E39: 0 | F39: 0 | H39: =SUM(D39:G39) -> 0
A40: =A39+1 -> 35 | C40: Posta-, telefon-, internetköltség | D40: 0 | E40: 0 | F40: 0 | G40: 0 | H40: =SUM(D40:G40) -> 0
A41: =A40+1 -> 36 | C41: Internet (kábeltv.- internet) | D41: 0 | E41: 0 | F41: 0 | G41: 0 | H41: =SUM(D41:G41) -> 0
A42: =A41+1 -> 37 | C42: Rágcsálóirtás | D42: 0 | E42: 0 | F42: 0 | G42: 0 | H42: =SUM(D42:G42) -> 0
A43: =A42+1 -> 38 | C43: Távhő szolgáltatás | D43: 0 | E43: 0 | F43: 0 | G43: 0 | H43: =SUM(D43:G43) -> 0
A44: =A43+1 -> 39 | C44: Különféle egyéb igénybe vett szolgáltatások | D44: 0 | E44: 0 | F44: 0 | G44: 0 | H44: =SUM(D44:G44) -> 0
A45: =A44+1 -> 40 | C45: Hulladékszállítás | D45: 0 | E45: 0 | F45: 0 | H45: =SUM(D45:G45) -> 0
A46: =A45+1 -> 41 | H46: =SUM(D46:G46) -> 0
A47: =A46+1 -> 42 | B47: 6 | C47: Igénybe vett szolgáltatások értéke | D47: =SUM(D30:D46) -> 0 | E47: =SUM(E30:E46) -> 0 | F47: =SUM(F30:F46) -> 0 | G47: =SUM(G30:G46) -> 0 | H47: =SUM(H30:H45) -> 0 | I47: =3809026-E47 -> 3809026
A48: =A47+1 -> 43 | C48: Bankköltség | D48: 0 | E48: 0 | F48: 0 | G48: 0 | H48: =SUM(D48:G48) -> 0
A49: =A48+1 -> 44 | C49: Biztosítási díjak | D49: 0 | E49: 0 | F49: 0 | G49: 0 | H49: =SUM(D49:G49) -> 0
A50: =A49+1 -> 45 | C50: Hatósági díjak | D50: 0 | E50: 0 | F50: 0 | G50: 0 | H50: =SUM(D50:G50) -> 0
A51: =A50+1 -> 46 | B51: 7 | C51: Egyéb szolgáltatások értéke | D51: =SUM(D48:D50) -> 0 | E51: =SUM(E48:E50) -> 0 | F51: =SUM(F48:F50) -> 0 | G51: =SUM(G48:G50) -> 0 | H51: =SUM(H48:H50) -> 0
A52: =A51+1 -> 47 | B52: 8 | C52: Eladott áruk beszerzési értéke | D52: 0 | E52: 0 | F52: 0 | G52: 0 | H52: =SUM(D52:G52) -> 0
A53: =A52+1 -> 48 | B53: 9 | C53: Eladott (közvetített) szolgáltatások értéke | D53: 6818783 | E53: 0 | F53: 0 | H53: =SUM(D53:G53) -> 6818783
A54: =A53+1 -> 49 | B54: IV. | C54: Anyagjellegű ráfordítások (18+36+40+41+42) | D54: =D29+D47+D51+D52+D53 -> 6818783 | E54: =E29+E47+E51+E52+E53 -> 0 | F54: =F29+F47+F51+F52+F53 -> 0 | G54: =G29+G47+G51+G52+G53 -> 0 | H54: =H29+H47+H51+H52+H53 -> 6818783
A55: =A54+1 -> 50 | C55: Munkabérek | D55: 0 | E55: 0 | F55: 0 | G55: 0 | H55: =SUM(D55:G55) -> 0
A56: =A55+1 -> 51 | C56: Megbízási díj | D56: 0 | E56: 0 | F56: 0 | G56: 0 | H56: =SUM(D56:G56) -> 0
A57: =A56+1 -> 52 | C57: Tiszteletdíjak | D57: 0 | E57: 0 | F57: 0 | G57: 0 | H57: =SUM(D57:G57) -> 0
A58: =A57+1 -> 53 | B58: 10 | C58: Bérköltség összesen (43+44+45) | D58: =SUM(D55:D57) -> 0 | E58: =SUM(E55:E57) -> 0 | F58: =SUM(F55:F57) -> 0 | G58: =SUM(G55:G57) -> 0 | H58: =SUM(H55:H57) -> 0
A59: =A58+1 -> 54 | C59: Betegszabadság | D59: 0 | E59: 0 | G59: 0 | H59: =SUM(D59:G59) -> 0
A60: =A59+1 -> 55 | C60: Munkába járás térítése | D60: 0 | E60: 0 | F60: 0 | G60: 0 | H60: =SUM(D60:G60) -> 0
A61: =A60+1 -> 56 | C61: Kiküldetés, Napidíjak | D61: 0 | E61: 51870 | G61: 0 | H61: =SUM(D61:G61) -> 51870
A62: =A61+1 -> 57 | C62: Étkezési hozzájárulás | E62: -144000 | G62: 0 | H62: =SUM(D62:G62) -> -144000
A63: =A62+1 -> 58 | C63: Foglalkozás eü. szolgálat | G63: 0 | H63: =SUM(D63:G63) -> 0
A64: =A63+1 -> 59 | C64: Munkáltató által fizetett táppénz-hozzájárulás | D64: 0 | E64: 0 | G64: 0 | H64: =SUM(D64:G64) -> 0
A65: =A64+1 -> 60 | C65: Egyéb kifizetés (alkalmi foglalkoztatás) | F65: 0 | G65: 0 | H65: =SUM(D65:G65) -> 0
A66: =A65+1 -> 61 | B66: 11 | C66: Személyi jellegű egyéb kifizetések összesen | D66: =SUM(D59:D65) -> 0 | E66: =SUM(E59:E65) -> -92130 | F66: =SUM(F59:F65) -> 0 | G66: =SUM(G59:G65) -> 0 | H66: =SUM(H59:H65) -> -92130
A67: =A66+1 -> 62 | B67: 12 | C67: Bérjárulékok | D67: 0 | E67: 0 | F67: 0 | G67: 0 | H67: =SUM(D67:G67) -> 0
A68: =A67+1 -> 63 | B68: V. | C68: Személyi jellegű ráfordítások (46+54+55) | D68: 0 | E68: =SUM(E58+E66+E67) -> -92130 | F68: =SUM(F58+F66+F67) -> 0 | G68: =SUM(G58+G66+G67) -> 0 | H68: =SUM(H58+H66+H67) -> -92130
A69: =A68+1 -> 64 | B69: VI. | C69: Értékcsökkenési leírás | D69: 0 | E69: =2932727*4 -> 11730908 | F69: 0 | H69: =SUM(D69:G69) -> 11730908 | I69: =5881798-H69 -> -5849110
A70: =A69+1 -> 65 | C70: Értékesített tárgyi eszközök nyilv.szer.értéke | D70: 0 | E70: 0 | F70: 0 | G70: 0 | H70: =SUM(D70:G70) -> 0
A71: =A70+1 -> 66 | C71: Egyéb nem részletezett | D71: 0 | F71: 0 | G71: 0 | H71: =SUM(D71:G71) -> 0
A72: =A71+1 -> 67 | C72: Értékvesztések | D72: 0 | F72: 0 | G72: 0 | H72: =SUM(D72:G72) -> 0
A73: =A72+1 -> 68 | C73: Behajthatatlan köv. leírt összeg | D73: 0 | F73: 0 | G73: 0 | H73: =SUM(D73:G73) -> 0
A74: =A73+1 -> 69 | C74: Helyi iparűzési adó | D74: 0 | E74: 253400 | F74: 0 | G74: 0 | H74: =SUM(D74:G74) -> 253400
A75: =A74+1 -> 70 | C75: Céltartalék | D75: 0 | E75: 0 | F75: 0 | G75: 0 | H75: =SUM(D75:G75) -> 0
A76: =A75+1 -> 71 | B76: VII. | C76: Egyéb ráfordítások | D76: =D70+D71+D72+D75 -> 0 | E76: =E70+E71+E72+E73+E74 -> 253400 | F76: =F72+F71+F70 -> 0 | G76: =SUM(G70:G72) -> 0 | H76: =SUM(H70:H75) -> 253400
A77: =A76+1 -> 72 | C77: ebből: értékvesztés | H77: =SUM(D77:G77) -> 0
A78: =A77+1 -> 73 | B78: A. | C78: ÜZEMI (ÜZLETI) TEVÉKENYSÉG EREDMÉNYE (I±II+III-IV-V-VI-VII) | D78: =D10+D13+D19-D54-D68-D69-D76 -> -6457304 | E78: =E10-E13+E19-E54-E68-E69-E76 -> -11919678 | F78: =F10+F13+F19-F54-F68-F69-F76 -> 0 | G78: =G10+G13+G19-G54-G68-G69-G76 -> 0 | H78: =H10-H13+H19-H54-H68-H69-H76 -> -18376982
A79: =A78+1 -> 74 | B79: 13 | C79: Kapott (járó) osztalék és részesedés | H79: =SUM(D79:G79) -> 0
A80: =A79+1 -> 75 | C80: ebből: kapcsolt vállalkozástól kapott | H80: =SUM(D80:G80) -> 0
A81: =A80+1 -> 76 | B81: 14 | C81: Részesedések értékesítésének árfolyamnyeresége | H81: =SUM(D81:G81) -> 0
A82: =A81+1 -> 77 | C82: ebből: kapcsolt vállalkozástól kapott | H82: =SUM(D82:G82) -> 0
A83: =A82+1 -> 78 | B83: 15 | C83: Befektetett pénzügyi eszközök kamatai, árfolyamny. | H83: =SUM(D83:G83) -> 0
A84: =A83+1 -> 79 | C84: ebből: kapcsolt vállalkozástól kapott | H84: =SUM(D84:G84) -> 0
A85: =A84+1 -> 80 | B85: 16 | C85: Egyéb kapott kamatok,kamatjellegű bevételek | D85: 0 | E85: 0 | F85: 0 | H85: =SUM(D85:G85) -> 0
A86: =A85+1 -> 81 | C86: ebből: kapcsolt vállalkozástól kapott | H86: =SUM(D86:G86) -> 0
A87: =A86+1 -> 82 | B87: 17 | C87: Pénzügyi műveletek egyéb bevételei | H87: =SUM(D87:G87) -> 0
A88: =A87+1 -> 83 | B88: VIII. | C88: Pénzügyi műv. bevételei (13+14+15+16+17) | D88: =+D79+D81+D83+D85+D87 -> 0 | E88: =+E79+E81+E83+E85+E87 -> 0 | F88: =+F79+F81+F83+F85+F87 -> 0 | G88: =+G79+G81+G83+G85+G87 -> 0 | H88: =+H79+H81+H83+H85+H87 -> 0
A89: =A88+1 -> 84 | B89: 19 | C89: Befektetett pénzügyi eszközök árfolyamvesztesége | H89: =SUM(D89:G89) -> 0
A90: =A89+1 -> 85 | C90: ebből: kapcsolt vállalkozásnak adott | H90: =SUM(D90:G90) -> 0
A91: =A90+1 -> 86 | B91: 20 | C91: Fizetendő kamatok és kamatjellegű ráfordítások | H91: =SUM(D91:G91) -> 0
A92: =A91+1 -> 87 | C92: ebből: kapcsolt vállalkozásnak adott | H92: =SUM(D92:G92) -> 0
A93: =A92+1 -> 88 | B93: 21 | C93: Részesedések, értékp., bankbetétek értékvesztése | H93: =SUM(D93:G93) -> 0
A94: =A93+1 -> 89 | B94: 22 | C94: Pénzügyi műveletek egyéb ráfordításai | H94: =SUM(D94:G94) -> 0
A95: =A94+1 -> 90 | B95: IX. | C95: Pénzügyi műveletek ráfordításai (18+19±20+21) | D95: =+D89+D91+D93+D94 -> 0 | E95: =+E89+E91+E93+E94 -> 0 | F95: =+F89+F91+F93+F94 -> 0 | G95: =+G89+G91+G93+G94 -> 0 | H95: =+H89+H91+H93+H94 -> 0
A96: =A95+1 -> 91 | B96: B. | C96: PÉNZÜGYI MŰVELETEK EREDMÉNYE | D96: =+D88-D95 -> 0 | E96: =+E88-E95 -> 0 | F96: =+F88-F95 -> 0 | G96: =+G88-G95 -> 0 | H96: =+H88-H95 -> 0
A97: =A96+1 -> 92 | B97: C. | C97: ADÓZÁS ELŐTTI EREDMÉNY (±A±B) | D97: =+D78+D96 -> -6457304 | E97: =+E78+E96 -> -11919678 | F97: =+F78+F96 -> 0 | G97: =+G78+G96 -> 0 | H97: =+H78+H96 -> -18376982
A98: =A97+1 -> 93 | B98: X | C98: Adófizetési kötelezettség
A99: =A98+1 -> 94 | B99: D | C99: ADÓZOTT EREDMÉNY (±E-XII) | D99: =D97-D98 -> -6457304 | E99: =E97-E98 -> -11919678 | F99: =F97-F98 -> 0 | G99: =G97-G98 -> 0 | H99: =H97-H98 -> -18376982
A100: =A99+1 -> 95 | C100: Tájékoztató adat: Állományban lévő létszám (fő) | H100: 20 fő
...

Sheet Munka1
C5: Bérek | D5: bér | E5: 13 | F5: hónap | H5: étk.hj 8000 | I5: szja | J5: eü
B6: 1
B7: 2 | K7: =SUM(H7:J7) -> 0 | M7: =K7/12 -> 0
B8: 3
B9: 4
B10: 5
B11: 6
B12: 7
B13: 8
B14: 9
B15: 10
B16: 11
B17: 12
B18: 13
B19: 14
B20: 15
L26: =E23+E24+E25+H23+I23+J23 -> 0
B29: 16

Sheet Összesen
A1: Martfűi Városfejlesztési Nkft
A2: Számviteli törvény szerinti eredménylevezetés tevékenységek szerint
D3: 2017.év
D4: 1 | E4: 2 | F4: 3 | G4: 4
A5: Sor-szám | C5: A tétel megnevezése | D5: Hulladékgazdálkodás (nettó) | E5: Ingatlangazdálkodás (nettó) | F5: TESZ (bruttó) ÁFA levonási jog nincs | G5: Vállalkozási szerződésen alapuló TESZ | H5: 2017.év összesített eredmény
A6: 1 | C6: Árbevételek | D6: ='Előző évek korrekciój'!D6+'2017'!D5 -> 4310000 | E6: ='Előző évek korrekciój'!E6+'2017'!E5 -> 35196584 | F6: ='Előző évek korrekciój'!F6+'2017'!F5 -> 0 | G6: ='Előző évek korrekciój'!G6+'2017'!G5 -> 1942591 | H6: ='Előző évek korrekciój'!H6+'2017'!H5 -> 41449175
A7: =A6+1 -> 2 | C7: Közvetített szolgáltatások árbevétele (92.) | D7: ='Előző évek korrekciój'!D7+'2017'!D6 -> 0 | E7: ='Előző évek korrekciój'!E7+'2017'!E6 -> 0 | F7: ='Előző évek korrekciój'!F7+'2017'!F6 -> 0 | G7: ='Előző évek korrekciój'!G7+'2017'!G6 -> 0 | H7: ='Előző évek korrekciój'!H7+'2017'!H6 -> 0
A8: =A7+1 -> 3 | B8: 1 | C8: Belföldi értékesítés árbevétele | D8: ='Előző évek korrekciój'!D8+'2017'!D7 -> 4310000 | E8: ='Előző évek korrekciój'!E8+'2017'!E7 -> 35196584 | F8: ='Előző évek korrekciój'!F8+'2017'!F7 -> 0 | G8: ='Előző évek korrekciój'!G8+'2017'!G7 -> 1942591 | H8: ='Előző évek korrekciój'!H8+'2017'!H7 -> 41449175
A9: =A8+1 -> 4 | B9: 2 | C9: Exportértékesítés nettó árbevétele | D9: ='Előző évek korrekciój'!D9+'2017'!D8 -> 0 | E9: ='Előző évek korrekciój'!E9+'2017'!E8 -> 0 | F9: ='Előző évek korrekciój'!F9+'2017'!F8 -> 0 | G9: ='Előző évek korrekciój'!G9+'2017'!G8 -> 0 | H9: ='Előző évek korrekciój'!H9+'2017'!H8 -> 0
A10: =A9+1 -> 5 | B10: I. | C10: Értékesítés nettó árbevétele (01+02) | D10: ='Előző évek korrekciój'!D10+'2017'!D9 -> 4310000 | E10: ='Előző évek korrekciój'!E10+'2017'!E9 -> 35196584 | F10: ='Előző évek korrekciój'!F10+'2017'!F9 -> 0 | G10: ='Előző évek korrekciój'!G10+'2017'!G9 -> 1942591 | H10: ='Előző évek korrekciój'!H10+'2017'!H9 -> 41449175
A11: =A10+1 -> 6 | B11: 3 | C11: Saját termelésű készletek állományváltozása ± | D11: ='Előző évek korrekciój'!D11+'2017'!D10 -> 0 | E11: ='Előző évek korrekciój'!E11+'2017'!E10 -> 0 | F11: ='Előző évek korrekciój'!F11+'2017'!F10 -> 0 | G11: ='Előző évek korrekciój'!G11+'2017'!G10 -> 0 | H11: ='Előző évek korrekciój'!H11+'2017'!H10 -> 0
A12: =A11+1 -> 7 | B12: 4 | C12: Saját előállítású eszközök aktivált értéke | D12: ='Előző évek korrekciój'!D12+'2017'!D11 -> 0 | E12: ='Előző évek korrekciój'!E12+'2017'!E11 -> 0 | F12: ='Előző évek korrekciój'!F12+'2017'!F11 -> 0 | G12: ='Előző évek korrekciój'!G12+'2017'!G11 -> 0 | H12: ='Előző évek korrekciój'!H12+'2017'!H11 -> 0
A13: =A12+1 -> 8 | B13: II. | C13: Aktivált saját teljesítmények értéke (±03+04) | D13: ='Előző évek korrekciój'!D13+'2017'!D12 -> 0 | E13: ='Előző évek korrekciój'!E13+'2017'!E12 -> 0 | F13: ='Előző évek korrekciój'!F13+'2017'!F12 -> 0 | G13: ='Előző évek korrekciój'!G13+'2017'!G12 -> 0 | H13: ='Előző évek korrekciój'!H13+'2017'!H12 -> 0
A14: =A13+1 -> 9 | C14: Önkormányzati támogatás | D14: ='Előző évek korrekciój'!D14+'2017'!D13 -> 0 | E14: ='Előző évek korrekciój'!E14+'2017'!E13 -> 0 | F14: ='Előző évek korrekciój'!F14+'2017'!F13 -> 66895507 | G14: ='Előző évek korrekciój'!G14+'2017'!G13 -> 0 | H14: ='Előző évek korrekciój'!H14+'2017'!H13 -> 66895507
A15: =A14+1 -> 10 | C15: Vagyonkezelésbe átvett vevőállományra történt befizetések miatti támogatás feloldása | D15: ='Előző évek korrekciój'!D15+'2017'!D14 -> 0 | E15: ='Előző évek korrekciój'!E15+'2017'!E14 -> 5797866 | F15: ='Előző évek korrekciój'!F15+'2017'!F14 -> 0 | G15: ='Előző évek korrekciój'!G15+'2017'!G14 -> 0 | H15: ='Előző évek korrekciój'!H15+'2017'!H14 -> 5797866
A16: =A15+1 -> 11 | C16: Értékesített tárgyi eszközök | D16: ='Előző évek korrekciój'!D16+'2017'!D15 -> 4680000 | E16: ='Előző évek korrekciój'!E16+'2017'!E15 -> 0 | F16: ='Előző évek korrekciój'!F16+'2017'!F15 -> 0 | G16: ='Előző évek korrekciój'!G16+'2017'!G15 -> 0 | H16: ='Előző évek korrekciój'!H16+'2017'!H15 -> 4680000
A17: =A16+1 -> 12 | C17: Fejlesztési tartalék visszaírása | D17: ='Előző évek korrekciój'!D17+'2017'!D16 -> 8519887 | E17: ='Előző évek korrekciój'!E17+'2017'!E16 -> 0 | F17: ='Előző évek korrekciój'!F17+'2017'!F16 -> 0 | G17: ='Előző évek korrekciój'!G17+'2017'!G16 -> 0 | H17: ='Előző évek korrekciój'!H17+'2017'!H16 -> 8519887
A18: =A17+1 -> 13 | C18: Egyéb bevételek | D18: ='Előző évek korrekciój'!D18+'2017'!D17 -> -263323 | E18: ='Előző évek korrekciój'!E18+'2017'!E17 -> 8022 | F18: ='Előző évek korrekciój'!F18+'2017'!F17 -> 239049 | G18: ='Előző évek korrekciój'!G18+'2017'!G17 -> 0 | H18: ='Előző évek korrekciój'!H18+'2017'!H17 -> -16252
A19: =A18+1 -> 14 | B19: III. | C19: Egyéb bevételek összesen | D19: ='Előző évek korrekciój'!D19+'2017'!D18 -> 12936564 | E19: ='Előző évek korrekciój'!E19+'2017'!E18 -> 5805888 | F19: ='Előző évek korrekciój'!F19+'2017'!F18 -> 67134556 | G19: ='Előző évek korrekciój'!G19+'2017'!G18 -> 0 | H19: ='Előző évek korrekciój'!H19+'2017'!H18 -> 85877008
A20: =A19+1 -> 15 | D20: ='Előző évek korrekciój'!D20+'2017'!D19 -> 0 | E20: ='Előző évek korrekciój'!E20+'2017'!E19 -> 0 | F20: ='Előző évek korrekciój'!F20+'2017'!F19 -> 0 | G20: ='Előző évek korrekciój'!G20+'2017'!G19 -> 0 | H20: ='Előző évek korrekciój'!H20+'2017'!H19 -> 0
A21: =A20+1 -> 16 | C21: Csomagolóanyagok | D21: ='Előző évek korrekciój'!D21+'2017'!D20 -> 0 | E21: ='Előző évek korrekciój'!E21+'2017'!E20 -> 0 | F21: ='Előző évek korrekciój'!F21+'2017'!F20 -> 40488 | G21: ='Előző évek korrekciój'!G21+'2017'!G20 -> 0 | H21: ='Előző évek korrekciój'!H21+'2017'!H20 -> 40488
A22: =A21+1 -> 17 | C22: Üzemanyagok, kenőanyagok | D22: ='Előző évek korrekciój'!D22+'2017'!D21 -> 0 | E22: ='Előző évek korrekciój'!E22+'2017'!E21 -> 0 | F22: ='Előző évek korrekciój'!F22+'2017'!F21 -> 5333245 | G22: ='Előző évek korrekciój'!G22+'2017'!G21 -> 0 | H22: ='Előző évek korrekciój'!H22+'2017'!H21 -> 5333245
A23: =A22+1 -> 18 | C23: Közüzemi díjak (víz-, villany, gáz) | D23: ='Előző évek korrekciój'!D23+'2017'!D22 -> 0 | E23: ='Előző évek korrekciój'!E23+'2017'!E22 -> 11823002 | F23: ='Előző évek korrekciój'!F23+'2017'!F22 -> 2309765 | G23: ='Előző évek korrekciój'!G23+'2017'!G22 -> 0 | H23: ='Előző évek korrekciój'!H23+'2017'!H22 -> 14132767
A24: =A23+1 -> 19 | C24: Karbantartási anyagok | D24: ='Előző évek korrekciój'!D24+'2017'!D23 -> 0 | E24: ='Előző évek korrekciój'!E24+'2017'!E23 -> 1264786 | F24: ='Előző évek korrekciój'!F24+'2017'!F23 -> 4655707 | G24: ='Előző évek korrekciój'!G24+'2017'!G23 -> 121670 | H24: ='Előző évek korrekciój'!H24+'2017'!H23 -> 6042163
A25: =A24+1 -> 20 | C25: Munkaruha, védőruha, védőfelszerelés | D25: ='Előző évek korrekciój'!D25+'2017'!D24 -> 0 | E25: ='Előző évek korrekciój'!E25+'2017'!E24 -> 13082 | F25: ='Előző évek korrekciój'!F25+'2017'!F24 -> 922524 | G25: ='Előző évek korrekciój'!G25+'2017'!G24 -> 0 | H25: ='Előző évek korrekciój'!H25+'2017'!H24 -> 935606
A26: =A25+1 -> 21 | C26: Nyomtatvány, irodaszer | D26: ='Előző évek korrekciój'!D26+'2017'!D25 -> 0 | E26: ='Előző évek korrekciój'!E26+'2017'!E25 -> 78180 | F26: ='Előző évek korrekciój'!F26+'2017'!F25 -> 44695 | G26: ='Előző évek korrekciój'!G26+'2017'!G25 -> 0 | H26: ='Előző évek korrekciój'!H26+'2017'!H25 -> 122875
A27: =A26+1 -> 22 | C27: Tisztítószerek | D27: ='Előző évek korrekciój'!D27+'2017'!D26 -> 0 | E27: ='Előző évek korrekciój'!E27+'2017'!E26 -> 83252 | F27: ='Előző évek korrekciój'!F27+'2017'!F26 -> 114598 | G27: ='Előző évek korrekciój'!G27+'2017'!G26 -> 0 | H27: ='Előző évek korrekciój'!H27+'2017'!H26 -> 197850
A28: =A27+1 -> 23 | C28: Egyéb előzőekbe be nem sorolható anyagok, szerszámok | D28: ='Előző évek korrekciój'!D28+'2017'!D27 -> 0 | E28: ='Előző évek korrekciój'!E28+'2017'!E27 -> 9970 | F28: ='Előző évek korrekciój'!F28+'2017'!F27 -> 247720 | G28: ='Előző évek korrekciój'!G28+'2017'!G27 -> 0 | H28: ='Előző évek korrekciój'!H28+'2017'!H27 -> 257690
A29: =A28+1 -> 24 | B29: 5 | C29: Anyagköltségek összesen | D29: ='Előző évek korrekciój'!D29+'2017'!D28 -> 0 | E29: ='Előző évek korrekciój'!E29+'2017'!E28 -> 13272272 | F29: ='Előző évek korrekciój'!F29+'2017'!F28 -> 13668742 | H29: ='Előző évek korrekciój'!H29+'2017'!H28 -> 27062684
A30: =A29+1 -> 25 | C30: Parkolás, autópálya, útdíjak | D30: ='Előző évek korrekciój'!D30+'2017'!D29 -> 10000 | E30: ='Előző évek korrekciój'!E30+'2017'!E29 -> 5694 | F30: ='Előző évek korrekciój'!F30+'2017'!F29 -> 77733 | G30: ='Előző évek korrekciój'!G30+'2017'!G29 -> 0 | H30: ='Előző évek korrekciój'!H30+'2017'!H29 -> 93427
A31: =A30+1 -> 26 | C31: Bérleti díjak | D31: ='Előző évek korrekciój'!D31+'2017'!D30 -> 0 | E31: ='Előző évek korrekciój'!E31+'2017'!E30 -> 155187 | F31: ='Előző évek korrekciój'!F31+'2017'!F30 -> 375264 | G31: ='Előző évek korrekciój'!G31+'2017'!G30 -> 0 | H31: ='Előző évek korrekciój'!H31+'2017'!H30 -> 530451
A32: =A31+1 -> 27 | C32: Épületen végzett karbantartás | D32: ='Előző évek korrekciój'!D32+'2017'!D31 -> 0 | E32: ='Előző évek korrekciój'!E32+'2017'!E31 -> 796360 | F32: ='Előző évek korrekciój'!F32+'2017'!F31 -> 94634 | G32: ='Előző évek korrekciój'!G32+'2017'!G31 -> 0 | H32: ='Előző évek korrekciój'!H32+'2017'!H31 -> 890994
A33: =A32+1 -> 28 | C33: Járműveken végzett karbantartás | D33: ='Előző évek korrekciój'!D33+'2017'!D32 -> 0 | E33: ='Előző évek korrekciój'!E33+'2017'!E32 -> 0 | F33: ='Előző évek korrekciój'!F33+'2017'!F32 -> 1327863 | G33: ='Előző évek korrekciój'!G33+'2017'!G32 -> 0 | H33: ='Előző évek korrekciój'!H33+'2017'!H32 -> 1327863
A34: =A33+1 -> 29 | C34: Egyéb eszközökön végzett karbantartás | D34: ='Előző évek korrekciój'!D34+'2017'!D33 -> 0 | E34: ='Előző évek korrekciój'!E34+'2017'!E33 -> 103769 | F34: ='Előző évek korrekciój'!F34+'2017'!F33 -> 468016 | G34: ='Előző évek korrekciój'!G34+'2017'!G33 -> 0 | H34: ='Előző évek korrekciój'!H34+'2017'!H33 -> 571785
A35: =A34+1 -> 30 | C35: Irodai eszközökön végzett karbantartás | D35: ='Előző évek korrekciój'!D35+'2017'!D34 -> 0 | E35: ='Előző évek korrekciój'!E35+'2017'!E34 -> 4320 | F35: ='Előző évek korrekciój'!F35+'2017'!F34 -> 11731 | G35: ='Előző évek korrekciój'!G35+'2017'!G34 -> 0 | H35: ='Előző évek korrekciój'!H35+'2017'!H34 -> 16051
A36: =A35+1 -> 31 | C36: Oktatás | D36: ='Előző évek korrekciój'!D36+'2017'!D35 -> 0 | E36: ='Előző évek korrekciój'!E36+'2017'!E35 -> 0 | F36: ='Előző évek korrekciój'!F36+'2017'!F35 -> 0 | G36: ='Előző évek korrekciój'!G36+'2017'!G35 -> 0 | H36: ='Előző évek korrekciój'!H36+'2017'!H35 -> 0
A37: =A36+1 -> 32 | C37: Üzleti célú utazási költségek | D37: ='Előző évek korrekciój'!D37+'2017'!D36 -> 0 | E37: ='Előző évek korrekciój'!E37+'2017'!E36 -> 0 | F37: ='Előző évek korrekciój'!F37+'2017'!F36 -> 0 | G37: ='Előző évek korrekciój'!G37+'2017'!G36 -> 0 | H37: ='Előző évek korrekciój'!H37+'2017'!H36 -> 0
A38: =A37+1 -> 33 | C38: Szakértői szolgáltatások (munka és tűzvédelem, kockázatelemzés, ügyvédi díj, könyvvezetés) | D38: ='Előző évek korrekciój'!D38+'2017'!D37 -> 0 | E38: ='Előző évek korrekciój'!E38+'2017'!E37 -> 1020060 | F38: ='Előző évek korrekciój'!F38+'2017'!F37 -> 1744980 | G38: ='Előző évek korrekciój'!G38+'2017'!G37 -> 0 | H38: ='Előző évek korrekciój'!H38+'2017'!H37 -> 2765040
A39: =A38+1 -> 34 | C39: Alvállalkozói költség (útépítés) | D39: ='Előző évek korrekciój'!D39+'2017'!D38 -> 0 | E39: ='Előző évek korrekciój'!E39+'2017'!E38 -> 0 | F39: ='Előző évek korrekciój'!F39+'2017'!F38 -> 0 | G39: ='Előző évek korrekciój'!G39+'2017'!G38 -> 0 | H39: ='Előző évek korrekciój'!H39+'2017'!H38 -> 0
A40: =A39+1 -> 35 | C40: Posta-, telefon-, internetköltség | D40: ='Előző évek korrekciój'!D40+'2017'!D39 -> 90056 | E40: ='Előző évek korrekciój'!E40+'2017'!E39 -> 37898 | F40: ='Előző évek korrekciój'!F40+'2017'!F39 -> 355481 | G40: ='Előző évek korrekciój'!G40+'2017'!G39 -> 0 | H40: ='Előző évek korrekciój'!H40+'2017'!H39 -> 483435
A41: =A40+1 -> 36 | C41: Internet (kábeltv.- internet) | D41: ='Előző évek korrekciój'!D41+'2017'!D40 -> 0 | E41: ='Előző évek korrekciój'!E41+'2017'!E40 -> 134978 | F41: ='Előző évek korrekciój'!F41+'2017'!F40 -> 0 | G41: ='Előző évek korrekciój'!G41+'2017'!G40 -> 0 | H41: ='Előző évek korrekciój'!H41+'2017'!H40 -> 134978
... A45: =A44+1 -> 40 | C45: Hulladékszállítás | D45: ='Előző évek korrekciój'!D45+'2017'!D44 -> 10701 | E45: ='Előző évek korrekciój'!E45+'2017'!E44 -> 732776 | F45: ='Előző évek korrekciój'!F45+'2017'!F44 -> 3175000 | G45: ='Előző évek korrekciój'!G45+'2017'!G44 -> 0 | H45: ='Előző évek korrekciój'!H45+'2017'!H44 -> 3918477
A46: =A45+1 -> 41 | D46: ='Előző évek korrekciój'!D46+'2017'!D45 -> 0 | E46: ='Előző évek korrekciój'!E46+'2017'!E45 -> 0 | F46: ='Előző évek korrekciój'!F46+'2017'!F45 -> 0 | G46: ='Előző évek korrekciój'!G46+'2017'!G45 -> 0 | H46: ='Előző évek korrekciój'!H46+'2017'!H45 -> 0
A47: =A46+1 -> 42 | B47: 6 | C47: Igénybe vett szolgáltatások értéke | D47: ='Előző évek korrekciój'!D47+'2017'!D46 -> 155757 | E47: ='Előző évek korrekciój'!E47+'2017'!E46 -> 3809026 | F47: ='Előző évek korrekciój'!F47+'2017'!F46 -> 7706902 | G47: ='Előző évek korrekciój'!G47+'2017'!G46 -> 0 | H47: ='Előző évek korrekciój'!H47+'2017'!H46 -> 11671685 | I47: =3809026-E47 -> 0
A48: =A47+1 -> 43 | C48: Bankköltség | D48: ='Előző évek korrekciój'!D48+'2017'!D47 -> 142459 | E48: ='Előző évek korrekciój'!E48+'2017'!E47 -> 452455 | F48: ='Előző évek korrekciój'!F48+'2017'!F47 -> 385111 | G48: ='Előző évek korrekciój'!G48+'2017'!G47 -> 0 | H48: ='Előző évek korrekciój'!H48+'2017'!H47 -> 980025
A49: =A48+1 -> 44 | C49: Biztosítási díjak | D49: ='Előző évek korrekciój'!D49+'2017'!D48 -> 0 | E49: ='Előző évek korrekciój'!E49+'2017'!E48 -> 0 | F49: ='Előző évek korrekciój'!F49+'2017'!F48 -> 458509 | G49: ='Előző évek korrekciój'!G49+'2017'!G48 -> 0 | H49: ='Előző évek korrekciój'!H49+'2017'!H48 -> 458509
A50: =A49+1 -> 45 | C50: Hatósági díjak | D50: ='Előző évek korrekciój'!D50+'2017'!D49 -> 40000 | E50: ='Előző évek korrekciój'!E50+'2017'!E49 -> 10000 | F50: ='Előző évek korrekciój'!F50+'2017'!F49 -> 4800 | G50: ='Előző évek korrekciój'!G50+'2017'!G49 -> 0 | H50: ='Előző évek korrekciój'!H50+'2017'!H49 -> 54800
A51: =A50+1 -> 46 | B51: 7 | C51: Egyéb szolgáltatások értéke | D51: ='Előző évek korrekciój'!D51+'2017'!D50 -> 182459 | E51: ='Előző évek korrekciój'!E51+'2017'!E50 -> 462455 | F51: ='Előző évek korrekciój'!F51+'2017'!F50 -> 848420 | G51: ='Előző évek korrekciój'!G51+'2017'!G50 -> 0 | H51: ='Előző évek korrekciój'!H51+'2017'!H50 -> 1493334 | I51: =H51+H47+H29+H52+H53 -> 47645831
A52: =A51+1 -> 47 | B52: 8 | C52: Eladott áruk beszerzési értéke | D52: ='Előző évek korrekciój'!D52+'2017'!D51 -> 0 | E52: ='Előző évek korrekciój'!E52+'2017'!E51 -> 0 | F52: ='Előző évek korrekciój'!F52+'2017'!F51 -> 548141 | G52: ='Előző évek korrekciój'!G52+'2017'!G51 -> 0 | H52: ='Előző évek korrekciój'!H52+'2017'!H51 -> 548141
A53: =A52+1 -> 48 | B53: 9 | C53: Eladott (közvetített) szolgáltatások értéke | D53: ='Előző évek korrekciój'!D53+'2017'!D52 -> 6818783 | E53: ='Előző évek korrekciój'!E53+'2017'!E52 -> 0 | F53: ='Előző évek korrekciój'!F53+'2017'!F52 -> 0 | G53: ='Előző évek korrekciój'!G53+'2017'!G52 -> 51204 | H53: ='Előző évek korrekciój'!H53+'2017'!H52 -> 6869987
A54: =A53+1 -> 49 | B54: IV. | C54: Anyagjellegű ráfordítások (18+36+40+41+42) | D54: ='Előző évek korrekciój'!D54+'2017'!D53 -> 7156999 | E54: ='Előző évek korrekciój'!E54+'2017'!E53 -> 17543753 | F54: ='Előző évek korrekciój'!F54+'2017'!F53 -> 22772205 | G54: ='Előző évek korrekciój'!G54+'2017'!G53 -> 172874 | H54: ='Előző évek korrekciój'!H54+'2017'!H53 -> 47645831
A55: =A54+1 -> 50 | C55: Munkabérek | D55: ='Előző évek korrekciój'!D55+'2017'!D54 -> 2398011 | E55: ='Előző évek korrekciój'!E55+'2017'!E54 -> 5358662 | F55: ='Előző évek korrekciój'!F55+'2017'!F54 -> 35033315 | G55: ='Előző évek korrekciój'!G55+'2017'!G54 -> 0 | H55: ='Előző évek korrekciój'!H55+'2017'!H54 -> 42789988
A56: =A55+1 -> 51 | C56: Megbízási díj | D56: ='Előző évek korrekciój'!D56+'2017'!D55 -> 0 | E56: ='Előző évek korrekciój'!E56+'2017'!E55 -> 0 | F56: ='Előző évek korrekciój'!F56+'2017'!F55 -> 0 | G56: ='Előző évek korrekciój'!G56+'2017'!G55 -> 0 | H56: ='Előző évek korrekciój'!H56+'2017'!H55 -> 0
A57: =A56+1 -> 52 | C57: Tiszteletdíjak | D57: ='Előző évek korrekciój'!D57+'2017'!D56 -> 0 | E57: ='Előző évek korrekciój'!E57+'2017'!E56 -> 0 | F57: ='Előző évek korrekciój'!F57+'2017'!F56 -> 0 | G57: ='Előző évek korrekciój'!G57+'2017'!G56 -> 0 | H57: ='Előző évek korrekciój'!H57+'2017'!H56 -> 0
A58: =A57+1 -> 53 | B58: 10 | C58: Bérköltség összesen (43+44+45) | D58: ='Előző évek korrekciój'!D58+'2017'!D57 -> 2398011 | E58: ='Előző évek korrekciój'!E58+'2017'!E57 -> 5358662 | F58: ='Előző évek korrekciój'!F58+'2017'!F57 -> 35033315 | G58: ='Előző évek korrekciój'!G58+'2017'!G57 -> 0 | H58: ='Előző évek korrekciój'!H58+'2017'!H57 -> 42789988
A59: =A58+1 -> 54 | C59: Betegszabadság | D59: ='Előző évek korrekciój'!D59+'2017'!D58 -> 0 | E59: ='Előző évek korrekciój'!E59+'2017'!E58 -> 0 | F59: ='Előző évek korrekciój'!F59+'2017'!F58 -> 386238 | G59: ='Előző évek korrekciój'!G59+'2017'!G58 -> 0 | H59: ='Előző évek korrekciój'!H59+'2017'!H58 -> 386238
A60: =A59+1 -> 55 | C60: Munkába járás térítése | D60: ='Előző évek korrekciój'!D60+'2017'!D59 -> 0 | E60: ='Előző évek korrekciój'!E60+'2017'!E59 -> 0 | F60: ='Előző évek korrekciój'!F60+'2017'!F59 -> 0 | G60: ='Előző évek korrekciój'!G60+'2017'!G59 -> 0 | H60: ='Előző évek korrekciój'!H60+'2017'!H59 -> 0
A61: =A60+1 -> 56 | C61: Kiküldetés, Napidíjak | D61: ='Előző évek korrekciój'!D61+'2017'!D60 -> 0 | E61: ='Előző évek korrekciój'!E61+'2017'!E60 -> 530679 | F61: ='Előző évek korrekciój'!F61+'2017'!F60 -> 1337392 | G61: ='Előző évek korrekciój'!G61+'2017'!G60 -> 0 | H61: ='Előző évek korrekciój'!H61+'2017'!H60 -> 1868071
A62: =A61+1 -> 57 | C62: Étkezési hozzájárulás | D62: ='Előző évek korrekciój'!D62+'2017'!D61 -> 141000 | E62: ='Előző évek korrekciój'!E62+'2017'!E61 -> 181600 | F62: ='Előző évek korrekciój'!F62+'2017'!F61 -> 2220400 | G62: ='Előző évek korrekciój'!G62+'2017'!G61 -> 0 | H62: ='Előző évek korrekciój'!H62+'2017'!H61 -> 2543000
A63: =A62+1 -> 58 | C63: Foglalkozás eü. szolgálat | D63: ='Előző évek korrekciój'!D63+'2017'!D62 -> 0 | E63: ='Előző évek korrekciój'!E63+'2017'!E62 -> 7000 | F63: ='Előző évek korrekciój'!F63+'2017'!F62 -> 95200 | G63: ='Előző évek korrekciój'!G63+'2017'!G62 -> 0 | H63: ='Előző évek korrekciój'!H63+'2017'!H62 -> 102200
A64: =A63+1 -> 59 | C64: Munkáltató által fizetett táppénz-hozzájárulás | D64: ='Előző évek korrekciój'!D64+'2017'!D63 -> 0 | E64: ='Előző évek korrekciój'!E64+'2017'!E63 -> 0 | F64: ='Előző évek korrekciój'!F64+'2017'!F63 -> 7802 | G64: ='Előző évek korrekciój'!G64+'2017'!G63 -> 0 | H64: ='Előző évek korrekciój'!H64+'2017'!H63 -> 7802
A65: =A64+1 -> 60 | C65: Egyéb kifizetés (alkalmi foglalkoztatás) | D65: ='Előző évek korrekciój'!D65+'2017'!D64 -> 0 | E65: ='Előző évek korrekciój'!E65+'2017'!E64 -> 89618 | F65: ='Előző évek korrekciój'!F65+'2017'!F64 -> 0 | G65: ='Előző évek korrekciój'!G65+'2017'!G64 -> 0 | H65: ='Előző évek korrekciój'!H65+'2017'!H64 -> 89618
A66: =A65+1 -> 61 | B66: 11 | C66: Személyi jellegű egyéb kifizetések összesen | D66: ='Előző évek korrekciój'!D66+'2017'!D65 -> 141000 | E66: ='Előző évek korrekciój'!E66+'2017'!E65 -> 808897 | F66: ='Előző évek korrekciój'!F66+'2017'!F65 -> 4047032 | G66: ='Előző évek korrekciój'!G66+'2017'!G65 -> 0 | H66: ='Előző évek korrekciój'!H66+'2017'!H65 -> 4996929
A67: =A66+1 -> 62 | B67: 12 | C67: Bérjárulékok | D67: ='Előző évek korrekciój'!D67+'2017'!D66 -> 382066 | E67: ='Előző évek korrekciój'!E67+'2017'!E66 -> 1197473 | F67: ='Előző évek korrekciój'!F67+'2017'!F66 -> 7555927 | G67: ='Előző évek korrekciój'!G67+'2017'!G66 -> 0 | H67: ='Előző évek korrekciój'!H67+'2017'!H66 -> 9135466
A68: =A67+1 -> 63 | B68: V. | C68: Személyi jellegű ráfordítások (46+54+55) | D68: ='Előző évek korrekciój'!D68+'2017'!D67 -> 2921077 | E68: ='Előző évek korrekciój'!E68+'2017'!E67 -> 7365032 | F68: ='Előző évek korrekciój'!F68+'2017'!F67 -> 46636274 | G68: ='Előző évek korrekciój'!G68+'2017'!G67 -> 0 | H68: ='Előző évek korrekciój'!H68+'2017'!H67 -> 56922383
A69: =A68+1 -> 64 | B69: VI. | C69: Értékcsökkenési leírás | D69: ='Előző évek korrekciój'!D69+'2017'!D68 -> 4592236 | E69: ='Előző évek korrekciój'!E69+'2017'!E68 -> 15280927 | F69: ='Előző évek korrekciój'!F69+'2017'!F68 -> 672268 | G69: ='Előző évek korrekciój'!G69+'2017'!G68 -> 0 | H69: ='Előző évek korrekciój'!H69+'2017'!H68 -> 20545431
A70: =A69+1 -> 65 | C70: Értékesített tárgyi eszközök nyilv.szer.értéke | D70: ='Előző évek korrekciój'!D70+'2017'!D69 -> 4118652 | E70: ='Előző évek korrekciój'!E70+'2017'!E69 -> 0 | F70: ='Előző évek korrekciój'!F70+'2017'!F69 -> 0 | G70: ='Előző évek korrekciój'!G70+'2017'!G69 -> 0 | H70: ='Előző évek korrekciój'!H70+'2017'!H69 -> 4118652
A71: =A70+1 -> 66 | C71: Egyéb nem részletezett | D71: ='Előző évek korrekciój'!D71+'2017'!D70 -> 100588 | E71: ='Előző évek korrekciój'!E71+'2017'!E70 -> 17053 | F71: ='Előző évek korrekciój'!F71+'2017'!F70 -> 45 | G71: ='Előző évek korrekciój'!G71+'2017'!G70 -> 15 | H71: ='Előző évek korrekciój'!H71+'2017'!H70 -> 117701
A72: =A71+1 -> 67 | C72: Értékvesztések | D72: ='Előző évek korrekciój'!D72+'2017'!D71 -> 1107469 | E72: 4847600 | F72: ='Előző évek korrekciój'!F72+'2017'!F71 -> 0 | G72: ='Előző évek korrekciój'!G72+'2017'!G71 -> 0 | H72: ='Előző évek korrekciój'!H72+'2017'!H71 -> 5955069
A73: =A72+1 -> 68 | C73: Behajthatatlan köv. leírt összeg | D73: ='Előző évek korrekciój'!D73+'2017'!D72 -> 0 | E73: ='Előző évek korrekciój'!E73+'2017'!E72 -> 485517 | F73: ='Előző évek korrekciój'!F73+'2017'!F72 -> 0 | G73: ='Előző évek korrekciój'!G73+'2017'!G72 -> 0 | H73: ='Előző évek korrekciój'!H73+'2017'!H72 -> 485517
A74: =A73+1 -> 69 | C74: Helyi iparűzési adó | D74: ='Előző évek korrekciój'!D74+'2017'!D73 -> 0 | E74: ='Előző évek korrekciój'!E74+'2017'!E73 -> 529100 | F74: ='Előző évek korrekciój'!F74+'2017'!F73 -> 0 | G74: ='Előző évek korrekciój'!G74+'2017'!G73 -> 0 | H74: ='Előző évek korrekciój'!H74+'2017'!H73 -> 529100
A75: =A74+1 -> 70 | C75: Céltartalék | D75: ='Előző évek korrekciój'!D75+'2017'!D74 -> 4450035 | E75: ='Előző évek korrekciój'!E75+'2017'!E74 -> 0 | F75: ='Előző évek korrekciój'!F75+'2017'!F74 -> 0 | G75: ='Előző évek korrekciój'!G75+'2017'!G74 -> 0 | H75: ='Előző évek korrekciój'!H75+'2017'!H74 -> 4450035
A76: =A75+1 -> 71 | B76: VII. | C76: Egyéb ráfordítások | D76: ='Előző évek korrekciój'!D76+'2017'!D75 -> 9776744 | E76: ='Előző évek korrekciój'!E76+'2017'!E75 -> 5879270 | F76: ='Előző évek korrekciój'!F76+'2017'!F75 -> 45 | G76: ='Előző évek korrekciój'!G76+'2017'!G75 -> 15 | H76: ='Előző évek korrekciój'!H76+'2017'!H75 -> 15656074
A77: =A76+1 -> 72 | C77: ebből: értékvesztés | D77: ='Előző évek korrekciój'!D77+'2017'!D76 -> 0 | E77: ='Előző évek korrekciój'!E77+'2017'!E76 -> 0 | F77: ='Előző évek korrekciój'!F77+'2017'!F76 -> 0 | G77: ='Előző évek korrekciój'!G77+'2017'!G76 -> 0 | H77: ='Előző évek korrekciój'!H77+'2017'!H76 -> 0
A78: =A77+1 -> 73 | B78: A. | C78: ÜZEMI (ÜZLETI) TEVÉKENYSÉG EREDMÉNYE (I±II+III-IV-V-VI-VII) | D78: ='Előző évek korrekciój'!D78+'2017'!D77 -> -7200492 | E78: ='Előző évek korrekciój'!E78+'2017'!E77 -> -5066510 | F78: ='Előző évek korrekciój'!F78+'2017'!F77 -> -2946236 | G78: ='Előző évek korrekciój'!G78+'2017'!G77 -> 1769702 | H78: ='Előző évek korrekciój'!H78+'2017'!H77 -> -13443536
A79: =A78+1 -> 74 | B79: 13 | C79: Kapott (járó) osztalék és részesedés | D79: ='Előző évek korrekciój'!D79+'2017'!D78 -> 0 | E79: ='Előző évek korrekciój'!E79+'2017'!E78 -> 0 | F79: ='Előző évek korrekciój'!F79+'2017'!F78 -> 0 | G79: ='Előző évek korrekciój'!G79+'2017'!G78 -> 0 | H79: ='Előző évek korrekciój'!H79+'2017'!H78 -> 0
A80: =A79+1 -> 75 | C80: ebből: kapcsolt vállalkozástól kapott | D80: ='Előző évek korrekciój'!D80+'2017'!D79 -> 0 | E80: ='Előző évek korrekciój'!E80+'2017'!E79 -> 0 | F80: ='Előző évek korrekciój'!F80+'2017'!F79 -> 0 | G80: ='Előző évek korrekciój'!G80+'2017'!G79 -> 0 | H80: ='Előző évek korrekciój'!H80+'2017'!H79 -> 0
A81: =A80+1 -> 76 | B81: 14 | C81: Részesedések értékesítésének árfolyamnyeresége | D81: ='Előző évek korrekciój'!D81+'2017'!D80 -> 0 | E81: ='Előző évek korrekciój'!E81+'2017'!E80 -> 0 | F81: ='Előző évek korrekciój'!F81+'2017'!F80 -> 0 | G81: ='Előző évek korrekciój'!G81+'2017'!G80 -> 0 | H81: ='Előző évek korrekciój'!H81+'2017'!H80 -> 0
A82: =A81+1 -> 77 | C82: ebből: kapcsolt vállalkozástól kapott | D82: ='Előző évek korrekciój'!D82+'2017'!D81 -> 0 | E82: ='Előző évek korrekciój'!E82+'2017'!E81 -> 0 | F82: ='Előző évek korrekciój'!F82+'2017'!F81 -> 0 | G82: ='Előző évek korrekciój'!G82+'2017'!G81 -> 0 | H82: ='Előző évek korrekciój'!H82+'2017'!H81 -> 0
A83: =A82+1 -> 78 | B83: 15 | C83: Befektetett pénzügyi eszközök kamatai, árfolyamny. | D83: ='Előző évek korrekciój'!D83+'2017'!D82 -> 0 | E83: ='Előző évek korrekciój'!E83+'2017'!E82 -> 0 | F83: ='Előző évek korrekciój'!F83+'2017'!F82 -> 0 | G83: ='Előző évek korrekciój'!G83+'2017'!G82 -> 0 | H83: ='Előző évek korrekciój'!H83+'2017'!H82 -> 0
A84: =A83+1 -> 79 | C84: ebből: kapcsolt vállalkozástól kapott | D84: ='Előző évek korrekciój'!D84+'2017'!D83 -> 0 | E84: ='Előző évek korrekciój'!E84+'2017'!E83 -> 0 | F84: ='Előző évek korrekciój'!F84+'2017'!F83 -> 0 | G84: ='Előző évek korrekciój'!G84+'2017'!G83 -> 0 | H84: ='Előző évek korrekciój'!H84+'2017'!H83 -> 0
A85: =A84+1 -> 80 | B85: 16 | C85: Egyéb kapott kamatok,kamatjellegű bevételek | D85: ='Előző évek korrekciój'!D85+'2017'!D84 -> 110 | E85: ='Előző évek korrekciój'!E85+'2017'!E84 -> 269 | F85: ='Előző évek korrekciój'!F85+'2017'!F84 -> 66 | G85: ='Előző évek korrekciój'!G85+'2017'!G84 -> 0 | H85: ='Előző évek korrekciój'!H85+'2017'!H84 -> 445
A86: =A85+1 -> 81 | C86: ebből: kapcsolt vállalkozástól kapott | D86: ='Előző évek korrekciój'!D86+'2017'!D85 -> 0 | E86: ='Előző évek korrekciój'!E86+'2017'!E85 -> 0 | F86: ='Előző évek korrekciój'!F86+'2017'!F85 -> 0 | G86: ='Előző évek korrekciój'!G86+'2017'!G85 -> 0 | H86: ='Előző évek korrekciój'!H86+'2017'!H85 -> 0
A87: =A86+1 -> 82 | B87: 17 | C87: Pénzügyi műveletek egyéb bevételei | D87: ='Előző évek korrekciój'!D87+'2017'!D86 -> 0 | E87: ='Előző évek korrekciój'!E87+'2017'!E86 -> 0 | F87: ='Előző évek korrekciój'!F87+'2017'!F86 -> 0 | G87: ='Előző évek korrekciój'!G87+'2017'!G86 -> 0 | H87: ='Előző évek korrekciój'!H87+'2017'!H86 -> 0
A88: =A87+1 -> 83 | B88: VIII. | C88: Pénzügyi műv. bevételei (13+14+15+16+17) | D88: ='Előző évek korrekciój'!D88+'2017'!D87 -> 110 | E88: ='Előző évek korrekciój'!E88+'2017'!E87 -> 269 | F88: ='Előző évek korrekciój'!F88+'2017'!F87 -> 66 | G88: ='Előző évek korrekciój'!G88+'2017'!G87 -> 0 | H88: ='Előző évek korrekciój'!H88+'2017'!H87 -> 445
A89: =A88+1 -> 84 | B89: 19 | C89: Befektetett pénzügyi eszközök árfolyamvesztesége | D89: ='Előző évek korrekciój'!D89+'2017'!D88 -> 0 | E89: ='Előző évek korrekciój'!E89+'2017'!E88 -> 0 | F89: ='Előző évek korrekciój'!F89+'2017'!F88 -> 0 | G89: ='Előző évek korrekciój'!G89+'2017'!G88 -> 0 | H89: ='Előző évek korrekciój'!H89+'2017'!H88 -> 0
A90: =A89+1 -> 85 | C90: ebből: kapcsolt vállalkozásnak adott | D90: ='Előző évek korrekciój'!D90+'2017'!D89 -> 0 | E90: ='Előző évek korrekciój'!E90+'2017'!E89 -> 0 | F90: ='Előző évek korrekciój'!F90+'2017'!F89 -> 0 | G90: ='Előző évek korrekciój'!G90+'2017'!G89 -> 0 | H90: ='Előző évek korrekciój'!H90+'2017'!H89 -> 0
A91: =A90+1 -> 86 | B91: 20 | C91: Fizetendő kamatok és kamatjellegű ráfordítások | D91: ='Előző évek korrekciój'!D91+'2017'!D90 -> 0 | E91: ='Előző évek korrekciój'!E91+'2017'!E90 -> 0 | F91: ='Előző évek korrekciój'!F91+'2017'!F90 -> 0 | G91: ='Előző évek korrekciój'!G91+'2017'!G90 -> 0 | H91: ='Előző évek korrekciój'!H91+'2017'!H90 -> 0
A92: =A91+1 -> 87 | C92: ebből: kapcsolt vállalkozásnak adott | D92: ='Előző évek korrekciój'!D92+'2017'!D91 -> 0 | E92: ='Előző évek korrekciój'!E92+'2017'!E91 -> 0 | F92: ='Előző évek korrekciój'!F92+'2017'!F91 -> 0 | G92: ='Előző évek korrekciój'!G92+'2017'!G91 -> 0 | H92: ='Előző évek korrekciój'!H92+'2017'!H91 -> 0
A93: =A92+1 -> 88 | B93: 21 | C93: Részesedések, értékp., bankbetétek értékvesztése | D93: ='Előző évek korrekciój'!D93+'2017'!D92 -> 0 | E93: ='Előző évek korrekciój'!E93+'2017'!E92 -> 0 | F93: ='Előző évek korrekciój'!F93+'2017'!F92 -> 0 | G93: ='Előző évek korrekciój'!G93+'2017'!G92 -> 0 | H93: ='Előző évek korrekciój'!H93+'2017'!H92 -> 0
A94: =A93+1 -> 89 | B94: 22 | C94: Pénzügyi műveletek egyéb ráfordításai | D94: ='Előző évek korrekciój'!D94+'2017'!D93 -> 0 | E94: ='Előző évek korrekciój'!E94+'2017'!E93 -> 0 | F94: ='Előző évek korrekciój'!F94+'2017'!F93 -> 0 | G94: ='Előző évek korrekciój'!G94+'2017'!G93 -> 0 | H94: ='Előző évek korrekciój'!H94+'2017'!H93 -> 0
A95: =A94+1 -> 90 | B95: IX. | C95: Pénzügyi műveletek ráfordításai (18+19±20+21) | D95: ='Előző évek korrekciój'!D95+'2017'!D94 -> 0 | E95: ='Előző évek korrekciój'!E95+'2017'!E94 -> 0 | F95: ='Előző évek korrekciój'!F95+'2017'!F94 -> 0 | G95: ='Előző évek korrekciój'!G95+'2017'!G94 -> 0 | H95: ='Előző évek korrekciój'!H95+'2017'!H94 -> 0
A96: =A95+1 -> 91 | B96: B. | C96: PÉNZÜGYI MŰVELETEK EREDMÉNYE | D96: ='Előző évek korrekciój'!D96+'2017'!D95 -> 110 | E96: ='Előző évek korrekciój'!E96+'2017'!E95 -> 269 | F96: ='Előző évek korrekciój'!F96+'2017'!F95 -> 66 | G96: ='Előző évek korrekciój'!G96+'2017'!G95 -> 0 | H96: ='Előző évek korrekciój'!H96+'2017'!H95 -> 445
A97: =A96+1 -> 92 | B97: C. | C97: ADÓZÁS ELŐTTI EREDMÉNY (±A±B) | D97: ='Előző évek korrekciój'!D97+'2017'!D96 -> -7200382 | E97: ='Előző évek korrekciój'!E97+'2017'!E96 -> -5066241 | F97: ='Előző évek korrekciój'!F97+'2017'!F96 -> -2946170 | G97: ='Előző évek korrekciój'!G97+'2017'!G96 -> 1769702 | H97: ='Előző évek korrekciój'!H97+'2017'!H96 -> -13443091
A98: =A97+1 -> 93 | B98: X | C98: Adófizetési kötelezettség | D98: ='Előző évek korrekciój'!D98+'2017'!D97 -> 0 | E98: ='Előző évek korrekciój'!E98+'2017'!E97 -> 342000 | F98: ='Előző évek korrekciój'!F98+'2017'!F97 -> 0 | G98: ='Előző évek korrekciój'!G98+'2017'!G97 -> 0 | H98: ='Előző évek korrekciój'!H98+'2017'!H97 -> 342000
A99: =A98+1 -> 94 | B99: D | C99: ADÓZOTT EREDMÉNY (±E-XII) | D99: ='Előző évek korrekciój'!D99+'2017'!D98 -> -7200382 | E99: ='Előző évek korrekciój'!E99+'2017'!E98 -> -5408241 | F99: ='Előző évek korrekciój'!F99+'2017'!F98 -> -2946170 | G99: ='Előző évek korrekciój'!G99+'2017'!G98 -> 1769702 | H99: ='Előző évek korrekciój'!H99+'2017'!H98 -> -13785091
A100: =A99+1 -> 95 | C100: Tájékoztató adat: Állományban lévő létszám (fő) | H100: 20 fő
B102: Szolnok, 2018.04.06.
