Workbook
Name Expediálás: [1]Munka2!$I$1:$I$13
Name Irattár: [1]Munka2!$E$1:$E$3
Name Ügyintéző: [1]Munka2!$A$1:$A$209
Name Ügytípus: [1]Munka2!$G$1:$G$211

Sheet Beruházás
A1: Gördülő fejlesztési terv a 2024 - 2038 időszakra
A2: BERUHÁZÁSOK ÖSSZEFOGLALÓ TÁBLÁZATA
A3: A tervet benyújtó szervezet megnevezése: | C3: BÁCSVÍZ Víz- és Csatornaszolgáltató Zártkörűen működő Részvénytársaság | H3: ellátásért felelős / ellátásért felelősök képviselője / víziközmű-szolgáltató *
A4: Víziközmű-szolgáltató megnevezése: | C4: BÁCSVÍZ Víz- és Csatornaszolgáltató Zártkörűen működő Részvénytársaság
A5: Víziközmű-szolgáltatási ágazat megnevezése: | C5: Csatornaszolgáltatás
A6: A Vksztv. 11. § (4) bekezdés szerinti véleményező fél megnevezése: | E6: Martfű Önkormányzata
A7: Víziközmű-rendszer kódja: ** | E7: 21-02626-1-001-00-04
A9: Fontossági sorrend | B9: Beruházás megnevezése | C9: Vízjogi létesítési/elvi engedély száma | D9: Az érintett ellátásért felelős(ök) megnevezése | E9: Tervezett nettó költség | F9: Forrás megnevezése | G9: Megvalósítás várható időtartama | I9: Tervezett időtáv | J9: A beruházás ütemezése a tervezési időszak évei szerint
G10: Kezdés | H10: Befejezés | I10: (rövid / közép / hosszú) | J10: 1 | K10: 2 | L10: 3 | M10: 4 | N10: 5 | O10: 6 | P10: 7 | Q10: 8 | R10: 9 | S10: 10 | T10: 11 | U10: 12 | V10: 13 | W10: 14 | X10: 15
E11: (eFt)
A12: 1. | B12: MEKH eljárási díj | C12: - | D12: Martfű Önkormányzata | E12: 33 | F12: Bérleti díj | G12: 2024 | H12: 2024 | I12: rövid | J12: X
A13: 2. | B13: Napelemes erőmű létesítése | D13: Martfű Önkormányzata | E13: 30000 | F13: Fenntartási összeg *** | G13: 2024 | H13: 2024 | I13: rövid | J13: X
B14: I. ütem összesen | E14: =SUM(E12:E13) -> 30033
C15: - | D15: Martfű Önkormányzata | G15: 2025 | H15: 2028 | I15: közép | K15: X | L15: X | M15: X | N15: X
B16: II. ütem összesen | E16: =SUM(E15:E15) -> 0
C17: - | D17: Martfű Önkormányzata | G17: 2029 | H17: 2038 | I17: hosszú | O17: X | P17: X | Q17: X | R17: X | S17: X | T17: X | U17: X | V17: X | W17: X | X17: X
B18: III. ütem összesen | E18: =SUM(E17:E17) -> 0
A19: * a megfelelő szövegrészt aláhúzással kell jelölni
A20: ** a Hivatal által a működési engedélyben megállapított VKR-kód
A21: *** A 24/2023. (XII.13.) EM rendelet szerinti, a BÁCSVÍZ Zrt. számláján nyilvántartott összeg

Sheet Felújítás
A1: Gördülő fejlesztési terv a 2024 - 2038 időszakra
A2: FELÚJÍTÁSOK ÉS PÓTLÁSOK ÖSSZEFOGLALÓ TÁBLÁZATA
A3: A tervet benyújtó szervezet megnevezése: | C3: BÁCSVÍZ Víz- és Csatornaszolgáltató Zártkörűen működő Részvénytársaság | H3: ellátásért felelős / ellátásért felelősök képviselője / víziközmű-szolgáltató *
A4: Víziközmű-szolgáltató megnevezése: | C4: BÁCSVÍZ Víz- és Csatornaszolgáltató Zártkörűen működő Részvénytársaság
A5: Víziközmű-szolgáltatási ágazat megnevezése: | C5: Csatornaszolgáltatás
A6: A Vksztv. 11. § (4) bekezdés szerinti véleményező fél megnevezése: | E6: Martfű Önkormányzata
A7: Víziközmű-rendszer kódja: ** | E7: 21-02626-1-001-00-04
A9: Fontossági sorrend | B9: Felújítás és pótlás megnevezése | C9: Vízjogi üzemeltetési/ fennmaradási engedély száma | D9: Az érintett ellátásért felelős(ök) megnevezése | E9: Tervezett nettó költség | F9: Forrás megnevezése | G9: Megvalósítás várható időtartama | I9: Tervezett időtáv | J9: A felújítás és pótlás ütemezése a tervezési időszak évei szerint
E10: (eFt) | G10: Kezdés | H10: Befejezés | I10: (rövid / közép / hosszú) | J10: 1 | K10: 2 | L10: 3 | M10: 4 | N10: 5 | O10: 6 | P10: 7 | Q10: 8 | R10: 9 | S10: 10 | T10: 11 | U10: 12 | V10: 13 | W10: 14 | X10: 15
A12: 1. | B12: MEKH és Katasztrófavédelmi hatósági eljárási díj | C12: 36600/316-16/2022 | D12: Martfű Önkormányzata | E12: 33 | F12: Bérleti díj | G12: 2024 | H12: 2024 | I12: rövid | J12: X
A13: 2. | B13: Tisztított szennyvíz vezeték elzárószerelvény beépítés | C13: 36600/316-16/2022 | D13: Martfű Önkormányzata | E13: 5000 | F13: Fenntartási összeg *** | G13: 2024 | H13: 2024 | I13: rövid | J13: X
A14: 3. | B14: Szivattyú pótlások és felújítások hálózaton | C14: 36600/316-16/2022 | D14: Martfű Önkormányzata | E14: 10000 | F14: Fenntartási összeg *** | G14: 2024 | H14: 2024 | I14: rövid | J14: X
A15: 4. | B15: Szolnoki utca NA200 beton gerinc és bekötő csatornák felújítása 200fm | C15: 36600/316-16/2022 | D15: Martfű Önkormányzata | E15: 40000 | F15: Fenntartási összeg *** | G15: 2024 | H15: 2024 | I15: rövid | J15: X
A16: 5. | B16: Oxigén szondák és vezérlő pótlása | C16: 36600/316-16/2022 | D16: Martfű Önkormányzata | E16: 2300 | F16: Fenntartási összeg *** | G16: 2024 | H16: 2024 | I16: rövid | J16: X
A17: 6. | B17: Rendkívüli helyzetből adódó azonnali feladatok | C17: 36600/316-16/2022 | D17: Martfű Önkormányzata | E17: 1000 | F17: Fenntartási összeg *** | G17: 2024 | H17: 2024 | I17: rövid | J17: X
B18: I. ütem összesen | E18: =SUM(E12:E17) -> 58333 | G18: =IF(I18="Rövid",2019,IF(I18="Közép",2020,IF(I18="Hosszú",2024,""))) | H18: =IF(I18="Rövid",2019,IF(I18="Közép",2023,IF(I18="Hosszú",2033,"")))
A19: 7. | B19: Szivattyú pótlás pályázatból | C19: 36600/316-16/2022 | D19: Martfű Önkormányzata | E19: 10000 | F19: Pályázati forrás | G19: 2025 | H19: 2028 | I19: közép | K19: X | L19: X | M19: X | N19: X
A20: 8. | B20: Iszapvíztelenítő centrifuga pótlás energiahatékonysági pályázatból | C20: 36600/316-16/2022 | D20: Martfű Önkormányzata | E20: 15000 | F20: Pályázati forrás | G20: 2024 | H20: 2024 | I20: közép | K20: X | L20: X | M20: X | N20: X
A21: 9. | B21: Közbenső és utóülepítő kotró felújítása | C21: 36600/316-16/2022 | D21: Martfű Önkormányzata | E21: 7000 | F21: Bérleti díj | G21: 2025 | H21: 2028 | I21: közép | K21: X | L21: X | M21: X | N21: X
A22: 10. | B22: Szennyvízcsatorna felújítás | C22: 36600/316-16/2022 | D22: Martfű Önkormányzata | E22: 30000 | F22: Bérleti díj | G22: 2025 | H22: 2028 | I22: közép | K22: X | L22: X | M22: X | N22: X
A23: 11. | B23: Szennyvíztisztító telepi kezelőépület nyílászárók cseréje | C23: 36600/316-16/2022 | D23: Martfű Önkormányzata | E23: 2000 | F23: Bérleti díj | G23: 2025 | H23: 2028 | I23: közép | K23: X | L23: X | M23: X | N23: X
A24: 12. | B24: Szivattyú és keverő pótlások és felújítások hálózaton és szennyvíztisztító telepen | C24: 36600/316-16/2022 | D24: Martfű Önkormányzata | E24: 5000 | F24: Bérleti díj | G24: 2025 | H24: 2028 | I24: közép | K24: X | L24: X | M24: X | N24: X
A25: 13. | B25: Rendkívüli helyzetből adódó azonnali feladatok | C25: 36600/316-16/2022 | D25: Martfű Önkormányzata | E25: 5000 | F25: Bérleti díj | G25: 2025 | H25: 2028 | I25: közép | K25: X | L25: X | M25: X | N25: X
B26: II. ütem összesen | E26: =SUM(E19:E25) -> 74000 | G26: =IF(I26="Rövid",2019,IF(I26="Közép",2020,IF(I26="Hosszú",2024,""))) | H26: =IF(I26="Rövid",2019,IF(I26="Közép",2023,IF(I26="Hosszú",2033,"")))
A27: 14. | B27: Szennyvízcsatorna hálózat rekonstrukció | C27: 36600/316-16/2022 | D27: Martfű Önkormányzata | E27: 150000 | F27: Bérleti díj | G27: 2029 | H27: 2038 | I27: hosszú | O27: X | P27: X | Q27: X | R27: X | S27: X | T27: X | U27: X | V27: X | W27: X | X27: X
A28: 15. | B28: Rendkívüli helyzetből adódó azonnali feladatok | C28: 36600/316-16/2022 | D28: Martfű Önkormányzata | E28: 15000 | F28: Bérleti díj | G28: 2029 | H28: 2038 | I28: hosszú | O28: X | P28: X | Q28: X | R28: X | S28: X | T28: X | U28: X | V28: X | W28: X | X28: X
B29: III. ütem összesen | E29: =SUM(E27:E28) -> 165000 | G29: =IF(I29="Rövid",2019,IF(I29="Közép",2020,IF(I29="Hosszú",2024,""))) | H29: =IF(I29="Rövid",2019,IF(I29="Közép",2023,IF(I29="Hosszú",2033,"")))
A30: * a megfelelő szövegrészt aláhúzással kell jelölni
A31: ** a Hivatal által a működési engedélyben megállapított VKR-kód
A32: *** A 24/2023. (XII.13.) EM rendelet szerinti, a BÁCSVÍZ Zrt. számláján nyilvántartott összeg

Sheet forrás
A1: Éves bérleti díj: | B1: 1800 | C1: eFt
A3: Rendelkezésre álló források megnevezése | B3: Korábbi időszakról áthozott | C3: eFt
C4: I. ütem | D4: II. ütem | E4: III. ütem
C5: Rövid | D5: Közép | E5: Hosszú
A7: Bérleti díj | B7: -19134 | C7: =B7+B1+B11+B15 -> 1800 | D7: =B1*4+C62 -> 8934 | E7: =B1*10 -> 18000
A8: VK elsz. értékcsökkenés * | C8: =B8 -> 0 | D8: =C63 -> 0 | E8: =D63 -> 0
A9: Víziközmű-fejlesztési hozzájárulás*** | C9: =B9 -> 0 | D9: =C64 -> 0 | E9: =D64 -> 0
A10: Fenntartási összeg**** | C10: 88300
A11: Forrás átcsoportosítás - BD** | B11: 17659
A12: Forrás átcsoportosítás - VK**
A13: Üzemeltetői előleg
A14: Lakossági önerő
A15: Önkormányzati forrás | B15: 1475
A16: Pályázati forrás | D16: 55000
A17: Rendelkezésre álló göngyölt forrás | C17: =SUM(C7:C16) -> 90100 | D17: =SUM(D7:D16) -> 63934 | E17: =SUM(E7:E16) -> 18000
A19: Felhasználások megnevezése | C19: eFt
C20: I. ütem | D20: II. ütem | E20: III. ütem
A22: Felújítás
A23: Bérleti díj | C23: =SUMIFS(Felújítás!$E$12:$E$97,Felújítás!$I$12:$I$97,C$5,Felújítás!$F$12:$F$97,$A23) -> 33 | D23: =SUMIFS(Felújítás!$E$12:$E$97,Felújítás!$I$12:$I$97,D$5,Felújítás!$F$12:$F$97,$A23) -> 49000 | E23: =SUMIFS(Felújítás!$E$12:$E$97,Felújítás!$I$12:$I$97,E$5,Felújítás!$F$12:$F$97,$A23) -> 165000
A24: VK elsz. értékcsökkenés * | C24: =SUMIFS(Felújítás!$E$12:$E$97,Felújítás!$I$12:$I$97,C$5,Felújítás!$F$12:$F$97,$A24) -> 0 | D24: =SUMIFS(Felújítás!$E$12:$E$97,Felújítás!$I$12:$I$97,D$5,Felújítás!$F$12:$F$97,$A24) -> 0 | E24: =SUMIFS(Felújítás!$E$12:$E$97,Felújítás!$I$12:$I$97,E$5,Felújítás!$F$12:$F$97,$A24) -> 0
A25: Víziközmű-fejlesztési hozzájárulás*** | C25: =SUMIFS(Felújítás!$E$12:$E$97,Felújítás!$I$12:$I$97,C$5,Felújítás!$F$12:$F$97,$A25) -> 0 | D25: =SUMIFS(Felújítás!$E$12:$E$97,Felújítás!$I$12:$I$97,D$5,Felújítás!$F$12:$F$97,$A25) -> 0 | E25: =SUMIFS(Felújítás!$E$12:$E$97,Felújítás!$I$12:$I$97,E$5,Felújítás!$F$12:$F$97,$A25) -> 0
A26: Fenntartási összeg**** | C26: =SUMIFS(Felújítás!$E$12:$E$97,Felújítás!$I$12:$I$97,C$5,Felújítás!$F$12:$F$97,$A26) -> 58300 | D26: =SUMIFS(Felújítás!$E$12:$E$97,Felújítás!$I$12:$I$97,D$5,Felújítás!$F$12:$F$97,$A26) -> 0 | E26: =SUMIFS(Felújítás!$E$12:$E$97,Felújítás!$I$12:$I$97,E$5,Felújítás!$F$12:$F$97,$A26) -> 0
A27: Forrás átcsoportosítás - BD** | C27: =SUMIFS(Felújítás!$E$12:$E$97,Felújítás!$I$12:$I$97,C$5,Felújítás!$F$12:$F$97,$A27) -> 0 | D27: =SUMIFS(Felújítás!$E$12:$E$97,Felújítás!$I$12:$I$97,D$5,Felújítás!$F$12:$F$97,$A27) -> 0 | E27: =SUMIFS(Felújítás!$E$12:$E$97,Felújítás!$I$12:$I$97,E$5,Felújítás!$F$12:$F$97,$A27) -> 0
A28: Forrás átcsoportosítás - VK** | C28: =SUMIFS(Felújítás!$E$12:$E$97,Felújítás!$I$12:$I$97,C$5,Felújítás!$F$12:$F$97,$A28) -> 0 | D28: =SUMIFS(Felújítás!$E$12:$E$97,Felújítás!$I$12:$I$97,D$5,Felújítás!$F$12:$F$97,$A28) -> 0 | E28: =SUMIFS(Felújítás!$E$12:$E$97,Felújítás!$I$12:$I$97,E$5,Felújítás!$F$12:$F$97,$A28) -> 0
A29: Üzemeltetői előleg | C29: =SUMIFS(Felújítás!$E$12:$E$97,Felújítás!$I$12:$I$97,C$5,Felújítás!$F$12:$F$97,$A29) -> 0 | D29: =SUMIFS(Felújítás!$E$12:$E$97,Felújítás!$I$12:$I$97,D$5,Felújítás!$F$12:$F$97,$A29) -> 0 | E29: =SUMIFS(Felújítás!$E$12:$E$97,Felújítás!$I$12:$I$97,E$5,Felújítás!$F$12:$F$97,$A29) -> 0
A30: Lakossági önerő | C30: =SUMIFS(Felújítás!$E$12:$E$97,Felújítás!$I$12:$I$97,C$5,Felújítás!$F$12:$F$97,$A30) -> 0 | D30: =SUMIFS(Felújítás!$E$12:$E$97,Felújítás!$I$12:$I$97,D$5,Felújítás!$F$12:$F$97,$A30) -> 0 | E30: =SUMIFS(Felújítás!$E$12:$E$97,Felújítás!$I$12:$I$97,E$5,Felújítás!$F$12:$F$97,$A30) -> 0
A31: Önkormányzati forrás | C31: =SUMIFS(Felújítás!$E$12:$E$97,Felújítás!$I$12:$I$97,C$5,Felújítás!$F$12:$F$97,$A31) -> 0 | D31: =SUMIFS(Felújítás!$E$12:$E$97,Felújítás!$I$12:$I$97,D$5,Felújítás!$F$12:$F$97,$A31) -> 0 | E31: =SUMIFS(Felújítás!$E$12:$E$97,Felújítás!$I$12:$I$97,E$5,Felújítás!$F$12:$F$97,$A31) -> 0
A32: Pályázati forrás | C32: =SUMIFS(Felújítás!$E$12:$E$97,Felújítás!$I$12:$I$97,C$5,Felújítás!$F$12:$F$97,$A32) -> 0 | D32: =SUMIFS(Felújítás!$E$12:$E$97,Felújítás!$I$12:$I$97,D$5,Felújítás!$F$12:$F$97,$A32) -> 25000 | E32: =SUMIFS(Felújítás!$E$12:$E$97,Felújítás!$I$12:$I$97,E$5,Felújítás!$F$12:$F$97,$A32) -> 0
A33: Tervezett felújítás, pótlás felhasználás összesen | C33: =SUM(C23:C32) -> 58333 | D33: =SUM(D23:D32) -> 74000 | E33: =SUM(E23:E32) -> 165000
A35: Beruházás
A36: Bérleti díj | C36: =SUMIFS(Beruházás!$E$12:$E$125,Beruházás!$I$12:$I$125,C$5,Beruházás!$F$12:$F$125,$A36) -> 33 | D36: =SUMIFS(Beruházás!$E$12:$E$125,Beruházás!$I$12:$I$125,D$5,Beruházás!$F$12:$F$125,$A36) -> 0 | E36: =SUMIFS(Beruházás!$E$12:$E$125,Beruházás!$I$12:$I$125,E$5,Beruházás!$F$12:$F$125,$A36) -> 0
A37: VK elsz. értékcsökkenés * | C37: =SUMIFS(Beruházás!$E$12:$E$125,Beruházás!$I$12:$I$125,C$5,Beruházás!$F$12:$F$125,$A37) -> 0 | D37: =SUMIFS(Beruházás!$E$12:$E$125,Beruházás!$I$12:$I$125,D$5,Beruházás!$F$12:$F$125,$A37) -> 0 | E37: =SUMIFS(Beruházás!$E$12:$E$125,Beruházás!$I$12:$I$125,E$5,Beruházás!$F$12:$F$125,$A37) -> 0
A38: Víziközmű-fejlesztési hozzájárulás*** | C38: =SUMIFS(Beruházás!$E$12:$E$125,Beruházás!$I$12:$I$125,C$5,Beruházás!$F$12:$F$125,$A38) -> 0 | D38: =SUMIFS(Beruházás!$E$12:$E$125,Beruházás!$I$12:$I$125,D$5,Beruházás!$F$12:$F$125,$A38) -> 0 | E38: =SUMIFS(Beruházás!$E$12:$E$125,Beruházás!$I$12:$I$125,E$5,Beruházás!$F$12:$F$125,$A38) -> 0
A39: Fenntartási összeg**** | C39: =SUMIFS(Beruházás!$E$12:$E$125,Beruházás!$I$12:$I$125,C$5,Beruházás!$F$12:$F$125,$A39) -> 30000 | D39: =SUMIFS(Beruházás!$E$12:$E$125,Beruházás!$I$12:$I$125,D$5,Beruházás!$F$12:$F$125,$A39) -> 0 | E39: =SUMIFS(Beruházás!$E$12:$E$125,Beruházás!$I$12:$I$125,E$5,Beruházás!$F$12:$F$125,$A39) -> 0
A40: Forrás átcsoportosítás - BD** | C40: =SUMIFS(Beruházás!$E$12:$E$125,Beruházás!$I$12:$I$125,C$5,Beruházás!$F$12:$F$125,$A40) -> 0 | D40: =SUMIFS(Beruházás!$E$12:$E$125,Beruházás!$I$12:$I$125,D$5,Beruházás!$F$12:$F$125,$A40) -> 0 | E40: =SUMIFS(Beruházás!$E$12:$E$125,Beruházás!$I$12:$I$125,E$5,Beruházás!$F$12:$F$125,$A40) -> 0
A41: Forrás átcsoportosítás - VK** | C41: =SUMIFS(Beruházás!$E$12:$E$125,Beruházás!$I$12:$I$125,C$5,Beruházás!$F$12:$F$125,$A41) -> 0 | D41: =SUMIFS(Beruházás!$E$12:$E$125,Beruházás!$I$12:$I$125,D$5,Beruházás!$F$12:$F$125,$A41) -> 0 | E41: =SUMIFS(Beruházás!$E$12:$E$125,Beruházás!$I$12:$I$125,E$5,Beruházás!$F$12:$F$125,$A41) -> 0
A42: Üzemeltetői előleg | C42: =SUMIFS(Beruházás!$E$12:$E$125,Beruházás!$I$12:$I$125,C$5,Beruházás!$F$12:$F$125,$A42) -> 0 | D42: =SUMIFS(Beruházás!$E$12:$E$125,Beruházás!$I$12:$I$125,D$5,Beruházás!$F$12:$F$125,$A42) -> 0 | E42: =SUMIFS(Beruházás!$E$12:$E$125,Beruházás!$I$12:$I$125,E$5,Beruházás!$F$12:$F$125,$A42) -> 0
A43: Lakossági önerő | C43: =SUMIFS(Beruházás!$E$12:$E$125,Beruházás!$I$12:$I$125,C$5,Beruházás!$F$12:$F$125,$A43) -> 0 | D43: =SUMIFS(Beruházás!$E$12:$E$125,Beruházás!$I$12:$I$125,D$5,Beruházás!$F$12:$F$125,$A43) -> 0 | E43: =SUMIFS(Beruházás!$E$12:$E$125,Beruházás!$I$12:$I$125,E$5,Beruházás!$F$12:$F$125,$A43) -> 0
A44: Önkormányzati forrás | C44: =SUMIFS(Beruházás!$E$12:$E$125,Beruházás!$I$12:$I$125,C$5,Beruházás!$F$12:$F$125,$A44) -> 0 | D44: =SUMIFS(Beruházás!$E$12:$E$125,Beruházás!$I$12:$I$125,D$5,Beruházás!$F$12:$F$125,$A44) -> 0 | E44: =SUMIFS(Beruházás!$E$12:$E$125,Beruházás!$I$12:$I$125,E$5,Beruházás!$F$12:$F$125,$A44) -> 0
A45: Pályázati forrás | C45: =SUMIFS(Beruházás!$E$12:$E$125,Beruházás!$I$12:$I$125,C$5,Beruházás!$F$12:$F$125,$A45) -> 0 | D45: =SUMIFS(Beruházás!$E$12:$E$125,Beruházás!$I$12:$I$125,D$5,Beruházás!$F$12:$F$125,$A45) -> 0 | E45: =SUMIFS(Beruházás!$E$12:$E$125,Beruházás!$I$12:$I$125,E$5,Beruházás!$F$12:$F$125,$A45) -> 0
...
