Workbook

Sheet Záradék
A1: PÓTMUNKA
A4: „Martfű Óvárosában csapadékvíz elvezetési munkák elvégzése a TOP_PLUSZ-1.2.1-21-JN1-2022-00026 azonosítószámú projekt keretében”
A9: Megrendelő:
A10: Martfű Város Önkormányzata
A11: H-5435 Martfű, Szent István tér 1.
A12: Adószám:15733012-2-16
A14: Kivitelező: KRI-ÚT Mérnöki és Szolgáltató Kft.
A15: 6000 Kecskemét, Mályva utca 19.
A16: Adószám:27542570-2-03
A18: A munka leírása:
A19: Martfű Óváros
A20: Veres Péter, Móra Ferenc, Zrínyi Miklós utcák csapadékvíz elvezetés - Pótmunkák
A22: Költségvetés főösszesítő
A23: Megnevezés | C23: Anyagköltség | D23: Díjköltség
A24: 1. Építmény közvetlen költségei- Móra F. u. | C24: =Pótmunka!H13 -> 1807990 | D24: =Pótmunka!I13 -> 1738725
A25: 1. Építmény közvetlen költségei - Veres P. u. | C25: =Pótmunka!H22 -> 731160 | D25: =Pótmunka!I22 -> 601900
A26: 1. Építmény közvetlen költségei - Zrínyi u. | C26: =Pótmunka!H26 -> 214000 | D26: =Pótmunka!I26 -> 116000
A27: =[1]Összesítő!A11 -> Egyéb járulékos munkák | C27: =ROUND([1]Összesítő!B11,0) -> 0 | D27: 0
A28: 1.1 Közvetlen önköltség összesen | C28: =ROUND(C24+C27+C25+C26,0) -> 2753150 | D28: =ROUND(D24+D27+D25+D26,0) -> 2456625
A29: 2.1 ÁFA vetítési alap | C29: =ROUND(C28+D28,0) -> 5209775
A30: 2.2 Áfa | B30: 0.27 | C30: =ROUND(C29*B30,0) -> 1406639
A31: 3. A munka ára | C31: =ROUND(C29+C30,0) -> 6616414
A34: Kelt.: Kecskemét, 2026.03.25.
B35: Aláírás

Sheet Pótmunka
A1: Veres Péter, Móra Ferenc, Zrínyi Miklós utcák csapadékvíz elvezetés - Pótmunkák
A2: Ssz. | B2: Tételszám | C2: Tétel szövege | D2: Menny. | E2: Egység | F2: Anyag egységár | G2: Díj egységre | H2: Anyag összesen | I2: Díj összesen
A4: Móra F. utca
A5: 1 | B5: K | C5: Útpadka folyóka elemek bontása | D5: =8+5+5+3+3+3+6+3+4+4 -> 44 | E5: m | F5: 0 | G5: 12000 | H5: =ROUND(D5*F5, 0) -> 0 | I5: =ROUND(D5*G5, 0) -> 528000
A6: 2 | B6: 61-002-1.1-0130232 | C6: Mechanikailag stabilizált alapréteg készítése csatorna nyomvonal helyre állítása során, Z063 (régi: M56) jelű, 15-25 cm vastagságban Útépítési zúzottkő, Z063 Colas-Északkő, Tarcal | D6: =8*3*0.2 -> 4.8 | E6: m3 | F6: 22500 | G6: 12500 | H6: =ROUND(D6*F6, 0) -> 108000 | I6: =ROUND(D6*G6, 0) -> 60000
A7: 3 | B7: 21-004-4.1.2-0120015 | C7: Talajjavító réteg készítése vonalas létesítményeknél, 3,00 m szélességig vagy építményen belül, osztályozatlan kavicsból Nyers homokos kavics, NHK 0/63 Q-TT, Nyékládháza | D7: =D8*0.2 -> 9.3 | E7: m3 | F7: 11800 | G7: 4250 | H7: =ROUND(D7*F7, 0) -> 109740 | I7: =ROUND(D7*G7, 0) -> 39525
A8: 4 | B8: 61-011-1-0235391 | C8: Meglévő szilárd burkolatú ingatlan bejárók eredeti állapotnak megfelelő helyre állítása (aszfalt, beton, térkő) burkolatok visszaépítésével, a nyomvonal szélességében | D8: =5*1.5+5*1.5+3*1.5+3*1.5+3*3+6*1.5+3*1.5 -> 46.5 | E8: m2 | F8: 8500 | G8: 6400 | H8: =ROUND(D8*F8, 0) -> 395250 | I8: =ROUND(D8*G8, 0) -> 297600
A9: 5 | B9: 53-006-1.1-0231740 | C9: Akna vagy akna jellegű műtárgy építése | D9: 5 | E9: db | F9: 42000 | G9: 22500 | H9: =ROUND(D9*F9, 0) -> 210000 | I9: =ROUND(D9*G9, 0) -> 112500
A10: 6 | B10: 53-007-8.2.1-0412102 | C10: Öntöttvas víznyelőrács elhelyezése, cementhabarcs rögzítéssel, köralakú kivitel ∅ 600 méretben d=600 D400 kerek | D10: 5 | E10: db | F10: 65000 | G10: 35500 | H10: =ROUND(D10*F10, 0) -> 325000 | I10: =ROUND(D10*G10, 0) -> 177500
A11: 7 | B11: 21-004-6.2 | C11: Padkarendezés gépi erővel, kiegészítő kézi munkával, I-IV. oszt. talajban, vastagság 10,1-20,0 cm között | D11: =12*3 -> 36 | E11: m2 | F11: 0 | G11: 2200 | H11: =ROUND(D11*F11, 0) -> 0 | I11: =ROUND(D11*G11, 0) -> 79200
A12: 8 | B12: 21-011-11.3 | C12: Építési törmelék és bontási hulladék (földanyag, beton, bontott aszfalt) elszállítása, lerakása, lerakóhelyi díjjal, 15 km-es körzetbe | D12: 44 | E12: m3 | F12: 15000 | G12: 10100 | H12: =ROUND(D12*F12, 0) -> 660000 | I12: =ROUND(D12*G12, 0) -> 444400
A13: Móra F. utca nettó összesen: | H13: =SUM(H5:H12) -> 1807990 | I13: =SUM(I5:I12) -> 1738725
A14: Veres P. utca
A15: 1 | B15: K | C15: Útpadka folyóka elemek bontása | D15: 14 | E15: m | F15: 0 | G15: 12000 | H15: =ROUND(D15*F15, 0) -> 0 | I15: =ROUND(D15*G15, 0) -> 168000
A16: 2 | B16: 61-002-1.1-0130232 | C16: Mechanikailag stabilizált alapréteg készítése csatorna nyomvonal helyre állítása során, Z063 (régi: M56) jelű, 15-25 cm vastagságban Útépítési zúzottkő, Z063 Colas-Északkő, Tarcal | D16: =10*3*0.2 -> 6 | E16: m3 | F16: 22500 | G16: 12500 | H16: =ROUND(D16*F16, 0) -> 135000 | I16: =ROUND(D16*G16, 0) -> 75000
A17: 3 | B17: 61-011-1-0235391 | C17: Meglévő szilárd burkolatú ingatlan bejárók eredeti állapotnak megfelelő helyre állítása (aszfalt, beton, térkő) burkolatok visszaépítésével, a nyomvonal szélességében | D17: =4*1.5 -> 6 | E17: m2 | F17: 8500 | G17: 6400 | H17: =ROUND(D17*F17, 0) -> 51000 | I17: =ROUND(D17*G17, 0) -> 38400
A18: 4 | B18: 21-004-4.1.2-0120015 | C18: Talajjavító réteg készítése vonalas létesítményeknél, 3,00 m szélességig vagy építményen belül, osztályozatlan kavicsból Nyers homokos kavics, NHK 0/63 Q-TT, Nyékládháza | D18: =D17*0.2 -> 1.2 | E18: m3 | F18: 11800 | G18: 4250 | H18: =ROUND(D18*F18, 0) -> 14160 | I18: =ROUND(D18*G18, 0) -> 5100
A19: 5 | B19: 53-006-1.1-0231740 | C19: Akna vagy akna jellegű műtárgy építése | D19: 3 | E19: db | F19: 42000 | G19: 22500 | H19: =ROUND(D19*F19, 0) -> 126000 | I19: =ROUND(D19*G19, 0) -> 67500
A20: 6 | B20: 53-007-8.2.1-0412102 | C20: Öntöttvas víznyelőrács elhelyezése, cementhabarcs rögzítéssel, köralakú kivitel ∅ 600 méretben d=600 D400 kerek | D20: 3 | E20: db | F20: 65000 | G20: 35500 | H20: =ROUND(D20*F20, 0) -> 195000 | I20: =ROUND(D20*G20, 0) -> 106500
A21: 7 | B21: 21-011-11.3 | C21: Építési törmelék és bontási hulladék (földanyag, beton, bontott aszfalt) elszállítása, lerakása, lerakóhelyi díjjal, 15 km-es körzetbe | D21: 14 | E21: m3 | F21: 15000 | G21: 10100 | H21: =ROUND(D21*F21, 0) -> 210000 | I21: =ROUND(D21*G21, 0) -> 141400
A22: Veres P. utca nettó összesen: | H22: =SUM(H15:H21) -> 731160 | I22: =SUM(I15:I21) -> 601900
A23: Zrínyi u.
A24: 1 | B24: 53-006-1.1-0231740 | C24: Akna vagy akna jellegű műtárgy építése | D24: 2 | E24: db | F24: 42000 | G24: 22500 | H24: =ROUND(D24*F24, 0) -> 84000 | I24: =ROUND(D24*G24, 0) -> 45000
A25: 2 | B25: 53-007-8.2.1-0412102 | C25: Öntöttvas víznyelőrács elhelyezése, cementhabarcs rögzítéssel, köralakú kivitel ∅ 600 méretben d=600 D400 kerek | D25: 2 | E25: db | F25: 65000 | G25: 35500 | H25: =ROUND(D25*F25, 0) -> 130000 | I25: =ROUND(D25*G25, 0) -> 71000
A26: Zrínyi utca nettó összesen: | H26: =SUM(H24:H25) -> 214000 | I26: =SUM(I24:I25) -> 116000
C27: Anyag+díj: | H27: =H26+H13+H22 -> 2753150 | I27: =I26+I13+I22 -> 2456625
C28: Nettó ajánlati ár összesen (Ft): | H28: =SUM(H27:I27) -> 5209775
