Workbook

Sheet Munka1
A1: Gördülő fejlesztési terv a 2018 - 2032 időszakra
A2: BERUHÁZÁSOK ÖSSZEFOGLALÓ TÁBLÁZATA
A3: A tervet benyújtó szervezet megnevezése: | D3: BÁCSVÍZ Víz- és Csatornaszolgáltató Zártkörűen működő Részvénytársaság | J3: ellátásért felelős / ellátásért felelősök képviselője / víziközmű-szolgáltató *
A4: Víziközmű-szolgáltató megnevezése: | D4: BÁCSVÍZ Víz- és Csatornaszolgáltató Zártkörűen működő Részvénytársaság
A5: Víziközmű-szolgáltatási ágazat megnevezése: | D5: Vízszolgáltatás
A6: A Vksztv. 11. § (4) bekezdés szerinti véleményező fél megnevezése: | D6: Martfű Város Önkormányzata
A7: Víziközmű-rendszer kódja: ** | D7: 11-02626-1-001-00-06
A9: Fontossági sorrend | B9: Beruházás megnevezése | C9: Vízjogi létesítési/elvi engedély száma | D9: Az érintett ellátásért felelős(ök) megnevezése | E9: Tervezett nettó költség | G9: Forrás megnevezése | H9: Megvalósítás várható időtartama | J9: Tervezett időtáv | K9: A beruházás ütemezése a tervezési időszak évei szerint
E10: (eFt) | H10: Kezdés | I10: Befejezés | J10: (rövid / közép / hosszú) | K10: 1 | L10: 2 | M10: 3 | N10: 4 | O10: 5 | P10: 6 | Q10: 7 | R10: 8 | S10: 9 | T10: 10 | U10: 11 | V10: 12 | W10: 13 | X10: 14 | Y10: 15
A12: 1. | B12: Martfű "Ófalu" 2. vasút alatti átkötés kiépítése D150 méretben tervezés | C12: - | D12: Martfű Város Önkormányzata | E12: =F12 -> 650 | F12: 650 | G12: bérleti díj | H12: 2018 | I12: 2018 | J12: rövid | K12: X
A13: 2. | B13: Kassák Lajos út körkörösítése Móricz Zs. úttal. | C13: - | D13: Martfű Város Önkormányzata | F13: 1700 | G13: bérleti díj | H13: 2018 | I13: 2018 | J13: rövid | K13: X
A14: 3. | B14: Martfű "Ófalu" 2. vasút alatti átkötés kiépítése D150 méretben kivitelezés | C14: - | D14: Martfű Város Önkormányzata | E14: =F14 -> 7000 | F14: 7000 | G14: bérleti díj | H14: 2019 | I14: 2022 | J14: közép | L14: x
A15: * a megfelelő szövegrészt aláhúzással kell jelölni
A16: ** a Hivatal által a működési engedélyben megállapított VKR-kód

Sheet Munka2
A2: Forrás megnevezése | B2: I. ütem | C2: II. ütem | D2: III. ütem
B3: rövid | C3: közép | D3: hosszú
A4: bérleti díj | B4: 2350 | C4: =SUMIFS(Munka1!$E$12:$E$20,Munka1!$J$12:$J$20,C$3,Munka1!$G$12:$G$20,$A4) -> 7000 | D4: =SUMIFS(Munka1!$E$12:$E$20,Munka1!$J$12:$J$20,D$3,Munka1!$G$12:$G$20,$A4) -> 0
A5: Önkormányzati forrás | B5: =SUMIFS(Munka1!$E$12:$E$20,Munka1!$J$12:$J$20,B$3,Munka1!$G$12:$G$20,$A5) -> 0 | C5: =SUMIFS(Munka1!$E$12:$E$20,Munka1!$J$12:$J$20,C$3,Munka1!$G$12:$G$20,$A5) -> 0 | D5: =SUMIFS(Munka1!$E$12:$E$20,Munka1!$J$12:$J$20,D$3,Munka1!$G$12:$G$20,$A5) -> 0
A6: Fejlesztési hányad | B6: =SUMIFS(Munka1!$E$12:$E$20,Munka1!$J$12:$J$20,B$3,Munka1!$G$12:$G$20,$A6) -> 0 | C6: =SUMIFS(Munka1!$E$12:$E$20,Munka1!$J$12:$J$20,C$3,Munka1!$G$12:$G$20,$A6) -> 0 | D6: =SUMIFS(Munka1!$E$12:$E$20,Munka1!$J$12:$J$20,D$3,Munka1!$G$12:$G$20,$A6) -> 0
A7: Lakossági hozzájárulás | B7: =SUMIFS(Munka1!$E$12:$E$20,Munka1!$J$12:$J$20,B$3,Munka1!$G$12:$G$20,$A7) -> 0 | C7: =SUMIFS(Munka1!$E$12:$E$20,Munka1!$J$12:$J$20,C$3,Munka1!$G$12:$G$20,$A7) -> 0 | D7: =SUMIFS(Munka1!$E$12:$E$20,Munka1!$J$12:$J$20,D$3,Munka1!$G$12:$G$20,$A7) -> 0
A8: Pályázat | B8: =SUMIFS(Munka1!$E$12:$E$20,Munka1!$J$12:$J$20,B$3,Munka1!$G$12:$G$20,$A8) -> 0 | C8: =SUMIFS(Munka1!$E$12:$E$20,Munka1!$J$12:$J$20,C$3,Munka1!$G$12:$G$20,$A8) -> 0 | D8: =SUMIFS(Munka1!$E$12:$E$20,Munka1!$J$12:$J$20,D$3,Munka1!$G$12:$G$20,$A8) -> 0
A9: Összesen | B9: =SUM(B4:B8) -> 2350 | C9: =SUM(C4:C8) -> 7000 | D9: =SUM(D4:D8) -> 0
A10: Mindösszesen: | B10: =SUM(B9:D9) -> 9350
A12: Összes tervezett költség: | D12: =SUM(Munka1!F12:F20) -> 9350
A13: Forrás pontosítás: | D13: =+D12-B10 -> 0
