Workbook
Name Print_Area_0: '1.'!$A$1:$E$157
Name Print_Area_0: '10.'!$A$1:$I$11
Name Print_Area_0: '11.'!$A$1:$C$38
Name Print_Area_0: '12.'!$A$1:$G$157
Name Print_Area_0: '13.'!$A$1:$F$107
Name Print_Area_0: '2.'!$A$1:$Z$29
Name Print_Area_0: '3.'!$A$1:$F$36
Name Print_Area_0: '4.'!$A$1:$W$33
Name Print_Area_0: '5.'!$B$1:$G$164
Name Print_Area_0: '6.'!$A$1:$H$18
Name Print_Area_0: '7.'!$A$1:$J$44
Name Print_Area_0: '9.'!$A$1:$H$69
Name Print_Area_0_0: '1.'!$A$1:$E$157
Name Print_Area_0_0: '10.'!$A$1:$I$11
Name Print_Area_0_0: '11.'!$A$1:$C$38
Name Print_Area_0_0: '12.'!$A$1:$G$157
Name Print_Area_0_0: '13.'!$A$1:$F$107
Name Print_Area_0_0: '2.'!$A$1:$Z$29
Name Print_Area_0_0: '3.'!$A$1:$F$36
Name Print_Area_0_0: '4.'!$A$1:$W$33
Name Print_Area_0_0: '5.'!$B$1:$G$164
Name Print_Area_0_0: '6.'!$A$1:$H$18
Name Print_Area_0_0: '7.'!$A$1:$J$44
Name Print_Area_0_0: '9.'!$A$1:$H$69
Name Print_Area_0_0_0: '1.'!$A$1:$E$157
Name Print_Area_0_0_0: '10.'!$A$1:$I$11
Name Print_Area_0_0_0: '11.'!$A$1:$C$38
Name Print_Area_0_0_0: '12.'!$A$1:$G$157
Name Print_Area_0_0_0: '13.'!$A$1:$F$107
Name Print_Area_0_0_0: '2.'!$A$1:$Z$29
Name Print_Area_0_0_0: '3.'!$A$1:$F$36
Name Print_Area_0_0_0: '4.'!$A$1:$W$33
Name Print_Area_0_0_0: '5.'!$B$1:$G$164
Name Print_Area_0_0_0: '6.'!$A$1:$H$18
Name Print_Area_0_0_0: '7.'!$A$1:$J$44
Name Print_Area_0_0_0: '9.'!$A$1:$H$69
Name Print_Area_0_0_0_0: '1.'!$A$1:$E$157
Name Print_Area_0_0_0_0: '10.'!$A$1:$I$11
Name Print_Area_0_0_0_0: '11.'!$A$1:$C$38
Name Print_Area_0_0_0_0: '12.'!$A$1:$G$157
Name Print_Area_0_0_0_0: '13.'!$A$1:$F$107
Name Print_Area_0_0_0_0: '2.'!$A$1:$Z$29
Name Print_Area_0_0_0_0: '3.'!$A$1:$F$36
Name Print_Area_0_0_0_0: '4.'!$A$1:$W$33
Name Print_Area_0_0_0_0: '5.'!$B$1:$G$164
Name Print_Area_0_0_0_0: '6.'!$A$1:$H$18
Name Print_Area_0_0_0_0: '7.'!$A$1:$J$44
Name Print_Area_0_0_0_0: '9.'!$A$1:$H$69
Name Print_Area_0_0_0_0_0: '1.'!$A$1:$E$157
Name Print_Area_0_0_0_0_0: '10.'!$A$1:$I$11
Name Print_Area_0_0_0_0_0: '11.'!$A$1:$C$38
Name Print_Area_0_0_0_0_0: '12.'!$A$1:$G$157
Name Print_Area_0_0_0_0_0: '13.'!$A$1:$F$107
Name Print_Area_0_0_0_0_0: '2.'!$A$1:$Z$29
Name Print_Area_0_0_0_0_0: '3.'!$A$1:$F$36
Name Print_Area_0_0_0_0_0: '4.'!$A$1:$W$33
Name Print_Area_0_0_0_0_0: '5.'!$B$1:$G$164
Name Print_Area_0_0_0_0_0: '6.'!$A$1:$H$18
Name Print_Area_0_0_0_0_0: '7.'!$A$1:$J$44
Name Print_Area_0_0_0_0_0: '9.'!$A$1:$H$69

Sheet 1.
A1: Az önkormányzat 2025. évi bevételei
A4: Bevételi jogcímek megnevezése | B4: 2025. évi eredeti előirányzat e Ft | C4: 2025.évi módosított előirányzat e Ft | D4: 2025. évi Teljesítés e Ft | E4: Teljesítés %-a
A5: 1. Működési célú támogatások ÁHT-on belűlről (B1)
A6: 1.1. Települési önkormányzatok működésének általános támogatása
A7: 1.1.1.1. Önkormányzati hivatal működésének támogatása
A8: 12 havi összeg elismert hivatali létszám alapján | B8: 135788000 | C8: 152939000 | D8: 152939000 | E8: =D8/C8 -> 1
A9: 1.1.1.2. Zöldterület-gazd. kapcs.feladat ellátás támogatása | B9: 8029000 | C9: 8029000 | D9: 8029000 | E9: =D9/C9 -> 1
A10: 1.1.1.3.1. Közvilágítás alaptámogatása | B10: 10687000 | C10: 10687000 | D10: 10687000 | E10: =D10/C10 -> 1
A11: 1.1.1.3.2. Közvilágítás üzemeltetési támogatás | B11: 5910000 | C11: 4990000 | D11: 4990000 | E11: =D11/C11 -> 1
A12: 1.1.1.4. Köztemető fenntartásával kapcsolatos feladatok támogatása | B12: 100000 | C12: 100000 | D12: 100000 | E12: =D12/C12 -> 1
A13: 1.1.1.5. Közutak fenntartás támogatása | B13: 7538000 | C13: 7538000 | D13: 7538000 | E13: =D13/C13 -> 1
A14: 1.1.1.6. Egyéb önkormányzati feladatok támogatása | B14: 16640000 | C14: 16640000 | D14: 16640000 | E14: =D14/C14 -> 1
A15: 1.1.1.7. Lakott külterülettel kapcsolatos feladatok támogatása | B15: 107000 | C15: 107000 | D15: 107000 | E15: =D15/C15 -> 1
A16: 1.1.5. Közvilágítás kiegészítő támogatása | E16: 0
A17: Általános feladatok, támogatások összesen 12 havi | B17: =SUM(B8:B16) -> 184799000 | C17: =SUM(C8:C16) -> 201030000 | D17: =SUM(D8:D16) -> 201030000 | E17: =D17/C17 -> 1
A18: (Szolidaritási hozzájárulás K5 összege: 474 708 e Ft) | B18: 0 | C18: 0 | D18: 0
A19: 1.1.Települési önkormányzatok működésének általános támogatása összesen: | B19: =SUM(B17:B18) -> 184799000 | C19: =SUM(C17:C18) -> 201030000 | D19: =SUM(D17:D18) -> 201030000 | E19: =D19/C19 -> 1
A21: 1.2.A települési önkormányzatok egyes köznevelési feladatainak támogatása
A22: 1.2.1. Óvodaműködési támogatás | B22: 0 | C22: 0 | D22: 0 | E22: 0
A23: 1.2.1.1. Óvodaműködési támogatás-óvoda napi nyitvatartási ideje eléri a nyolc órát | B23: 26201000 | C23: 26201000 | D23: 26201000 | E23: =D23/C23 -> 1
A24: 1.2.1.3. Óvodaműködési támogatás-üzemeletési támogatás | B24: 0 | C24: 0 | D24: 0 | E24: 0
A25: 1.2.2. Óvodában foglalkoztatott pedagógusok átlagbér alapú támogatása | B25: 0 | C25: 0 | D25: 0 | E25: 0
A26: 1.2.2.1. Pedagógusok átlagbér alapú támogatása | B26: 142058000 | C26: 144342000 | D26: 144342000 | E26: =D26/C26 -> 1
A27: 1.2.3. Kiegészítő támogatás a pedagógusok és a ped.szakképzettséggel rendelkező segítők minősítéséből adódó többletkiadásokhoz
A28: 1.2.3.1.1.1.1. Pedagógus II.kat.sorolt ped.,ped.szakképz.rendelk.segítők kiegészítő tám. | B28: 6691000 | C28: 6343000 | D28: 6343000 | E28: =D28/C28 -> 1
A29: 1.2.3.1.1.1.2. Mesterpedagógus kat.sorolt ped.kiegészítő tám. | B29: 3241000 | C29: 3241000 | D29: 3241000 | E29: =D29/C29 -> 1
A30: 1.2.5. Óvodában foglalkoztatott pedagógusok nevelőmunkáját segítők átlagbér alapú támogatása
A31: 1.2.5.1.1. Ped.szakképzettséggel nem rendelkező segítők átlagbér alapú támogatása | B31: 57948000 | C31: 56368000 | D31: 56368000 | E31: =D31/C31 -> 1
B32: 0 | C32: 0 | D32: 0
A33: 1.2. A települési önkorm.egyes köznevelési feladatainak tám.összesen: | B33: =SUM(B23:B32) -> 236139000 | C33: =SUM(C23:C32) -> 236495000 | D33: =SUM(D22:D32) -> 236495000 | E33: =D33/C33 -> 1
A35: 1.3. A települési önkormányzatok egyes szociális és gyermekjóléti feladatainak támogatása
A36: 1.3.2. Egyes szociális és gyermekjóléti feladatok támogatása
A37: 1.3.2.1. Család-és gyermekjóléti szolgálat | B37: 7972000 | C37: 8568000 | D37: 8568000 | E37: =D37/C37 -> 1
A38: 1.3.2.3.1. Szociális étkeztetés | B38: 0 | C38: 0 | D38: 0 | E38: 0
A39: 1.3.2.4.1. Szociális segítségnyújtás | B39: 0 | C39: 0 | D39: 0 | E39: 0
A40: 1.3.2.6.1.Falugondnoki, vagy tanyagondnoki szolgáltatás | B40: 0 | C40: 0 | D40: 0 | E40: 0
A41: 1.3.2.6.1.Időskorúak nappali intézményi ellátása | B41: 0 | C41: 0 | D41: 0 | E41: 0
A42: 1.3.2. Egyes szociális és gyermekjóléti feladatok támogatása összesen: | B42: =B37 -> 7972000 | C42: =C37 -> 8568000 | D42: =SUM(D37:D41) -> 8568000 | E42: =D42/C42 -> 1
A44: 1.3.3. Bölcsőde, mini bölcsőde támogatása
A45: 1.3.3.1.1. Felsőfokú végzettségű kisgyermeknevelők szaktanácsadók bértámogatása | B45: 41188000 | C45: 44277000 | D45: 44277000 | E45: =D45/C45 -> 1
...

Sheet 2.
A3: Az Önkormányzat által irányított költségvetési szervek kiemelt költségvetési bevételi előirányzat 2025.év | O3: Az Önkormányzat által irányított költségvetési szervek kiemelt költségvetési bevételi előirányzat 2025.év
V6: Ezer Ft.
B7: Bevételi jogcím | C7: Gyermekjóléti és Szoc. SzK. | F7: Játékvár Óvoda és Bölcsőde | I7: Városi Művelődési Központ és Könyvtár | L7: Polgármesteri Hivatal | P7: Bevételi jogcím | Q7: Martfű Város Önkormányzata | T7: Önkormányzat mindösszesen
C8: Eredeti előirányzat | D8: Módosított előirányzat | E8: Teljesítés | F8: Eredeti előirányzat | G8: Módosított előirányzat | H8: Teljesítés | I8: Eredeti előirányzat | J8: Módosított előirányzat | K8: Teljesítés | L8: Eredeti előirányzat | M8: Módosított előirányzat | N8: Teljesítés | Q8: Eredeti előirányzat | R8: Módosított előirányzat | S8: Teljesítés | T8: Eredeti előirányzat | U8: Módosított előirányzat | V8: Teljesítés
A9: 1. | B9: Működési c. tám. ÁHT-n belülről (B1) | C9: 1705000 | D9: 7280000 | E9: 6840000 | F9: 3057000 | G9: 13091000 | H9: 13599000 | I9: 1672000 | J9: 17393000 | K9: 18103000 | O9: 1. | P9: Működési c. tám. ÁHT-n belülről (B1) | Q9: 663968000 | R9: 849694000 | S9: 826088000 | T9: =SUM(C9,F9,I9,L9,Q9) -> 670402000 | U9: =SUM(D9,G9,J9,M9,R9) -> 887458000 | V9: =SUM(E9,H9,K9,N9,S9,) -> 864630000
A10: 2. | B10: Felhalmozási célú támogatás ÁHT-on belűlről (B2) | I10: 0 | J10: 841000 | K10: 841000 | O10: 2. | P10: Felhalmozási célú támogatás ÁHT-on belűlről (B2) | Q10: 554997000 | R10: 554997000 | S10: 160899000 | T10: =SUM(C10,F10,I10,L10,Q10) -> 554997000 | U10: =SUM(D10,G10,J10,M10,R10) -> 555838000 | V10: =SUM(E10,H10,K10,N10,S10,) -> 161740000
A11: 3. | B11: Közhatalmi bevételek (B3) | L11: 0 | M11: 0 | N11: 50000 | O11: 3. | P11: Közhatalmi bevételek (B3) | Q11: =+'1.'!B111 -> 1350500000 | R11: =+'1.'!C111 -> 1226439000 | S11: 1180861000 | T11: =SUM(C11,F11,I11,L11,Q11) -> 1350500000 | U11: =SUM(D11,G11,J11,M11,R11) -> 1226439000 | V11: =SUM(E11,H11,K11,N11,S11,) -> 1180911000
A12: 4. | B12: Működési bevételek (B4) összesen | C12: =SUM(C14:C23) -> 82184000 | D12: =SUM(D14:D23) -> 83770000 | E12: =SUM(E13:E23) -> 87676263 | G12: =SUM(G13:G23) -> 0 | H12: =SUM(H13:H23) -> 1154000 | I12: =SUM(I13:I23) -> 19020000 | J12: =SUM(J13:J23) -> 23220000 | K12: =SUM(K13:K23) -> 30696124 | L12: =SUM(L13:L23) -> 1153000 | M12: =SUM(M13:M23) -> 1153000 | N12: =SUM(N13:N23) -> 1967000 | O12: 4. | P12: Működési bevételek (B4) összesen | Q12: =SUM(Q13:Q23) -> 240041000 | R12: =SUM(R13:R23) -> 249558000 | S12: =SUM(S13:S23) -> 310681000 | T12: =SUM(T13:T23) -> 342398000 | U12: =SUM(U13:U23) -> 357701000 | V12: =SUM(V13:V23) -> 432174387
B13: Áru- és készletértékesítés ellenértéke (B401) | K13: 0 | P13: Áru- és készletértékesítés ellenértéke (B401) | T13: =SUM(C13,F13,I13,L13,Q13) -> 0 | U13: =SUM(D13,G13,J13,M13,R13) -> 0 | V13: =SUM(E13,H13,K13,N13,S13) -> 0
B14: Szolgáltatások ellenértéke (B402) | C14: 2240000 | D14: 2240000 | E14: 4325000 | I14: 14240000 | J14: 17240000 | K14: 22688000 | L14: 1000000 | M14: 1000000 | N14: 455000 | P14: Szolgáltatások ellenértéke (B402) | Q14: 8489000 | R14: 8489000 | S14: 10869000 | T14: =SUM(C14,F14,I14,L14,Q14) -> 25969000 | U14: =SUM(D14,G14,J14,M14,R14) -> 28969000 | V14: =SUM(E14,H14,K14,N14,S14) -> 38337000
B15: Közvetített szolgáltatások ellenértéke (B403) | C15: 34000 | D15: 34000 | E15: 33000 | I15: 2000000 | J15: 2000000 | K15: 2007000 | L15: 120000 | M15: 120000 | N15: 68000 | P15: Közvetített szolgáltatások ellenértéke (B403) | Q15: 21609000 | R15: 21609000 | S15: 14886000 | T15: =C15+F15+I15+L15+Q15 -> 23763000 | U15: =SUM(D15,G15,J15,M15,R15) -> 23763000 | V15: =SUM(E15,H15,K15,N15,S15) -> 16994000
B16: Tulajdonosi bevételek (B404) | C16: 0 | N16: 1260000 | P16: Tulajdonosi bevételek (B404) | Q16: 63798000 | R16: 63798000 | S16: 74054000 | T16: =SUM(C16,F16,I16,L16,Q16) -> 63798000 | U16: =SUM(D16,G16,J16,M16,R16) -> 63798000 | V16: =SUM(E16,H16,K16,N16,S16) -> 75314000
B17: Ellátási díjak (B405) | C17: 62209000 | D17: 62209000 | E17: 61031000 | P17: Ellátási díjak (B405) | T17: =SUM(C17,F17,I17,L17,Q17) -> 62209000 | U17: =SUM(D17,G17,J17,M17,R17) -> 62209000 | V17: =SUM(E17,H17,K17,N17,S17) -> 61031000
B18: KiszámlázottÁFA (B406) | C18: 17101000 | D18: 17101000 | E18: 17294000 | H18: 0 | I18: 2780000 | J18: 3590000 | K18: 4236000 | L18: 33000 | M18: 33000 | N18: 18000 | P18: KiszámlázottÁFA (B406) | Q18: 6901000 | R18: 6901000 | S18: 15828000 | T18: =SUM(C18,F18,I18,L18,Q18) -> 26815000 | U18: =SUM(D18,G18,J18,M18,R18) -> 27625000 | V18: =SUM(E18,H18,K18,N18,S18) -> 37376000
B19: ÁFA visszatérítés (B407) | C19: 0 | D19: 1586000 | E19: 1749000 | I19: 0 | J19: 390000 | K19: 1441000 | P19: ÁFA visszatérítés (B407) | Q19: 34244000 | R19: 34244000 | S19: 0 | T19: =SUM(C19,F19,I19,L19,Q19) -> 34244000 | U19: =SUM(D19,G19,J19,M19,R19) -> 36220000 | V19: =SUM(E19,H19,K19,N19,S19) -> 3190000
B20: Kamatbevételek (B408) | C20: 0 | D20: 0 | E20: 368263 | K20: 124 | P20: Kamatbevételek (B408) | Q20: 100000000 | R20: 109517000 | S20: 175335000 | T20: =SUM(C20,F20,I20,L20,Q20) -> 100000000 | U20: =SUM(D20,G20,J20,M20,R20) -> 109517000 | V20: =E20+H20+K20+N20+S20 -> 175703387
B21: Egyéb pénzügyi műveletek (B409) | P21: Egyéb pénzügyi műveletek (B409) | T21: =SUM(C21,F21,I21,L21,Q21) -> 0 | U21: =SUM(D21,G21,J21,M21,R21) -> 0 | V21: =SUM(E21,H21,K21,N21,S21) -> 0
B22: Biztosító által fizetett kártérítés (B410) | P22: Biztosító által fizetett kártérítés (B410) | S22: 408000 | T22: =SUM(C22,F22,I22,L22,Q22) -> 0 | U22: =SUM(D22,G22,J22,M22,R22) -> 0 | V22: =SUM(E22,H22,K22,N22,S22) -> 408000
B23: Egyéb működési bevételek (B411) | C23: 600000 | D23: 600000 | E23: 2876000 | H23: 1154000 | K23: 324000 | L23: 0 | M23: 0 | N23: 166000 | P23: Egyéb működési bevételek (B411) | Q23: 5000000 | R23: 5000000 | S23: 19301000 | T23: =SUM(C23,F23,I23,L23,Q23) -> 5600000 | U23: =SUM(D23,G23,J23,M23,R23) -> 5600000 | V23: =SUM(E23,H23,K23,N23,S23) -> 23821000
A24: 5. | B24: Felhalmozási bevételek (B5) | E24: 0 | N24: 25000 | O24: 5. | P24: Felhalmozási bevételek (B5) | Q24: 3000000 | R24: 3000000 | S24: 7705000 | T24: =SUM(C24,F24,I24,L24,Q24) -> 3000000 | U24: =SUM(D24,G24,J24,M24,R24) -> 3000000 | V24: =SUM(E24,H24,K24,N24,S24) -> 7730000
A25: 6. | B25: Működési célú átvett pénzeszközök (B6) | J25: 0 | K25: 211000 | O25: 6. | P25: Működési célú átvett pénzeszközök (B6) | Q25: ='1.'!B138 -> 0 | S25: 758000 | T25: =SUM(C25,F25,I25,L25,Q25) -> 0 | U25: =SUM(D25,G25,J25,M25,R25) -> 0 | V25: =SUM(E25,H25,K25,N25,S25) -> 969000
A26: 7. | B26: Felhalmozási célú átvett pénzeszközök (B7) | O26: 7. | P26: Felhalmozási célú átvett pénzeszközök (B7) | Q26: ='1.'!B143 -> 3500000 | R26: ='1.'!C143 -> 3500000 | S26: ='1.'!D143 -> 2753000 | T26: =SUM(C26,F26,I26,L26,Q26) -> 3500000 | U26: =SUM(D26,G26,J26,M26,R26) -> 3500000 | V26: =SUM(E26,H26,K26,N26,S26) -> 2753000
B27: Költségvetési bevételek összesen (B1+…+B7) | C27: =SUM(C9:C12,C24:C26) -> 83889000 | D27: =SUM(D9:D12,D24:D26) -> 91050000 | E27: =SUM(E9:E12,E24:E26) -> 94516263 | F27: =SUM(F9:F12,F24:F26) -> 3057000 | G27: =SUM(G9:G12,G24:G26) -> 13091000 | H27: =SUM(H9:H12,H24:H26) -> 14753000 | I27: =SUM(I9:I12,I24:I26) -> 20692000 | J27: =SUM(J9:J12,J24:J26) -> 41454000 | ... N27: =SUM(N9:N12,N24:N26) -> 2042000 | P27: Költségvetési bevételek összesen (B1+…+B7) | Q27: =SUM(Q9:Q12,Q24:Q26) -> 2816006000 | R27: =SUM(R9:R12,R24:R26) -> 2887188000 | S27: =SUM(S9:S12,S24:S26) -> 2489745000 | T27: =SUM(T9:T12,T24:T26) -> 2924797000 | U27: =SUM(U9:U12,U24:U26) -> 3033936000 | V27: =SUM(V9:V12,V24:V26) -> 2650907387
A28: 8. | B28: Finanszírozási bevételek (B8) | C28: 0 | D28: 3857000 | E28: 3857000 | G28: 1044000 | H28: 1044000 | I28: 0 | J28: 2876000 | K28: 2876000 | L28: 0 | M28: 20000 | N28: 20000 | O28: 8. | P28: Finanszírozási bevételek (B8) | Q28: 2536320000 | R28: 3539794000 | S28: =3241014000+298780000 -> 3539794000 | T28: =SUM(C28,F28,I28,L28,Q28) -> 2536320000 | U28: =SUM(D28,G28,J28,M28,R28) -> 3547591000 | V28: =SUM(E28,H28,K28,N28,S28)+2000 -> 3547593000
B29: Önkormányzat és Intézményei Bevételek összesen:(B1+…+B8) | C29: =SUM(C27:C28) -> 83889000 | D29: =SUM(D27:D28) -> 94907000 | E29: =SUM(E27:E28) -> 98373263 | F29: =SUM(F27:F28) -> 3057000 | G29: =SUM(G27:G28) -> 14135000 | H29: =SUM(H27:H28) -> 15797000 | I29: =SUM(I27:I28) -> 20692000 | J29: =SUM(J27:J28) -> 44330000 | ... N29: =SUM(N27:N28) -> 2062000 | P29: Önkormányzat és Intézményei Bevételek összesen:(B1+…+B8) | Q29: =SUM(Q27:Q28) -> 5352326000 | R29: =SUM(R27:R28) -> 6426982000 | S29: =SUM(S27:S28) -> 6029539000 | T29: =SUM(T27:T28) -> 5461117000 | U29: =SUM(U27:U28) -> 6581527000 | V29: =SUM(V27:V28) -> 6198500387
T31: =+T29-'1.'!B154 -> 0 | U31: =+U29-'1.'!C154 -> 0

Sheet 3.
A3: Az önkormányzat 2025. évi költségvetési kiadásainak alakulása
F7: Ezer Ft.
A9: Feladatok megnevezése | C9: Eredeti előirányzat | D9: Módosított előirányzat | E9: Teljesítés | F9: Teljesítés %-a
A11: I. Működési, fenntartási kiadások
A12: Ebből:
B13: - személyi juttatás (K1) | C13: ='4.'!T10 -> 780301000 | D13: ='4.'!U10 -> 862713798 | E13: ='4.'!V10 -> 846688807 | F13: =(E13/D13) -> 0.9814249
B14: - munkáltatót terhelő járulék (K2) | C14: ='4.'!T11 -> 105948000 | D14: ='4.'!U11 -> 118155880 | E14: ='4.'!V11 -> 117505688 | F14: =(E14/D14) -> 0.99449717
B15: - dologi kiadások (K3) | C15: ='4.'!T12 -> 774693000 | D15: ='4.'!U12 -> 815767015 | E15: ='4.'!V12 -> 560405327 | F15: =(E15/D15) -> 0.68696738
B16: - ellátottak pénzbeli juttatása (K4) | C16: ='4.'!T13 -> 44073000 | D16: ='4.'!U13 -> 43873000 | E16: ='4.'!V13 -> 40748000 | F16: =(E16/D16) -> 0.92877168
B17: - egyéb működési célú kiadások (K5) | C17: ='4.'!T14 -> 504785000 | D17: ='4.'!U14 -> 549509000 | E17: ='4.'!V14 -> 549291000 | F17: =(E17/D17) -> 0.99960328
B18: - általános tartalék | C18: ='4.'!T15 -> 276580000 | D18: ='4.'!U15 -> 826955000 | E18: ='4.'!V15 -> 0 | F18: =(E18/D18) -> 0
B19: - céltartalék | C19: ='4.'!T16 -> 127508000 | D19: ='4.'!U16 -> 73508000 | E19: ='4.'!V16 -> 0 | F19: =(E19/D19) -> 0
A21: I. Működési, fenntartási kiadások összesen: | C21: =SUM(C13:C20) -> 2613888000 | D21: =SUM(D13:D20) -> 3290481693 | E21: =SUM(E13:E20) -> 2114638822 | F21: =(E21/D21) -> 0.64265327
A23: II. Felhalmozási kiadások
A24: Ebből:
B25: - beruházás (K6) | C25: ='4.'!T20 -> 2678503000 | D25: ='4.'!U20 -> 2808712000 | E25: ='4.'!V20 -> 5.8429079e+08 | F25: =(E25/D25) -> 0.20802802
B26: - felújítás (K7) | C26: ='4.'!T21 -> 116907000 | D26: ='4.'!U21 -> 158667000 | E26: ='4.'!V21 -> 94949249 | F26: =(E26/D26) -> 0.59841838
B27: - egyéb felh.kiadások (K8) | C27: ='4.'!T22 -> 10000000 | D27: ='4.'!U22 -> 10000000 | E27: ='4.'!V22 -> 3000000 | F27: =(E27/D27) -> 0.3
B28: -felhalmozási célú céltartalék | C28: ='4.'!T23 -> 20665000 | D28: ='4.'!U23 -> 20665000 | E28: ='4.'!V23 -> 0 | F28: 0
A29: II. Felhalmozási kiadások összesen: | C29: =SUM(C25:C28) -> 2826075000 | D29: =SUM(D25:D28) -> 2998044000 | E29: =SUM(E25:E28) -> 6.8224004e+08 | F29: =(E29/D29) -> 0.22756172
A31: I-II. Tárgy évi kiadások összesen: | C31: =SUM(C21,C29) -> 5439963000 | D31: =SUM(D21,D29) -> 6288525693 | E31: =SUM(E21,E29) -> 2.7968789e+09 | F31: =(E31/D31) -> 0.44475907
A33: III. | B33: Finanszírozási kiadások (K9)
B34: 2021.01. havi állami támog.megelől.visszafiz. | C34: ='4.'!T25 -> 21153870 | D34: ='4.'!U25 -> 293000938 | E34: ='4.'!V25 -> 293000938 | F34: =(E34/D34) -> 1
B36: Kiadások mindösszesen: | C36: =SUM(C31,C34) -> 5461116870 | D36: =SUM(D31,D34) -> 6581526631 | E36: =SUM(E31,E34) -> 3.0898798e+09 | F36: =(E36/D36) -> 0.46947767

Sheet 4.
A3: Az önkormányzat által irányított költségvetési szervek kiemelt költségvetési kiadási előirányzat 2025. év | O3: Az önkormányzat által irányított költségvetési szervek kiemelt költségvetési kiadási előirányzat 2025. év
V5: Ezer Ft.
B6: Feladatok megnevezése | C6: Gyermekjóléti és Szoc. SzK. | F6: Játékvár Óvoda és Bölcsőde | I6: Városi Művelődési Központ | L6: Polgármesteri Hivatal | P6: Feladatok megnevezése | Q6: Martfű Város Önkormányzata | T6: Önkormányzat mindösszesen
C7: Eredeti előirányzat | D7: Módosított előirányzat | E7: Teljesítés | F7: Eredeti előirányzat | G7: Módosított előirányzat | H7: Teljesítés | I7: Eredeti előirányzat | J7: Módosított előirányzat | K7: Teljesítés | L7: Eredeti előirányzat | M7: Módosított előirányzat | N7: Teljesítés | Q7: Eredeti előirányzat | R7: Módosított előirányzat | S7: Teljesítés | T7: Eredeti előirányzat | U7: Módosított előirányzat | V7: Teljesítés
B8: I. Működési, fenntartási kiadások | P8: I. Működési, fenntartási kiadások
B9: Ebből: | P9: Ebből:
A10: 1. | B10: Személyi juttatás (K1) | C10: 199179000 | D10: 205816400 | E10: 199823993 | F10: 288335000 | G10: 303917726 | H10: 301685911 | I10: 77040000 | J10: 91924072 | K10: 88690903 | L10: ='13.'!C29 -> 152466000 | M10: ='13.'!D29 -> 170296600 | N10: ='13.'!E29 -> 169296000 | O10: 1. | P10: Személyi juttatás (K1) | Q10: ='12.'!C30 -> 63281000 | R10: ='12.'!D30 -> 90759000 | S10: ='12.'!E30 -> 87192000 | T10: =SUM(C10,F10,I10,L10,Q10) -> 780301000 | U10: =SUM(D10,G10,J10,M10,R10) -> 862713798 | V10: =SUM(E10,H10,K10,N10,S10) -> 846688807
A11: 2. | B11: Munkáltatót terh.járulék (K2) | C11: 26031000 | D11: 27712236 | E11: 27642783 | F11: 42538000 | G11: 44190116 | H11: 43991074 | I11: 10401000 | J11: 12718528 | K11: 12718528 | L11: ='13.'!C35 -> 19431000 | M11: ='13.'!D35 -> 23390000 | N11: ='13.'!E35 -> 23390000 | O11: 2. | P11: Munkáltatót terh.járulék (K2) | Q11: ='12.'!C37 -> 7547000 | R11: ='12.'!D37 -> 10145000 | S11: ='12.'!E37 -> 9763303 | T11: =SUM(C11,F11,I11,L11,Q11) -> 105948000 | U11: =SUM(D11,G11,J11,M11,R11) -> 118155880 | V11: =SUM(E11,H11,K11,N11,S11) -> 117505688
A12: 3. | B12: Dologi kiadás (K3) | C12: 175251000 | D12: 184768855 | E12: 159193128 | F12: 26105000 | G12: 27149336 | H12: 22791031 | I12: 89017000 | J12: 99693824 | K12: 83903168 | L12: ='13.'!C76 -> 30415000 | M12: ='13.'!D76 -> 33236000 | N12: ='13.'!E76 -> 25887000 | O12: 3. | P12: Dologi kiadás (K3) | Q12: ='12.'!C79 -> 453905000 | R12: ='12.'!D79 -> 470919000 | S12: ='12.'!E79 -> 268631000 | T12: =SUM(C12,F12,I12,L12,Q12) -> 774693000 | U12: =SUM(D12,G12,J12,M12,R12) -> 815767015 | V12: =SUM(E12,H12,K12,N12,S12) -> 560405327
A13: 4. | B13: Ellátottak pénzbeli jutt. (K4) | H13: 0 | M13: 0 | N13: 0 | O13: 4. | P13: Ellátottak pénzbeli jutt. (K4) | Q13: ='12.'!C85 -> 44073000 | R13: ='12.'!D85 -> 43873000 | S13: ='12.'!E85 -> 40748000 | T13: =SUM(C13,F13,I13,L13,Q13) -> 44073000 | U13: =SUM(D13,G13,J13,M13,R13) -> 43873000 | V13: =SUM(E13,H13,K13,N13,S13) -> 40748000
A14: 5. | B14: Egyéb működési célú kiadások (K5) | O14: 5. | P14: Egyéb működési célú kiadások (K5) | Q14: ='12.'!C120 -> 504785000 | R14: ='12.'!D120 -> 549509000 | S14: ='12.'!E120 -> 549291000 | T14: =SUM(C14,F14,I14,L14,Q14) -> 504785000 | U14: =SUM(D14,G14,J14,M14,R14) -> 549509000 | V14: =SUM(E14,H14,K14,N14,S14) -> 549291000
A15: 6. | B15: - általános tartalék | I15: 0 | O15: 6. | P15: - általános tartalék | Q15: ='12.'!C123 -> 276580000 | R15: ='12.'!D123 -> 826955000 | T15: =SUM(C15,F15,I15,L15,Q15) -> 276580000 | U15: =SUM(D15,G15,J15,M15,R15) -> 826955000 | V15: =SUM(E15,H15,K15,N15,S15) -> 0
A16: 7. | B16: - céltartalék | I16: 0 | O16: 7. | P16: - céltartalék | Q16: ='12.'!C132 -> 127508000 | R16: ='12.'!D132 -> 73508000 | S16: ='12.'!E132 -> 0 | T16: =SUM(C16,F16,I16,L16,Q16) -> 127508000 | U16: =SUM(D16,G16,J16,M16,R16) -> 73508000 | V16: =SUM(E16,H16,K16,N16,S16) -> 0
B17: Működési és fennt. kiad. összesen: | C17: =SUM(C10:C16) -> 400461000 | D17: =SUM(D10:D16) -> 418297491 | E17: =SUM(E10:E16) -> 386659904 | F17: =SUM(F10:F16) -> 356978000 | G17: =SUM(G10:G16) -> 375257178 | H17: =SUM(H10:H16) -> 368468016 | I17: =SUM(I10:I16) -> 176458000 | J17: =SUM(J10:J16) -> 204336424 | ... N17: =SUM(N10:N16) -> 218573000 | P17: Működési és fennt. kiad. összesen: | Q17: =SUM(Q10:Q16) -> 1477679000 | R17: =SUM(R10:R16) -> 2065668000 | S17: =SUM(S10:S16) -> 955625303 | T17: =SUM(T10:T16) -> 2613888000 | U17: =SUM(U10:U16) -> 3290481693 | V17: =SUM(V10:V16) -> 2114638822
B18: II. Felhalmozási kiadások | P18: II. Felhalmozási kiadások | V18: =SUM(I18,L18,Q18,F18,C18) -> 0
B19: Ebből: | I19: 0 | P19: Ebből: | V19: =SUM(I19,L19,Q19,F19,C19) -> 0
A20: 8. | B20: Beruházás (K6) | C20: ='5.'!D118 -> 5151000 | D20: ='5.'!E118 -> 5277000 | E20: ='5.'!F118 -> 2212601.6 | F20: ='5.'!D96 -> 1790000 | G20: ='5.'!E96 -> 1790000 | H20: ='5.'!F96 -> 1068263 | I20: ='5.'!D109 -> 5139000 | J20: ='5.'!E109 -> 7945000 | K20: ='5.'!F109 -> 6927811.3 | L20: ='5.'!D88 -> 2000000 | M20: ='5.'!E88 -> 4164000 | N20: ='5.'!F88 -> 2286201.9 | O20: 8. | P20: Beruházás (K6) | Q20: ='5.'!D81 -> 2664423000 | R20: ='5.'!E81 -> 2789536000 | S20: ='5.'!F81 -> 5.7179591e+08 | T20: =SUM(C20,F20,I20,L20,Q20) -> 2678503000 | U20: =D20+G20+J20+M20+R20 -> 2808712000 | V20: =SUM(E20,H20,K20,N20,S20) -> 5.8429079e+08
A21: 9. | B21: Felújítás (K7) | D21: 0 | E21: 0 | L21: ='5.'!D146 -> 0 | M21: ='5.'!E146 -> 8000 | N21: ='5.'!F146 -> 7499.35 | O21: 9. | P21: Felújítás (K7) | Q21: ='5.'!D141 -> 116907000 | R21: ='5.'!E141 -> 158659000 | S21: ='5.'!F141 -> 94941750 | T21: =SUM(C21,F21,I21,L21,Q21) -> 116907000 | U21: =J21+R21+G21+M21 -> 158667000 | V21: =SUM(E21,H21,K21,N21,S21) -> 94949249
A22: 10. | B22: Egyéb felhalmozási célú kiadások (K8) | I22: 0 | O22: 10. | P22: Egyéb felhalmozási célú kiadások (K8) | Q22: ='5.'!D154 -> 10000000 | R22: ='5.'!E154 -> 10000000 | S22: =+'5.'!F153 -> 3000000 | T22: =SUM(C22,F22,I22,L22,Q22) -> 10000000 | U22: =SUM(D22,G22,J22,M22,R22) -> 10000000 | V22: =SUM(E22,H22,K22,N22,S22) -> 3000000
A23: 11. | B23: Felhalmozási célú céltartalék | O23: 11. | P23: Felhalmozási célú céltartalék | Q23: ='5.'!D159 -> 20665000 | R23: ='5.'!E159 -> 20665000 | S23: ='5.'!F159 -> 0 | T23: =SUM(C23,F23,I23,L23,Q23) -> 20665000 | U23: =SUM(D23,G23,J23,M23,R23) -> 20665000
B24: Felhalmozási kiadás összesen: | C24: =SUM(C20:C22) -> 5151000 | D24: =SUM(D20:D22) -> 5277000 | E24: =SUM(E20:E22) -> 2212601.6 | F24: =SUM(F20:F22) -> 1790000 | G24: =SUM(G20:G22) -> 1790000 | H24: =SUM(H20:H22) -> 1068263 | I24: =SUM(I20:I22) -> 5139000 | J24: =SUM(J20:J22) -> 7945000 | ... N24: =SUM(N20:N22) -> 2293701.3 | P24: Felhalmozási kiadás összesen: | Q24: =SUM(Q20:Q23) -> 2811995000 | R24: =SUM(R20:R23) -> 2978860000 | S24: =SUM(S20:S23) -> 6.6973766e+08 | T24: =SUM(T20:T23) -> 2826075000 | U24: =SUM(U20:U23) -> 2998044000 | V24: =SUM(V20:V23) -> 6.8224004e+08
A25: 12. | B25: Finanszírozási kiadások (K9) | I25: 0 | O25: 12. | P25: Finanszírozási kiadások (K9) | Q25: 21153870 | R25: 293000938 | S25: 293000938 | T25: =C25+F25+I25+L25+Q25 -> 21153870 | U25: =SUM(D25,G25,J25,M25,R25) -> 293000938 | V25: =SUM(E25,H25,K25,N25,S25) -> 293000938
B26: Kiadások összesen: | C26: =SUM(C17,C24)+C25 -> 405612000 | D26: =SUM(D17,D24)+D25 -> 423574491 | E26: =SUM(E17,E24)+E25 -> 3.8887251e+08 | F26: =SUM(F17,F24)+F25 -> 358768000 | G26: =SUM(G17,G24)+G25 -> 377047178 | H26: =SUM(H17,H24)+H25 -> 3.6953628e+08 | I26: =SUM(I17,I24)+I25 -> 181597000 | J26: =SUM(J17,J24)+J25 -> 212281424 | ... N26: =SUM(N17,N24)+N25 -> 2.208667e+08 | P26: Kiadások összesen: | Q26: =SUM(Q17,Q24)+Q25 -> 4310827870 | R26: =SUM(R17,R24)+R25 -> 5337528938 | S26: =SUM(S17,S24)+S25 -> 1.9183639e+09 | T26: =SUM(T17,T24)+T25 -> 5461116870 | U26: =SUM(U17,U24)+U25 -> 6581526631 | V26: =SUM(V17,V24)+V25 -> 3.0898798e+09
A27: 13. | B27: III. Tervezett létszám: | C27: 40 | D27: 44 | E27: 44 | F27: 41 | G27: 41 | H27: 41 | I27: 11 | J27: 12 | K27: 12 | L27: 24 | M27: 24 | N27: 24 | O27: 13. | P27: III. Tervezett létszám: | Q27: 1 | R27: 2 | S27: 2 | T27: =SUM(C27,F27,I27,L27,Q27) -> 117 | U27: =SUM(D27,G27,J27,M27,R27) -> 123 | V27: =SUM(E27,H27,K27,N27,S27) -> 123
A28: 14. | B28: Tervezett létszáváltozás | C28: 0 | D28: 0 | E28: 0 | F28: 0 | G28: 0 | H28: 0 | I28: 0 | J28: 0 | K28: 0 | L28: 0 | M28: 0 | N28: 0 | P28: Tervezett létszáváltozás | Q28: 0 | R28: 0 | S28: 0 | T28: =SUM(C28,F28,I28,L28,Q28) -> 0 | U28: =SUM(D28,G28,J28,M28,R28) -> 0 | V28: =SUM(E28,H28,K28,N28,S28) -> 0
A29: 15. | B29: Képviselő-testületi tagok száma: | C29: 0 | D29: 0 | E29: 0 | F29: 0 | G29: 0 | H29: 0 | I29: 0 | J29: 0 | K29: 0 | L29: 0 | M29: 0 | N29: 0 | P29: Képviselő-testületi tagok száma: | Q29: 8 | R29: 8 | S29: 8 | T29: =SUM(C29,F29,I29,L29,Q29) -> 8 | U29: =SUM(D29,G29,J29,M29,R29) -> 8 | V29: =SUM(E29,H29,K29,N29,S29) -> 8
A30: 16. | B30: Pályázatból foglalkoztatott létszám: | C30: 0 | D30: 0 | E30: 0 | F30: 0 | G30: 0 | H30: 0 | I30: 0 | J30: 0 | K30: 0 | L30: 0 | M30: 0 | N30: 0 | O30: 15. | P30: Pályázatból foglalkoztatott létszám: | Q30: 0 | R30: 0 | S30: 0 | T30: =SUM(C30,F30,I30,L30,Q30) -> 0 | U30: =SUM(D30,G30,J30,M30,R30) -> 0 | V30: =SUM(E30,H30,K30,N30,S30) -> 0
A31: 17. | B31: 2025. évi nyári diákfoglalkoztatás létszám: | C31: 0 | D31: 0 | E31: 0 | F31: 0 | G31: 0 | H31: 0 | I31: 0 | J31: 0 | K31: 0 | L31: 0 | M31: 0 | N31: 0 | O31: 16. | P31: 2025.évi nyári diákfoglalkoztatás létszám: | Q31: 0 | R31: 0 | S31: 0 | T31: =SUM(C31,F31,I31,L31,Q31) -> 0 | U31: =SUM(D31,G31,J31,M31,R31) -> 0 | V31: =SUM(E31,H31,K31,N31,S31) -> 0
A32: 18. | B32: 2025.évi tervezett közfoglalkoztatottak: | C32: 5 | D32: 4 | E32: 4 | F32: 8 | G32: 7 | H32: 7 | I32: 3 | J32: 5 | K32: 5 | L32: 0 | M32: 0 | N32: 0 | O32: 17. | P32: 2025.évi tervezett közfoglalkoztatottak: | Q32: 15 | R32: 16 | S32: 16 | T32: =SUM(C32,F32,I32,L32,Q32) -> 31 | U32: =SUM(D32,G32,J32,M32,R32) -> 32 | V32: =SUM(E32,H32,K32,N32,S32) -> 32
A33: 19. | B33: 2025.évi tervezett össz létszám: | C33: =SUM(C27:C32) -> 45 | D33: =SUM(D27:D32) -> 48 | E33: =SUM(E27:E32) -> 48 | F33: =SUM(F27:F32) -> 49 | G33: =SUM(G27:G32) -> 48 | H33: =SUM(H27:H32) -> 48 | I33: =SUM(I27:I32) -> 14 | J33: =SUM(J27:J32) -> 17 | ... N33: =SUM(N27:N32) -> 24 | O33: 18. | P33: 2025.évi tervezett össz létszám: | Q33: =SUM(Q27:Q32) -> 24 | R33: =SUM(R27:R32) -> 26 | S33: =SUM(S27:S32) -> 26 | T33: =SUM(T27:T32) -> 156 | U33: =SUM(D33,G33,J33,M33,R33) -> 163 | V33: =SUM(E33,H33,K33,N33,S33) -> 163
B34: A létszám adatok teljesítés oszlopa az éves átlagos statisztikai állományi létszámot tartalmazza.

Sheet 5.
B2: Az önkormányzat 2025. évi felhalmozási kiadásai
G3: Ezer Ft.
B5: I. BERUHÁZÁSOK
A7: 1. Önkormányzat | H7: Könyvelés
B8: Feladatok megnevezése | D8: Eredeti előir. | E8: Mód. előir | F8: Teljesítés | G8: Teljesítés %-a | H8: nettó | I8: Bruttó
A9: 1. | B9: Település rendezési terv készítés | D9: 3000000 | E9: 3000000 | F9: =+I9 -> 1800000 | G9: =(F9/E9) -> 0.6 | H9: =600000+1200000 -> 1800000 | I9: =+H9 -> 1800000
A10: 2. | B10: Térfigyelő kamerarendszer bővítés | D10: 3000000 | E10: 3000000 | F10: 0 | G10: =(F10/E10) -> 0
A11: 3. | B11: Középfeszültség áthelyezés tervezés, kivitelezés-Zsófia halom | D11: 223600000 | E11: 223600000 | F11: 0 | G11: =(F11/E11) -> 0
A12: 4. | B12: Óváros, Kossuth Lajos úti csapadékvíz elvezetés | D12: 135000000 | E12: 135000000 | F12: =+I12 -> 1130300 | G12: =(F12/E12) -> 0.0083725926 | H12: 890000 | I12: =+H12*1.27 -> 1130300
A13: 5. | B13: Csapadékvíz elvezetés Virág, Déryné, Táncsics, Borostyán, Damjanich kb 1400 fm felszíni | D13: 20000000 | E13: 20000000 | F13: =+I13 -> 2227073.2 | G13: =(F13/E13) -> 0.11135366 | H13: 1661149 | I13: =+H13*1.27+36840+33618+12000+34956 -> 2227073.2
A14: 6. | B14: Szolnoki út-fák alatti járda, kerékpárút megvilágítása, terv és kivitel. | D14: 3000000 | E14: 3000000 | F14: 0 | G14: =(F14/E14) -> 0
A15: 7. | B15: Tósétány térvilágítás terv és kivitelezés | D15: 6000000 | E15: 6000000 | F15: 0 | G15: =(F15/E15) -> 0
A16: 8. | B16: Járdaépítés | D16: 30000000 | E16: 30000000 | F16: 0 | G16: =(F16/E16) -> 0
A17: 9. | B17: Géza fejedelem utca, bevásárló udvarokhoz járdaépítés | D17: 15000000 | E17: 15000000 | F17: =+I17 -> 14122082 | G17: =(F17/E17) -> 0.94147217 | H17: =980000+9789750+350000 -> 11119750 | I17: =+H17*1.27 -> 14122082
A18: 10. | B18: Móricz Zs.- Babits M. útig járdaépítés | D18: 10000000 | E18: 10000000 | F18: 0 | G18: =(F18/E18) -> 0
A19: 11. | B19: Szolnoki út és Ifjúsági út között járdaépítés | D19: 28000000 | E19: 0 | F19: 0 | G19: 0
A20: 12. | B20: Városháza körüli sétány burkolat felújítása, padok elhelyezése, virágágyások kialakítása | D20: 34000000 | E20: 34000000 | F20: =+I20 -> 33990390 | G20: =(F20/E20) -> 0.99971737 | H20: 26764087 | I20: =+H20*1.27 -> 33990390
A21: 13. | B21: Városháza melletti tó - Híd építése | D21: 51000000 | E21: 40157000 | F21: =+I21 -> 37408793 | G21: =(F21/E21) -> 0.93156344 | H21: 650000 | I21: =+H21*1.27+36583293 -> 37408793
A22: 14. | B22: TOP-PLUSZ-1.2.1-21-JN1-2022-00026 sz. „Élhető települések” pályázat -belvíz elvezetés | D22: 87934000 | E22: 87934000 | F22: =+I22 -> 2413000 | G22: =(F22/E22) -> 0.027441035 | H22: 1900000 | I22: =+H22*1.27 -> 2413000
A23: 15. | B23: TOP­PLUSZ-3.3.1-21-JN1-2022-00001 sz. „Kossuth úti tagóvoda isfrastrukturális fejl.” pályázat | D23: 7000000 | E23: 7000000 | F23: =+I23 -> 2890424.8 | G23: =(F23/E23) -> 0.41291782 | H23: 2275925 | I23: =+H23*1.27 -> 2890424.8
A24: 16. | B24: Géza fejedelem utca-Közvilágítás- Versenyképes Járások Program | D24: 17000000 | E24: 17000000 | F24: =+I24 -> 14262024 | G24: =(F24/E24) -> 0.83894258 | H24: 11229940 | I24: =+H24*1.27 -> 14262024
A25: 17. | B25: Galamb elleni védekezés | D25: 600000 | E25: 600000 | F25: 0 | G25: =(F25/E25) -> 0 | H25: -
A26: 18. | B26: TOP-PLUSZ -1.1.1-21-JN1-2022-00015 "Helyi gazdaságfejlesztés" elnevezésű pályázat | D26: 375000000 | E26: 375000000 | F26: =+I26 -> 1.2702772e+08 | G26: =(F26/E26) -> 0.33874058 | H26: =2244995+1496663+2244995 -> 5986653 | I26: =+H26*1.27+560000+44574251+29716167+44574251 -> 1.2702772e+08
A27: 19. | B27: TOP-PLUSZ -3.3.2-21-JN1-2022-00017 "Mentőállomás fejlesztés" elnevezésű pályázat I. ütem | D27: 106000000 | E27: 106000000 | F27: =+I27 -> 67307619 | G27: =(F27/E27) -> 0.63497754 | H27: =12324866+20541443+1575000+16433155+16433155 -> 67307619 | I27: =+H27 -> 67307619
A28: 20. | B28: TOP-PLUSZ -1.2.3-21-JN1-2022-00041 "Belterületi utak fejlesztése" pályázat | D28: 325000000 | E28: 325000000 | F28: =+I28 -> 89274996 | G28: =(F28/E28) -> 0.2746923 | H28: =1110000+740000 -> 1850000 | I28: =+H28*1.27+52155298+34770198 -> 89274996
A29: 21. | B29: Külterületi utak fejlesztése-pályázati önerő | D29: 10000000 | E29: 10000000 | F29: 0 | G29: =(F29/E29) -> 0
A30: 22. | B30: MÁV terület rendezése | D30: 45000000 | E30: 43000000 | G30: =(F30/E30) -> 0
A31: 23. | B31: Bentlakásos nyugdíjas otthon tervek és kivitelezés | D31: 400000000 | E31: 400000000 | F31: =+I31 -> 6083300 | G31: =(F31/E31) -> 0.01520825 | H31: =958000+3832000 -> 4790000 | I31: =+H31*1.27 -> 6083300
A32: 24. | B32: Zsófia halom-ivóvíz ellátás kiépítése | D32: 100000000 | E32: 100000000 | F32: =+I32 -> 2537460 | G32: =(F32/E32) -> 0.0253746 | H32: =1698000+300000 -> 1998000 | I32: =+H32*1.27 -> 2537460
A33: 25. | B33: Zsófia halom, Meggy, Cseresznye utca útburkolat felújítás | D33: 30000000 | E33: 30000000 | F33: 0 | G33: =(F33/E33) -> 0
A34: 26. | B34: Zsófia halmi út-Óváros hátsó összekötő út szakaszos aszfaltozása | D34: 45000000 | E34: 45000000 | F34: 0 | G34: =(F34/E34) -> 0
A35: 27. | B35: Fecskeház kivitelezése | D35: 300000000 | E35: 427000000 | F35: =+I35 -> 8069580 | G35: =(F35/E35) -> 0.018898314 | H35: 6354000 | I35: =+H35*1.27 -> 8069580
A36: 28. | B36: Garzon-elektromos hálózat fejlesztés | D36: 20000000 | E36: =24500000-2445000-616000 -> 21439000 | F36: =+I36 -> 604020.89 | G36: =(F36/E36) -> 0.02817393 | H36: =130881+39370+80000+75370-190012+339998 -> 475607 | I36: =+H36*1.27 -> 604020.89
A37: 29. | B37: Kossuth út-Rákóczi út kereszteződésében gyalogátkelő kivitelezés,kialakítása | D37: 4000000 | E37: 10000000 | F37: =+I37 -> 1104900 | G37: =(F37/E37) -> 0.11049 | H37: 870000 | I37: =+H37*1.27 -> 1104900
A38: 30. | B38: Temetőhöz vezető úton csapadékvíz csatorna csere | D38: 41000000 | E38: 41000000 | F38: =+I38 -> 40309086 | G38: =(F38/E38) -> 0.98314845 | H38: 31739438 | I38: =+H38*1.27 -> 40309086
A39: 31. | B39: Sportcsarnok-vízmérőóra csere (szűkítés) | D39: 7000000 | E39: 7000000 | F39: 0 | G39: =(F39/E39) -> 0
A40: 32. | B40: FIAT Ducato ponyva + váz | D40: 584000 | E40: 584000 | F40: 584000 | G40: =(F40/E40) -> 1 | H40: 460000 | I40: =+H40*1.27 -> 584200
A41: 33. | B41: Tolólap beszerzés munkagéphez | D41: 2032000 | E41: 2032000 | F41: 0 | G41: =(F41/E41) -> 0
A42: 34. | B42: Hóeke beszerzés | D42: 2502000 | E42: 2502000 | F42: 0 | G42: =(F42/E42) -> 0
A43: 35. | B43: Rider diesel fűnyíró beszerzés | D43: 11430000 | E43: 11430000 | F43: =+I43 -> 11430000 | G43: =(F43/E43) -> 1 | H43: 9000000 | I43: =+H43*1.27 -> 11430000
...

Sheet 6.
A2: Az önkormányzat által irányított költségvetési szervek
A3: 2025.évi költségvetési támogatása
H6: Ezer Ft.
A8: Intézmény, szervezet megnevezése | C8: 2025. évi Önkormányzati költségv.támog. finanszírozás eredeti eir. | D8: 2025. évi Önkormányzati költségv.támog. finanszírozás mód.eir. | E8: 2025. évi Önkormányzati költségv.támog. finanszírozás teljesítés (4.+5.) | F8: Ebből állami támogatás | G8: Ebből önkormányzati költségvetési kiegészítés | H8: Teljesítés %-a (3./2.)
C9: 1. | D9: 2. | E9: 3. | F9: 4. | G9: 5. | H9: 6.
B10: Önkormányzat | F10: =+'1.'!D9+'1.'!D10+'1.'!D11+'1.'!D12+'1.'!D13+'1.'!D14+'1.'!D15+'1.'!D67+'1.'!D66+'1.'!D65 -> 179121000
A11: 1. | B11: Gyermekjóléti és Szoc. Szolg. Központ | C11: 321723000 | D11: 328668000 | E11: 293816000 | F11: =+'1.'!D42+'1.'!D56+4519000 -> 109622000 | G11: =E11-F11 -> 184194000 | H11: =E11/D11 -> 0.89395986
A12: 2. | B12: Játékvár Óvoda és Bölcsőde | C12: 355711000 | D12: 362912000 | E12: 355081000 | F12: =+'1.'!D33+'1.'!D48+1610000 -> 323192000 | G12: =E12-F12 -> 31889000 | H12: =E12/D12 -> 0.97842177
A13: 3. | B13: Városi Műv. Központ és Könyvtár | C13: 160905000 | D13: 167951000 | E13: 141059000 | F13: =+'1.'!C60+'1.'!D69+'1.'!D70 -> 25024000 | G13: =E13-F13 -> 116035000 | H13: =E13/D13 -> 0.83988187
A14: 4. | B14: Polgármesteri Hivatal | C14: 203159000 | D14: 229922000 | E14: 218809000 | F14: =+'1.'!D8 -> 152939000 | G14: =E14-F14 -> 65870000 | H14: =E14/D14 -> 0.95166622
B17: 1-4-ig összesen: | C17: =SUM(C11:C14) -> 1041498000 | D17: =SUM(D11:D14) -> 1089453000 | E17: =SUM(E11:E14) -> 1008765000 | F17: =SUM(F11:F14) -> 610777000 | G17: =SUM(G11:G14) -> 397988000 | H17: =E17/D17 -> 0.92593714
B18: Technikai összesen: | F18: =SUM(F10,F17) -> 789898000

Sheet 7.
A3: Martfű Város Önkormányzata
A4: A működési célú bevételeinek és kiadásainak
A5: 2025. évi egyenlege
I7: Ezer Ft.
A8: I. Működési célú bevételek | C8: Eredeti előirányzat | D8: Módosított előirányzat | E8: Teljesítés | F8: I. Működési célú kiadások | H8: Eredeti előirányzat | I8: Módosított előirányzat | J8: Teljesítés
A10: 1. | B10: Működési c. tám. ÁHT-n belülről (B1) | C10: ='1.'!B88 -> 670402000 | D10: ='1.'!C88 -> 887456000 | E10: ='1.'!D88 -> 864630000 | F10: 1. | G10: Személyi juttatások (K1) | H10: ='4.'!T10 -> 780301000 | I10: ='4.'!U10 -> 862713798 | J10: ='4.'!V10 -> 846688807
A11: 2. | B11: Közhatalmi bevételek (B3) | C11: ='1.'!B111 -> 1350500000 | D11: ='1.'!C111 -> 1226439000 | E11: ='1.'!D111 -> 1180911000 | F11: 2. | G11: Munkaadót terhelő járulékok (K2) | H11: ='4.'!T11 -> 105948000 | I11: ='4.'!U11 -> 118155880 | J11: ='4.'!V11 -> 117505688
A12: 3. | B12: Működési bevételek (B4) | C12: ='1.'!B126 -> 342398000 | D12: ='1.'!C126 -> 357701000 | E12: ='1.'!D126 -> 432174387 | F12: 3. | G12: Dologi kiadások (K3) | H12: ='4.'!T12 -> 774693000 | I12: ='4.'!U12 -> 815767015 | J12: ='4.'!V12 -> 560405327
A13: 4. | B13: Működési célú átvett pénzeszközök (B6) | C13: ='1.'!B138 -> 0 | D13: ='1.'!C138 -> 0 | E13: ='1.'!D138 -> 969000 | F13: 4. | G13: Ellátottak pénzbeni juttása (K4) | H13: ='4.'!T13 -> 44073000 | I13: ='4.'!U13 -> 43873000 | J13: ='4.'!V13 -> 40748000
F14: 5. | G14: Egyéb működési célú kiadások (K5) | H14: ='4.'!T14 -> 504785000 | I14: ='4.'!U14 -> 549509000 | J14: ='4.'!V14 -> 549291000
F15: 6. | G15: Tartalékok | H15: ='4.'!T15+'4.'!T16 -> 404088000 | I15: ='4.'!U15+'4.'!U16 -> 900463000 | J15: ='4.'!V15+'4.'!V16 -> 0
A17: Működési célú bevételek öszesen: | C17: =SUM(C10:C16) -> 2363300000 | D17: =SUM(D10:D16) -> 2471596000 | E17: =SUM(E10:E16) -> 2478684387 | F17: Működési célú kiadások összesen: | H17: =SUM(H10:H15) -> 2613888000 | I17: =SUM(I10:I15) -> 3290481693 | J17: =SUM(J10:J15) -> 2114638822
A19: Működési célú többletbevétel vagy hiány: | C19: =C17-H17 -> -250588000 | D19: =D17-I17 -> -818885693 | E19: =E17-J17 -> 364045565
A22: Martfű Város Önkormányzata
A23: Felhalmozási célú bevételeinek és kiadásainak
A24: 2025. évi egyenlege
I26: Ezer Ft.
A27: II. Felhalmozási célú bevételek | C27: Eredeti előirányzat | D27: Módosított előirányzat | E27: Teljesítés | F27: II. Felhalmozási célú kiadások | H27: Eredeti előirányzat | I27: Módosított előirányzat | J27: Teljesítés
A29: 1. | B29: Felhalmozási célú támogatás ÁHT-on belülről (B2) | C29: ='1.'!B94 -> 554997000 | D29: ='1.'!C94 -> 555838000 | E29: ='1.'!D94 -> 161740000 | F29: 1. | G29: Beruházási kiadások (ÁFA-val) (K6) | H29: ='4.'!T20 -> 2678503000 | I29: ='4.'!U20 -> 2808712000 | J29: ='4.'!V20 -> 5.8429079e+08
A30: 2. | B30: Felhalmozási bevételek (B5) | C30: ='1.'!B132 -> 3000000 | D30: ='1.'!C132 -> 3000000 | E30: ='1.'!D132 -> 7730000 | F30: 2. | G30: Felújítási kiadások (ÁFA-val) (K7) | H30: ='4.'!T21 -> 116907000 | I30: ='4.'!U21 -> 158667000 | J30: ='4.'!V21 -> 94949249
A31: 3. | B31: Felhalmozási célú átvett pénzeszközök (B7) | C31: ='1.'!B143 -> 3500000 | D31: ='1.'!C143 -> 3500000 | E31: ='1.'!D143 -> 2753000 | F31: 3. | G31: Egyéb felhalmozási célú kiadások (K8) | H31: ='4.'!T22 -> 10000000 | I31: ='4.'!U22 -> 10000000 | J31: ='4.'!V22 -> 3000000
F32: 4. | G32: Felhalmozási célú céltartalék | H32: ='4.'!T23 -> 20665000 | I32: ='4.'!U23 -> 20665000 | J32: ='4.'!V23 -> 0
A35: Felhalmozási célú bevételek összesen: | C35: =SUM(C29:C32) -> 561497000 | D35: =SUM(D29:D32) -> 562338000 | E35: =SUM(E29:E32) -> 172223000 | F35: Felhalmozási célú kiadások összesen: | H35: =SUM(H29:H32) -> 2826075000 | I35: =SUM(I29:I32) -> 2998044000 | J35: =SUM(J29:J32) -> 6.8224004e+08
A37: Felhalmozási célú hiány vagy többlet: | C37: =C35-H35 -> -2264578000 | D37: =D35-I35 -> -2435706000 | E37: =E35-J35 -> -5.1001704e+08 | H37: 0
A39: Költségvetési bevételek összesen (B1+…+B7) | C39: =C17+C35 -> 2924797000 | D39: =D17+D35 -> 3033934000 | E39: =E17+E35 -> 2650907387 | F39: Folyó évi kiadások összesen | H39: =H17+H35 -> 5439963000 | I39: =I17+I35+I37 -> 6288525693 | J39: =J17+J35+J37 -> 2.7968789e+09
A40: 1. | B40: Forráshiány, többlet | C40: =C39-H39 -> -2515166000 | D40: =D39-I39 -> -3254591693 | E40: =E39-J39 -> -1.4597147e+08
A41: 2. | B41: Finanszírozási bevételek (B8) | C41: ='1.'!B151 -> 2536320000 | D41: ='1.'!C151 -> 3547593000 | E41: ='1.'!D151 -> 3547593000 | F41: 1. | G41: Finanszírozási kiadások (K9) | H41: ='4.'!T25 -> 21153870 | I41: ='4.'!U25 -> 293000938 | J41: ='4.'!V25 -> 293000938
A43: Önkormányzat és Intézményei Bevételek összesen:(B1+…+B8) | C43: =C39+C41 -> 5461117000 | D43: =D39+D41 -> 6581527000 | E43: =E39+E41 -> 6198500387 | F43: Kiadások mindösszesen: | H43: =SUM(H39,H41) -> 5461116870 | I43: =SUM(I39,I41) -> 6581526631 | J43: =SUM(J39,J41) -> 3.0898798e+09
A59: (07 + 23.)

Sheet 8.
A1: Martfű Város Önkormányzata saját bevételeinek részletezése az adósságot keletkeztető
A2: ügyletekből származó tárgyévi fizetési kötelezettség megállapításához
F4: Ezer Ft.
A5: Sor-szám | B5: Bevételi jogcimek | C5: 2025. évi előirányzat | D5: 2025. évi teljesítés | E5: 2026. évi előirányzat | F5: 2027. évi előirányzat | G5: 2028. évi előirányzat
A6: 1. | B6: Helyi adók | C6: ='1.'!B103 -> 1349000000 | D6: ='1.'!D103 -> 1178328000 | E6: 1369000000 | F6: 1400000000 | G6: 1420000000
A7: 2. | B7: Az önkormányzati vagyon és az önkormányzatot megillető vagyoni értékű jog értékesítéséből és hasznosításából származó bevétel | C7: ='1.'!B132 -> 3000000 | D7: ='1.'!D132 -> 7730000 | E7: 67340000 | F7: 80000000 | G7: 80000000
A8: 3. | B8: Osztalék, koncesziós díj, hozambevétel
A9: 4. | B9: Tárgyi eszköz és immaterális jószág; részvény; részesedés; vállalat értékesítéséből, vagy privatizációból származó bevételek | C9: 0
A10: 5. | B10: Bírság-, pótlék- és díjbevétel | C10: ='1.'!B109 -> 1500000 | D10: ='1.'!D109 -> 2583000 | E10: 1500000 | F10: 1000000 | G10: 1000000
A11: 6. | B11: Kezességvállalással kapcsolatos megtérülés
A12: Saját bevételek összesen*: | C12: =SUM(C6:C11) -> 1353500000 | D12: =SUM(D6:D11) -> 1188641000 | E12: =SUM(E6:E11) -> 1437840000 | F12: =SUM(F6:F11) -> 1481000000 | G12: =SUM(G6:G11) -> 1501000000
A13: Saját bevételek 50 %-a összesen**: | C13: =C12*0.5 -> 676750000 | D13: =D12*0.5 -> 594320500 | E13: =E12*0.5 -> 718920000 | F13: =F12*0.5 -> 740500000 | G13: =G12*0.5 -> 750500000
A15: * Az adósságot keletkeztető ügyletekhez történő hozzájárulás részletes szabályairól szóló 353/2011. (XII.31.) Korm.Rendelet 2. § (1) bekezdése alapján
A16: **Az adósságot keletkeztető ügyletekhez történő hozzájárulás részletes szabályairól szóló 353/2011. (XII.31.) Korm.Rendelet 2. § (3) bekezdése alapján
A19: Martfű Város Önkormányzata adósságot keletkeztető ügyletekből és kezességvállalásokból
A20: fennálló kötelezettségei
F21: Ezer Ft.
A22: Sor-szám | B22: Megnevezés | C22: 2025. | D22: 2026. | E22: 2027. | F22: 2028.
A23: 1. | B23: Hitelállomány | C23: - | D23: - | E23: - | F23: -
A24: Összes kötelezettség: | C24: 0 | D24: 0 | E24: 0 | F24: 0

Sheet 9.
A2: TÁJÉKOZTATÓ
A4: Martfű Város Önkormányzatának
A5: 2025. évi költségvetésének
A6: pénzügyi mérlege
A8: BEVÉTELEK
G11: Ezer Ft.
E12: 2025. év eredeti előirányzat | F12: 2024. módosított előirányzat | G12: Teljesítés | H12: Teljesítés %-a
A13: 1. | B13: Működési c. tám. ÁHT-n belülről (B1) | E13: ='1.'!B88 -> 670402000 | F13: =+'1.'!C88 -> 887456000 | G13: =+'1.'!D88 -> 864630000 | H13: =G13/F13 -> 0.97427929
A14: 2. | B14: Felhalmozási célú támogatás ÁHT-on belülről (B2) | E14: ='1.'!B94 -> 554997000 | F14: ='1.'!C94 -> 555838000 | G14: ='1.'!D94 -> 161740000 | H14: =G14/F14 -> 0.29098406
A15: 3. | B15: Közhatalmi bevételek (B3) | E15: ='1.'!B111 -> 1350500000 | F15: ='1.'!C111 -> 1226439000 | G15: ='1.'!D111 -> 1180911000 | H15: =G15/F15 -> 0.96287789
A16: 4. | B16: Működési bevételek (B4) | E16: ='1.'!B126 -> 342398000 | F16: ='1.'!C126 -> 357701000 | G16: ='1.'!D126 -> 432174387 | H16: =G16/F16 -> 1.2082001
A17: 5. | B17: Felhalmozási bevételek (B5) | E17: ='1.'!B132 -> 3000000 | F17: ='1.'!C132 -> 3000000 | G17: ='1.'!D132 -> 7730000 | H17: =G17/F17 -> 2.5766667
A18: 6. | B18: Működési célú átvett pénzeszközök (B6) | E18: ='1.'!B138 -> 0 | F18: ='1.'!C138 -> 0 | G18: ='1.'!D138 -> 969000 | H18: 0
A19: 7. | B19: Felhalmozási célú átvett pénzeszközök (B7) | E19: ='1.'!B143 -> 3500000 | F19: ='1.'!C143 -> 3500000 | G19: ='1.'!D143 -> 2753000 | H19: =G19/F19 -> 0.78657143
A21: 8. | B21: Megtérülések
B23: Költségvetési bevételek összesen (B1+…B7) | E23: =SUM(E13:E21) -> 2924797000 | F23: =SUM(F13:F21) -> 3033934000 | G23: =SUM(G13:G21) -> 2650907387 | H23: =G23/F23 -> 0.87375249
A25: 9. | B25: Finanszírozási bevételek (B8) | E25: ='1.'!B151 -> 2536320000 | F25: ='1.'!C151 -> 3547593000 | G25: ='1.'!D151 -> 3547593000 | H25: =G25/F25 -> 1
B27: Önkormányzat és Intézményei Bevételek összesen:(B1+…+B8) | E27: =SUM(E25,E23) -> 5461117000 | F27: =SUM(F25,F23) -> 6581527000 | G27: =SUM(G25,G23) -> 6198500387 | H27: =G27/F27 -> 0.94180277
A29: Martfű Város Önkormányzatának
A30: 2025. évi költségvetésének
A31: pénzügyi mérlege
A33: KIADÁSOK
G36: Ezer Ft.
E37: 2025. év eredeti előirányzat | F37: 2025. módosított előirányzat | G37: Teljesítés | H37: Teljesítés %-a
A38: I. | B38: Működési, fenntartási kiadások | E38: =SUM(E39:E45) -> 2613888000 | F38: =SUM(F39:F45) -> 3290481693 | G38: =SUM(G39:G45) -> 2114638822 | H38: =G38/F38 -> 0.64265327
B39: - | C39: Személyi juttatás (K1) | E39: ='4.'!T10 -> 780301000 | F39: ='4.'!U10 -> 862713798 | G39: ='4.'!V10 -> 846688807 | H39: =G39/F39 -> 0.9814249
B40: - | C40: Munkáltatót terhelő járulékok (K2) | E40: ='4.'!T11 -> 105948000 | F40: ='4.'!U11 -> 118155880 | G40: ='4.'!V11 -> 117505688 | H40: =G40/F40 -> 0.99449717
B41: - | C41: Dologi kiadások (K3) | E41: ='4.'!T12 -> 774693000 | F41: ='4.'!U12 -> 815767015 | G41: ='4.'!V12 -> 560405327 | H41: =G41/F41 -> 0.68696738
B42: - | C42: Ellátottak pénzbeni juttatásai (K4) | E42: ='4.'!T13 -> 44073000 | F42: ='4.'!U13 -> 43873000 | G42: ='4.'!V13 -> 40748000 | H42: =G42/F42 -> 0.92877168
B43: - | C43: Egyéb működési célú kiadások (K5) | E43: ='4.'!T14 -> 504785000 | F43: ='4.'!U14 -> 549509000 | G43: ='4.'!V14 -> 549291000 | H43: =G43/F43 -> 0.99960328
B44: - | C44: Általános tartalék | E44: ='4.'!T15 -> 276580000 | F44: ='4.'!U15 -> 826955000 | G44: ='4.'!V15 -> 0 | H44: =G44/F44 -> 0
B45: - | C45: Céltartalék | E45: ='4.'!T16 -> 127508000 | F45: ='4.'!U16 -> 73508000 | G45: ='4.'!V16 -> 0 | H45: =G45/F45 -> 0
A47: II. | B47: Felhalmozási és tőke jellegű kiadások | E47: =SUM(E48:E51) -> 2826075000 | F47: =SUM(F48:F51) -> 2998044000 | G47: =SUM(G48:G51) -> 6.8224004e+08 | H47: =G47/F47 -> 0.22756172
B48: - | C48: Beruházás (K6) | E48: ='4.'!T20 -> 2678503000 | F48: ='4.'!U20 -> 2808712000 | G48: ='4.'!V20 -> 5.8429079e+08 | H48: =G48/F48 -> 0.20802802
B49: - | C49: Felújítás (K7) | E49: ='4.'!T21 -> 116907000 | F49: ='4.'!U21 -> 158667000 | G49: ='4.'!V21 -> 94949249 | H49: =G49/F49 -> 0.59841838
B50: - | C50: Egyéb felhalmozási célú kiadások (K8) | E50: ='4.'!T22 -> 10000000 | F50: ='4.'!U22 -> 10000000 | G50: ='4.'!V22 -> 3000000 | H50: =G50/F50 -> 0.3
B51: - | C51: Felhalmozási célú céltartalék | E51: ='4.'!T23 -> 20665000 | F51: ='4.'!U23 -> 20665000 | G51: ='4.'!V23 -> 0 | H51: =G51/F51 -> 0
A53: III. | B53: Folyó évi kiadások összesen | E53: =SUM(E38,E47) -> 5439963000 | F53: =SUM(F38,F47) -> 6288525693 | G53: =SUM(G38,G47) -> 2.7968789e+09 | H53: =G53/F53 -> 0.44475907
A55: IV. | B55: Finanszírozási kiadások (K9) | E55: ='4.'!T25 -> 21153870 | F55: ='4.'!U25 -> 293000938 | G55: ='4.'!V25 -> 293000938 | H55: =G55/F55 -> 1
A57: V. | B57: Kiadások összesen: | E57: =SUM(E53,E55) -> 5461116870 | F57: =SUM(F53,F55) -> 6581526631 | G57: =SUM(G53,G55) -> 3.0898798e+09 | H57: =G57/F57 -> 0.46947767
...

Sheet 10.
A3: TÁJÉKOZTATÓ
A6: Több éves elkötelezettséggel járó kiadási tételek évenkénti bontásban
B9: Feladat megnevezése | C9: 2025.év | D9: 2026.év | E9: 2027.év | F9: 2028.év | G9: 2029.év | H9: Tartós kötelezettség
A10: 1.
B11: Összesen: | C11: 0 | D11: 0 | E11: 0 | F11: 0 | G11: 0
A17: 2. | B17: Martfű Város Önkormányzata tulajdonában álló gazdálkodó szervezet, és a működéséből származó kötelezettség, részesedés
B18: Az önkormányzata tulajdonában álló gazdálkodó szervezet | F18: részesedés összege | H18: működési kötelezettségek
B19: Bács-Víz Zrt, | F19: 68 | H19: 0
B20: Tisza Cipő Zrt | F20: 1 | H20: 0

Sheet 11.
A3: TÁJÉKOZTATÓ
A6: Környezetvédelmi Alap felhasználás 2025.
E9: Ezer Ft.
C10: eredeti előirányzat | D10: módosított előirányzat | E10: teljesítés
B12: Nyitó egyenleg 2025. 01. 01-én: | E12: 407000
B14: Bevétel
B16: Lorenz Group Kft.- bírság | C16: 0 | D16: 0 | E16: 75000
B17: Kamatbevétel | C17: 0 | D17: 0 | E17: =908.95+959.29+1064.63+1031.43+1032.01+1068.67+1071.02+1004.12+1110.27+1078.02+953.73+504.59 -> 11786.73
B18: Bevétel Összesen | C18: =SUM(C16:C17) -> 0 | D18: =SUM(D16:D17) -> 0 | E18: =+E17+E16 -> 86786.73
B20: Kiadás
B21: Rigó Kft. Babafa tábla gyártása 21 db | C21: 0 | D21: 0 | E21: 104013
B22: Alföld Smaragd KKT- Babafa rendelés 27 db | C22: 0 | D22: 0 | E22: 196400
B23: Bankköltség-Pénzforgalmi díj, Tranzakciós díj | C23: 0 | D23: 0 | E23: =234.03+31.2+441.9+58.92 -> 766.05
B24: Kiadás Összesen | C24: =SUM(C21:C23) -> 0 | D24: =SUM(D21:D23) -> 0 | E24: =SUM(E21:E23) -> 301179.05
B28: Záró egyenleg 2025. 12.31-én | C28: 0 | D28: 0 | E28: =+E12+E18-E24 -> 192607.68

Sheet 12.
A1: TÁJÉKOZTATÓ
A3: Tájékoztató az Önkormányzat tételes kiadásairól
A4: 2025. év
A5: Megnevezés
E6: Ezer Ft.
A7: A./SZEMÉLYI JUTTATÁSOK ÖSSZESEN (K1) | C7: Eredeti előirányzat | D7: Módosított előirányzat | E7: Teljesítés | F7: Teljesítés %-a
A8: I.Foglalkoztatottak személyi juttatásai (K11)
A9: 1. | B9: Törvény szerinti alapilletmények, munkabér összesen (K1101) | C9: 10723000 | D9: 30784000 | E9: 28309000 | F9: =E9/D9 -> 0.91960109
A10: 2. | B10: Normatív jutalmak (K1102) | C10: 0 | D10: 0 | E10: 0 | F10: 0
A11: 3. | B11: Céljuttatás, projektprémium (K1103) | C11: 6457000 | D11: 0 | E11: 0 | F11: 0
A12: 4. | B12: Készenléti, ügyeleti, helydíj, túlóra (K1104) | C12: 0 | D12: 0 | E12: 0 | F12: 0
A13: 5. | B13: Végkielégítés (K1105) | C13: 0 | D13: 0 | E13: 0 | F13: 0
A14: 6. | B14: Jubileumi jutalom (K1106) | C14: 0 | D14: 0 | E14: 0 | F14: 0
A15: 7. | B15: Béren kívüli juttatások (K1107) | C15: 0 | D15: 200000 | E15: 200000 | F15: 0
A16: 8. | B16: Ruházati költségtérítés (K1108) | C16: 0 | D16: 0 | E16: 0 | F16: 0
A17: 9. | B17: Közlekedési költségtérítés (K1109) | C17: 0 | D17: 0 | E17: 0 | F17: 0
A18: 10. | B18: Egyéb költségtérítések (K110) | C18: 0 | D18: 0 | E18: 0 | F18: 0
A19: 11. | B19: Foglalkoztatottak egyéb személyi juttatása (K1113) | C19: 25000 | D19: 1101000 | E19: 960000 | F19: =E19/D19 -> 0.8719346
B20: I.Foglalkoztatottak személyi juttatásai (K11) összesen: | C20: =SUM(C9:C19) -> 17205000 | D20: =SUM(D9:D19) -> 32085000 | E20: =SUM(E9:E19) -> 29469000 | F20: =E20/D20 -> 0.91846657
A22: II. Külső személyi juttatások (K12)
A23: 1. | B23: Választott tisztségviselők juttatása (K121) | C23: 38205000 | D23: 41529000 | E23: 41404000 | F23: =E23/D23 -> 0.99699006
A24: 2. | B24: Állományba nem tartozók megbízási díja (K122) | C24: 4336000 | D24: 10367000 | E24: 9840000 | F24: =E24/D24 -> 0.94916562
A25: 3. | B25: Egyéb külső személyi juttatás -kitüntetettek (K123) | C25: 1535000 | D25: 1535000 | E25: 1194000 | F25: =E25/D25 -> 0.77785016
A26: 4. | B26: Egyéb külső személyi juttatás -reprezentáció (K123) | C26: 2000000 | D26: 5243000 | E26: 5285000 | F26: =E26/D26 -> 1.0080107
A27: 5. | B27: Egyéb különféle külső személyi juttatás (K123) | C27: 0 | D27: 0 | E27: 0 | F27: 0
B28: Külső személyi juttatások (K12) összesen: | C28: =SUM(C23:C27) -> 46076000 | D28: =SUM(D23:D27) -> 58674000 | E28: =SUM(E23:E27) -> 57723000 | F28: =E28/D28 -> 0.9837918
B30: A./SZEMÉLYI JUTTATÁSOK (K1) ÖSSZESEN | C30: =C20+C28 -> 63281000 | D30: =D20+D28 -> 90759000 | E30: =E20+E28 -> 87192000 | F30: =E30/D30 -> 0.96069811
A32: B. /MUNKAADÓKAT TERHELŐ JÁRULÉK (K2)
A33: 1. | B33: Szociális hozzájárulási adó (13%) | C33: 6886000 | D33: 9045000 | E33: 8249000 | F33: =E33/D33 -> 0.91199558
A34: 2. | B34: Rehabilitációs hozzájárulás | C34: 0 | D34: 0 | E34: 0 | F34: 0
A35: 3. | B35: Táppénz hozzájárulás | C35: 0 | D35: 0 | E35: 292303 | F35: 0
A36: 4. | B36: Munkaadókat terhelő egyéb járulék (Szja) | C36: 661000 | D36: 1100000 | E36: 1222000 | F36: 0
B37: B. /MUNKAADÓKAT TERHELŐ JÁRULÉK (K2) ÖSSZESEN | C37: =SUM(C33:C36) -> 7547000 | D37: =SUM(D33:D36) -> 10145000 | E37: =SUM(E33:E36) -> 9763303 | F37: =E37/D37 -> 0.96237585
A39: C./ DOLOGI KIADÁSOK (K3)
A41: 1. Készletbeszerzések (K31)
A42: Szakmai anyagok (K311) | C42: 520000 | D42: 882000 | E42: 401000 | F42: =E42/D42 -> 0.45464853
A43: Üzemeltetési anyagok beszerzése (K312) | C43: 9000000 | D43: 9945000 | E43: 7227000 | F43: =E43/D43 -> 0.72669683
A44: Árubeszerzés (K313) | C44: 0 | D44: 0 | E44: 0 | F44: 0
B46: 1. Készletbeszerzések (K31) összesen: | C46: =SUM(C42:C45) -> 9520000 | D46: =SUM(D42:D45) -> 10827000 | E46: =SUM(E42:E45) -> 7628000 | F46: =E46/D46 -> 0.70453496
A48: 2. Kommunikációs szolgáltatások (K32)
...

Sheet 13.
A2: TÁJÉKOZTATÓ
A4: Polgármesteri Hivatal tételes kiadásai
A5: 2025. év
E6: Ezer Ft.
A7: A./SZEMÉLYI JUTTATÁSOK ÖSSZESEN (K1) | C7: Eredeti előirányzat | D7: Módosított előirányzat | E7: Teljesítés | F7: Teljesítés %-a
A8: I.Foglalkoztatottak személyi juttatásai (K11)
A9: 1. | B9: Törvény szerinti alapilletmények, munkabér összesen (K1101) | C9: 128229000 | D9: 135932000 | E9: 135150000 | F9: =E9/D9 -> 0.99424712
A10: 2. | B10: Normatív jutalmak (K1102) | C10: 0 | D10: 6923000 | E10: 6917000 | F10: =E10/D10 -> 0.99913332
A11: 3. | B11: Céljuttatás, projektprémium (K1103) | C11: 0 | D11: 0 | E11: 0 | F11: 0
A12: 4. | B12: Készenléti, ügyeleti, helydíj, túlóra (K1104) | C12: 0 | D12: 0 | E12: 0 | F12: 0
A13: 5. | B13: Végkielégítés (K1105) | C13: 0 | D13: 0 | E13: 0 | F13: 0
A14: 6. | B14: Jubileumi jutalom (K1106) | C14: 9887000 | D14: 12056600 | E14: 12057000 | F14: =E14/D14 -> 1.0000332 | H14: 0
A15: 7. | B15: Béren kívüli juttatások-Cafetéria 24 fő (K1107) | C15: 9600000 | D15: 9600000 | E15: 9595000 | F15: =E15/D15 -> 0.99947917
A16: 8. | B16: Ruházati költségtérítés (K1108) | C16: 200000 | D16: 100000 | E16: 89000 | F16: =E16/D16 -> 0.89
A17: 9. | B17: Közlekedési költségtérítés (K1109) | C17: 350000 | D17: 650000 | E17: 614000 | F17: =E17/D17 -> 0.94461538
A18: 10. | B18: Egyéb költségtérítések (K1110) | C18: 3000000 | D18: 0 | E18: 0 | F18: 0
A19: 11. | B19: Foglalkoztatottak egyéb személyi juttatása (K1113) | C19: 1000000 | D19: 4435000 | E19: 4419000 | F19: =E19/D19 -> 0.99639233
B20: I.Foglalkoztatottak személyi juttatásai (K11) összesen: | C20: =SUM(C9:C19) -> 152266000 | D20: =SUM(D9:D19) -> 169696600 | E20: =SUM(E9:E19) -> 168841000 | F20: =E20/D20 -> 0.99495806
A22: II. Külső személyi juttatások (K12)
A23: 1. | B23: Választott tisztségviselők juttatása (K121) | C23: 0 | D23: 0 | E23: 0 | F23: 0
A24: 2. | B24: Egyéb külső személyi juttatás | C24: 0 | D24: 0 | E24: 0 | F24: 0
A25: 3. | B25: Egyéb külső személyi juttatás -reprezentáció (K123) | C25: 200000 | D25: 600000 | E25: 455000 | F25: =E25/D25 -> 0.75833333
A26: 4. | B26: Állományba nem tartozók megbízási díja(K122) | C26: 0 | D26: 0 | E26: 0 | F26: 0
B27: Külső személyi juttatások (K12) összesen: | C27: =SUM(C23:C26) -> 200000 | D27: =SUM(D23:D26) -> 600000 | E27: =SUM(E25:E26) -> 455000 | F27: =E27/D27 -> 0.75833333
B29: A./SZEMÉLYI JUTTATÁSOK (K1) ÖSSZESEN | C29: =C20+C27 -> 152466000 | D29: =D20+D27 -> 170296600 | E29: =E20+E27 -> 169296000 | F29: =E29/D29 -> 0.99412437
A31: B. /MUNKAADÓKAT TERHELŐ JÁRULÉK (K2)
A32: 1. | B32: Szociális hozzájárulási adó (17,5%,15,5%) | C32: 19431000 | D32: 23390000 | E32: 21636000 | F32: =E32/D32 -> 0.92501069
A33: 2. | B33: Táppénz hozzájárulás | C33: 0 | D33: 0 | E33: 77000 | F33: 0
A34: 3. | B34: Munkaadókat terhelő egyéb járulék (Szja) | C34: 0 | D34: 0 | E34: 1677000 | F34: 0
B35: B. /MUNKAADÓKAT TERHELŐ JÁRULÉK (K2) ÖSSZESEN | C35: =SUM(C32:C34) -> 19431000 | D35: =SUM(D32:D34) -> 23390000 | E35: =SUM(E32:E34) -> 23390000 | F35: =E35/D35 -> 1
A37: C./ DOLOGI KIADÁSOK (K3)
A39: 1. Készletbeszerzések (K31)
A40: Szakmai anyagok (K311) | C40: 291000 | D40: 291000 | E40: 177000 | F40: =E40/D40 -> 0.60824742
A41: Üzemeltetési anyagok beszerzése (K312) | C41: 3200000 | D41: 3200000 | E41: 2619000 | F41: =E41/D41 -> 0.8184375
A42: Árubeszerzés (K313) | C42: 0 | D42: 0 | E42: 0 | F42: 0
B43: 1. Készletbeszerzések (K31) összesen: | C43: =SUM(C40:C42) -> 3491000 | D43: =SUM(D40:D42) -> 3491000 | E43: =SUM(E40:E42) -> 2796000 | F43: =E43/D43 -> 0.80091664
A45: 2. Kommunikációs szolgáltatások (K32)
A46: Informatikai szolgáltatások (K321) | C46: 2800000 | D46: 3131000 | E46: 2975000 | F46: =E46/D46 -> 0.95017566
A47: Egyéb kommunikációs szolgáltatások (K322) | C47: 300000 | D47: 500000 | E47: 152000 | F47: =E47/D47 -> 0.304
B48: 2. Kommunikációs szolgáltatások (K32) összesen: | C48: =SUM(C46:C47) -> 3100000 | D48: =SUM(D46:D47) -> 3631000 | E48: =SUM(E46:E47) -> 3127000 | F48: =E48/D48 -> 0.86119526
...

Sheet 14.
A1: Martfű Város Önkormányzata kötelező,önként vállalt és államigagatási bevételei és kiadásai intézményi bontásban
A2: 2025. év
C3: KIADÁS | D3: BEVÉTELEK | N3: Ezer Ft
B4: Intézmények, Szakfeladatok | C4: Összesen: | D4: Működési célú tám. ÁHT-n bel. (B1) | E4: Felhalmozási célú tám. ÁHT-n bel. (B2) | F4: Közhatalmi bevételek (B3) | G4: Működési bevételek (B4) | H4: Felhalmozási bevételek (B5) | I4: Működési célú átvett pénzeszk. (B6) | J4: Felhalmozási célú átvett pénzeszk. (B7) | K4: Finanszírozási bevétel (B8) | L4: Önkormányzati finanszírozás (állami támogatás nélkül) | M4: Összesen: | N4: Önkorm. finanszírozás az össz.kiadás %-ában
A5: Gyermekjóléti és Szoc. SzK.
B6: Kötelezően ellátandó feladat
A7: 1. | B7: Gyermekjóléti szolg.,családsegítés, közétkeztetés | C7: =155915000+9281000+1856000+24004000 -> 191056000 | D7: 105103000 | G7: 50087000 | K7: 3857000 | L7: 30806000 | M7: =SUM(D7:L7) -> 189853000
A8: 2. | B8: Városüzemeltetési feladatok | C8: =6373000+45454000+142689000 -> 194516000 | D8: 6840000 | G8: 35844000 | H8: 0 | L8: 151832000 | M8: =SUM(D8:L8) -> 194516000
B9: Kötelezően ellátandó feladat összesen: | C9: =SUM(C7:C8) -> 385572000 | D9: =SUM(D7:D8) -> 111943000 | E9: =SUM(E7:E8) -> 0 | F9: =SUM(F7:F8) -> 0 | G9: =SUM(G7:G8) -> 85931000 | H9: =SUM(H7:H8) -> 0 | I9: =SUM(I7:I8) -> 0 | J9: =SUM(J7:J8) -> 0 | ... M9: =SUM(M7:M8) -> 384369000 | N9: =L9/C9 -> 0.47368066
B10: Önként vállalt feladat
A11: 1. | B11: Üdülői szálláshely szolg. | C11: 3301000 | G11: 1745000 | L11: 1556000 | M11: =SUM(D11:L11) -> 3301000
