Workbook
Name Print_Area_0: '1.'!$A$1:$E$157
Name Print_Area_0: '10.'!$A$1:$I$11
Name Print_Area_0: '11.'!$A$1:$C$38
Name Print_Area_0: '12.'!$A$1:$G$157
Name Print_Area_0: '13.'!$A$1:$F$107
Name Print_Area_0: '2.'!$A$1:$Z$29
Name Print_Area_0: '3.'!$A$1:$F$36
Name Print_Area_0: '4.'!$A$1:$W$33
Name Print_Area_0: '5.'!$B$1:$G$164
Name Print_Area_0: '6.'!$A$1:$H$18
Name Print_Area_0: '7.'!$A$1:$J$44
Name Print_Area_0: '9.'!$A$1:$H$69
Name Print_Area_0_0: '1.'!$A$1:$E$157
Name Print_Area_0_0: '10.'!$A$1:$I$11
Name Print_Area_0_0: '11.'!$A$1:$C$38
Name Print_Area_0_0: '12.'!$A$1:$G$157
Name Print_Area_0_0: '13.'!$A$1:$F$107
Name Print_Area_0_0: '2.'!$A$1:$Z$29
Name Print_Area_0_0: '3.'!$A$1:$F$36
Name Print_Area_0_0: '4.'!$A$1:$W$33
Name Print_Area_0_0: '5.'!$B$1:$G$164
Name Print_Area_0_0: '6.'!$A$1:$H$18
Name Print_Area_0_0: '7.'!$A$1:$J$44
Name Print_Area_0_0: '9.'!$A$1:$H$69
Name Print_Area_0_0_0: '1.'!$A$1:$E$157
Name Print_Area_0_0_0: '10.'!$A$1:$I$11
Name Print_Area_0_0_0: '11.'!$A$1:$C$38
Name Print_Area_0_0_0: '12.'!$A$1:$G$157
Name Print_Area_0_0_0: '13.'!$A$1:$F$107
Name Print_Area_0_0_0: '2.'!$A$1:$Z$29
Name Print_Area_0_0_0: '3.'!$A$1:$F$36
Name Print_Area_0_0_0: '4.'!$A$1:$W$33
Name Print_Area_0_0_0: '5.'!$B$1:$G$164
Name Print_Area_0_0_0: '6.'!$A$1:$H$18
Name Print_Area_0_0_0: '7.'!$A$1:$J$44
Name Print_Area_0_0_0: '9.'!$A$1:$H$69
Name Print_Area_0_0_0_0: '1.'!$A$1:$E$157
Name Print_Area_0_0_0_0: '10.'!$A$1:$I$11
Name Print_Area_0_0_0_0: '11.'!$A$1:$C$38
Name Print_Area_0_0_0_0: '12.'!$A$1:$G$157
Name Print_Area_0_0_0_0: '13.'!$A$1:$F$107
Name Print_Area_0_0_0_0: '2.'!$A$1:$Z$29
Name Print_Area_0_0_0_0: '3.'!$A$1:$F$36
Name Print_Area_0_0_0_0: '4.'!$A$1:$W$33
Name Print_Area_0_0_0_0: '5.'!$B$1:$G$164
Name Print_Area_0_0_0_0: '6.'!$A$1:$H$18
Name Print_Area_0_0_0_0: '7.'!$A$1:$J$44
Name Print_Area_0_0_0_0: '9.'!$A$1:$H$69
Name Print_Area_0_0_0_0_0: '1.'!$A$1:$E$157
Name Print_Area_0_0_0_0_0: '10.'!$A$1:$I$11
Name Print_Area_0_0_0_0_0: '11.'!$A$1:$C$38
Name Print_Area_0_0_0_0_0: '12.'!$A$1:$G$157
Name Print_Area_0_0_0_0_0: '13.'!$A$1:$F$107
Name Print_Area_0_0_0_0_0: '2.'!$A$1:$Z$29
Name Print_Area_0_0_0_0_0: '3.'!$A$1:$F$36
Name Print_Area_0_0_0_0_0: '4.'!$A$1:$W$33
Name Print_Area_0_0_0_0_0: '5.'!$B$1:$G$164
Name Print_Area_0_0_0_0_0: '6.'!$A$1:$H$18
Name Print_Area_0_0_0_0_0: '7.'!$A$1:$J$44
Name Print_Area_0_0_0_0_0: '9.'!$A$1:$H$69

Sheet 1.
A1: Az önkormányzat 2025. évi bevételei
A4: Bevételi jogcímek megnevezése | B4: 2025. évi eredeti előirányzat e Ft | C4: 2025.évi módosított előirányzat e Ft | D4: 2025. évi Teljesítés e Ft | E4: Teljesítés %-a
A5: 1. Működési célú támogatások ÁHT-on belűlről (B1)
A6: 1.1. Települési önkormányzatok működésének általános támogatása
A7: 1.1.1.1. Önkormányzati hivatal működésének támogatása
A8: 12 havi összeg elismert hivatali létszám alapján | B8: 135788000 | C8: 152939000 | D8: 152939000 | E8: =D8/C8 -> 1
A9: 1.1.1.2. Zöldterület-gazd. kapcs.feladat ellátás támogatása | B9: 8029000 | C9: 8029000 | D9: 8029000 | E9: =D9/C9 -> 1
A10: 1.1.1.3.1. Közvilágítás alaptámogatása | B10: 10687000 | C10: 10687000 | D10: 10687000 | E10: =D10/C10 -> 1
A11: 1.1.1.3.2. Közvilágítás üzemeltetési támogatás | B11: 5910000 | C11: 4990000 | D11: 4990000 | E11: =D11/C11 -> 1
A12: 1.1.1.4. Köztemető fenntartásával kapcsolatos feladatok támogatása | B12: 100000 | C12: 100000 | D12: 100000 | E12: =D12/C12 -> 1
A13: 1.1.1.5. Közutak fenntartás támogatása | B13: 7538000 | C13: 7538000 | D13: 7538000 | E13: =D13/C13 -> 1
A14: 1.1.1.6. Egyéb önkormányzati feladatok támogatása | B14: 16640000 | C14: 16640000 | D14: 16640000 | E14: =D14/C14 -> 1
A15: 1.1.1.7. Lakott külterülettel kapcsolatos feladatok támogatása | B15: 107000 | C15: 107000 | D15: 107000 | E15: =D15/C15 -> 1
A16: 1.1.5. Közvilágítás kiegészítő támogatása | E16: 0
A17: Általános feladatok, támogatások összesen 12 havi | B17: =SUM(B8:B16) -> 184799000 | C17: =SUM(C8:C16) -> 201030000 | D17: =SUM(D8:D16) -> 201030000 | E17: =D17/C17 -> 1
A18: (Szolidaritási hozzájárulás K5 összege: 474 708 e Ft) | B18: 0 | C18: 0 | D18: 0
A19: 1.1.Települési önkormányzatok működésének általános támogatása összesen: | B19: =SUM(B17:B18) -> 184799000 | C19: =SUM(C17:C18) -> 201030000 | D19: =SUM(D17:D18) -> 201030000 | E19: =D19/C19 -> 1
A21: 1.2.A települési önkormányzatok egyes köznevelési feladatainak támogatása
A22: 1.2.1. Óvodaműködési támogatás | B22: 0 | C22: 0 | D22: 0 | E22: 0
A23: 1.2.1.1. Óvodaműködési támogatás-óvoda napi nyitvatartási ideje eléri a nyolc órát | B23: 26201000 | C23: 26201000 | D23: 26201000 | E23: =D23/C23 -> 1
A24: 1.2.1.3. Óvodaműködési támogatás-üzemeletési támogatás | B24: 0 | C24: 0 | D24: 0 | E24: 0
A25: 1.2.2. Óvodában foglalkoztatott pedagógusok átlagbér alapú támogatása | B25: 0 | C25: 0 | D25: 0 | E25: 0
A26: 1.2.2.1. Pedagógusok átlagbér alapú támogatása | B26: 142058000 | C26: 144342000 | D26: 144342000 | E26: =D26/C26 -> 1
A27: 1.2.3. Kiegészítő támogatás a pedagógusok és a ped.szakképzettséggel rendelkező segítők minősítéséből adódó többletkiadásokhoz
A28: 1.2.3.1.1.1.1. Pedagógus II.kat.sorolt ped.,ped.szakképz.rendelk.segítők kiegészítő tám. | B28: 6691000 | C28: 6343000 | D28: 6343000 | E28: =D28/C28 -> 1
A29: 1.2.3.1.1.1.2. Mesterpedagógus kat.sorolt ped.kiegészítő tám. | B29: 3241000 | C29: 3241000 | D29: 3241000 | E29: =D29/C29 -> 1
A30: 1.2.5. Óvodában foglalkoztatott pedagógusok nevelőmunkáját segítők átlagbér alapú támogatása
A31: 1.2.5.1.1. Ped.szakképzettséggel nem rendelkező segítők átlagbér alapú támogatása | B31: 57948000 | C31: 56368000 | D31: 56368000 | E31: =D31/C31 -> 1
B32: 0 | C32: 0 | D32: 0
A33: 1.2. A települési önkorm.egyes köznevelési feladatainak tám.összesen: | B33: =SUM(B23:B32) -> 236139000 | C33: =SUM(C23:C32) -> 236495000 | D33: =SUM(D22:D32) -> 236495000 | E33: =D33/C33 -> 1
A35: 1.3. A települési önkormányzatok egyes szociális és gyermekjóléti feladatainak támogatása
A36: 1.3.2. Egyes szociális és gyermekjóléti feladatok támogatása
A37: 1.3.2.1. Család-és gyermekjóléti szolgálat | B37: 7972000 | C37: 8568000 | D37: 8568000 | E37: =D37/C37 -> 1
A38: 1.3.2.3.1. Szociális étkeztetés | B38: 0 | C38: 0 | D38: 0 | E38: 0
A39: 1.3.2.4.1. Szociális segítségnyújtás | B39: 0 | C39: 0 | D39: 0 | E39: 0
A40: 1.3.2.6.1.Falugondnoki, vagy tanyagondnoki szolgáltatás | B40: 0 | C40: 0 | D40: 0 | E40: 0
A41: 1.3.2.6.1.Időskorúak nappali intézményi ellátása | B41: 0 | C41: 0 | D41: 0 | E41: 0
A42: 1.3.2. Egyes szociális és gyermekjóléti feladatok támogatása összesen: | B42: =B37 -> 7972000 | C42: =C37 -> 8568000 | D42: =SUM(D37:D41) -> 8568000 | E42: =D42/C42 -> 1
A44: 1.3.3. Bölcsőde, mini bölcsőde támogatása
A45: 1.3.3.1.1. Felsőfokú végzettségű kisgyermeknevelők szaktanácsadók bértámogatása | B45: 41188000 | C45: 44277000 | D45: 44277000 | E45: =D45/C45 -> 1
A46: 1.3.3.1.2. Bölcsődei dajkák,középfokú végzettségű kisgyermeknevelők bértámogatása | B46: 31553000 | C46: 29352000 | D46: 29352000 | E46: =D46/C46 -> 1
A47: 1.3.3.2.Bölcsődei üzemeltetési támogatás | B47: 12105000 | C47: 11458000 | D47: 11458000 | E47: =D47/C47 -> 1
A48: 1.3.3. Bölcsőde, mini bölcsőde támogatása összesen: | B48: =SUM(B45:B47) -> 84846000 | C48: =SUM(C45:C47) -> 85087000 | D48: =SUM(D45:D47) -> 85087000 | E48: =D48/C48 -> 1
A50: 1.3. A települési önkormányzatok egyes szociális és gyermekjóléti feladatainak támogatása összesen: | B50: =B42+B48 -> 92818000 | C50: =C42+C48 -> 93655000 | D50: =D42+D48 -> 93655000 | E50: =D50/C50 -> 1
A52: 1.4. A települési önkormányzatok gyermekétkeztetési feladatainak támogatása
A53: 1.4.1.1. Intézményi gyermekétkeztetés bértámogatása | B53: 53641000 | C53: 53640000 | D53: 53640000 | E53: =D53/C53 -> 1
A54: 1.4.1.2. Intézményi gyermekétkeztetés üzemeltetési támogatása | B54: 42252000 | C54: 42895000 | D54: 42895000 | E54: =D54/C54 -> 1
A55: 1.4.2. Szünidei étkeztetés támogatása | B55: 0 | C55: 0 | D55: 0 | E55: 0
A56: 1.4. A települési önkormányzatok gyermekétkeztetési feladatainak támogatása összesen: | B56: =SUM(B53:B55) -> 95893000 | C56: =SUM(C53:C55) -> 96535000 | D56: =SUM(D53:D55) -> 96535000 | E56: =D56/C56 -> 1
A58: 1.5. A települési önkormányzatok kulturális feladatainak támogatása
A59: 1.5.2. Települési önk.nyilvános könyvtári és közműv.feladatok támogatása | B59: 13152000 | C59: 13152000 | D59: 13152000 | E59: =D59/C59 -> 1
A60: 1.5. A települési önkormányzatok kulturális feladatainak támogatása összesen: | B60: =SUM(B59) -> 13152000 | C60: =SUM(C59) -> 13152000 | D60: =SUM(D59) -> 13152000 | E60: =D60/C60 -> 1
A62: Mutatószám felméréshez tartozó állami támogatás: | B62: =B19+B33+B50+B56+B60 -> 622801000 | C62: =C19+C33+C50+C56+C60 -> 640867000 | D62: =D19+D33+D50+D56+D60 -> 640867000 | E62: =D62/C62 -> 1
A64: Működési célú költségvetési és kiegészítő támogatás
A65: 2.1.1. Polgármesteri illetményhez és költségtérítéshez nyújtott támogatás | B65: 3671000 | C65: 6346000 | D65: 6346000 | E65: =D65/C65 -> 1
A66: 2.1.5. Önkormányzatok rendkívüli támogatása | B66: 0 | C66: 124061000 | D66: 124061000 | E66: =D66/C66 -> 1
A67: 2.1.6. Önkormányzati elszámolásból származó bevétel | B67: 0 | C67: 623000 | D67: 623000 | E67: =D67/C67 -> 1
A68: 2.3.2. Szociális ágazati összevont pótlék és egészségügyi kiegészítő pótlék | B68: 0 | C68: 6129000 | D68: 6129000 | E68: =D68/C68 -> 1
A69: 2.4.7.Települési önkormányzatok kulturális feladatainak bérjellegű támogatása | B69: 0 | C69: 11369000 | D69: 11369000 | E69: =D69/C69 -> 1
A70: 2.4.8.Települési önkormányzatok könyvtári érdekeltségnövelő támogatása | B70: 0 | C70: 503000 | D70: 503000 | E70: =D70/C70 -> 1
A71: Működési célú költségvetési és kiegészítő támogatás összesen: | B71: 0 | C71: =SUM(C65:C70) -> 149031000 | D71: =SUM(D65:D70) -> 149031000 | E71: =D71/C71 -> 1
B73: =SUM(B72) -> 0 | C73: =SUM(C72:C72) -> 0 | D73: =SUM(D72:D72) -> 0
A74: Támogatások összesen: | B74: =B62+B65 -> 626472000 | C74: =C62+C71 -> 789898000 | D74: =D62+D71 -> 789898000 | E74: =D74/C74 -> 1
A76: Elvonások és befizetések bevételei
A78: Egyéb működési célú támogatások ÁHT-n belülről
A79: Nemzeti Egészségbiztosítási Alapkezelő-II.sz. fogorvosi körzet feladattámogatása | B79: 0 | C79: 0 | D79: 7167000
A80: Nemzeti Foglalkoztatási Alapból-közfoglalkoztatási támogatás | B80: 12437000 | C80: 58704000 | D80: 60209000 | E80: =D80/C80 -> 1.0256371
A81: TOP-pályázatok | B81: 31493000 | C81: 31493000 | D81: 0 | E81: =D81/C81 -> 0
A82: Műv.Kp.-pályázatok | B82: 0 | C82: 6052000 | D82: 6052000 | E82: =D82/C82 -> 1
A83: „Nyári diákmunka” program keretén belül bérköltség támogatás | B83: 0 | C83: 1309000 | D83: 1304000 | E83: =D83/C83 -> 0.99618029
A84: Egyéb működési célú támogatások ÁHT-n belülről összesen: | B84: =SUM(B76:B83) -> 43930000 | C84: =SUM(C78:C83) -> 97558000 | D84: =SUM(D76:D83) -> 74732000 | E84: =D84/C84 -> 0.76602636
A88: 1. Működési c. tám. ÁHT-n belülről (B1) összesen : | B88: =B74+B84 -> 670402000 | C88: =C74+C76+C84 -> 887456000 | D88: =D74+D76+D84 -> 864630000 | E88: =D88/C88 -> 0.97427929
A91: 2. Felhalmozási célú támogatás ÁHT-on belülről (B2)
A92: TOP-pályázatok | B92: 554997000 | C92: 555838000 | D92: 160899000 | E92: =D92/C92 -> 0.28947103
A93: Műv.Kp.-pályázatok | B93: 0 | C93: 0 | D93: 841000 | E93: 0
A94: 2. Felhalmozási célú támogatás ÁHT-on belülről (B2) összesen: | B94: =SUM(B92:B93) -> 554997000 | C94: =SUM(C92:C93) -> 555838000 | D94: =SUM(D92:D93) -> 161740000 | E94: =D94/C94 -> 0.29098406
A96: 3. Közhatalmi bevételek (B3)
A97: Vagyoni tipusú adók
A98: Építményadó | B98: 240000000 | C98: 240000000 | D98: 245438000 | E98: =D98/C98 -> 1.0226583
A99: Termékek és szolgáltatások adói
A100: Helyi iparűzési adó | B100: 1100000000 | C100: 975939000 | D100: 923342000 | E100: =D100/C100 -> 0.94610626
A101: Idegenforgalmi adó | B101: 9000000 | C101: 9000000 | D101: 9548000 | E101: =D101/C101 -> 1.0608889
B102: 0
A103: Helyi adók összesen: | B103: =SUM(B98:B102) -> 1349000000 | C103: =SUM(C98:C102) -> 1224939000 | D103: =SUM(D98:D102) -> 1178328000 | E103: =D103/C103 -> 0.96194831
A104: Egyéb közhatalmi bevételek
A105: Igazgatási szolgáltatási díjak | B105: 0 | C105: 0 | D105: 0 | E105: 0
A106: Felügyeleti díjak | B106: 0 | C106: 0 | D106: 0 | E106: 0
A107: Környezetvédelmi bírság | B107: 0 | C107: 0 | D107: 0 | E107: 0
A108: Pótlék, bírság | B108: 1500000 | C108: 1500000 | D108: 2583000 | E108: =D108/C108 -> 1.722
A109: Egyéb közhatalmi bevételek össszesen: | B109: =SUM(B106:B108) -> 1500000 | C109: =SUM(C106:C108) -> 1500000 | D109: =SUM(D106:D108) -> 2583000 | E109: =D109/C109 -> 1.722
A111: 3. Közhatalmi bevételek (B3) összesen: | B111: =B103+B109 -> 1350500000 | C111: =C103+C109 -> 1226439000 | D111: =D103+D109 -> 1180911000 | E111: =D111/C111 -> 0.96287789
B112: =B104+B110 -> 0 | C112: =C104+C110 -> 0 | D112: =D104+D110 -> 0
A113: Bevételi jogcímek megnevezése
A114: 4. Működési bevételek (B4)
A115: Áru- és készletértékesítés ellenértéke (B401) | B115: 0 | C115: 0 | D115: 0 | E115: 0
A116: Szolgáltatások ellenértéke (B402) | B116: ='2.'!T14 -> 25969000 | C116: ='2.'!U14 -> 28969000 | D116: ='2.'!V14 -> 38337000 | E116: =D116/C116 -> 1.3233802
A117: Közvetített szolgáltatások ellenértéke (B403) | B117: ='2.'!T15 -> 23763000 | C117: ='2.'!U15 -> 23763000 | D117: ='2.'!V15 -> 16994000 | E117: =D117/C117 -> 0.71514539
A118: Tulajdonosi bevételek (B404) | B118: ='2.'!T16 -> 63798000 | C118: ='2.'!U16 -> 63798000 | D118: ='2.'!V16 -> 75314000 | E118: =D118/C118 -> 1.1805072
A119: Ellátási díjak (B405) | B119: ='2.'!T17 -> 62209000 | C119: ='2.'!U17 -> 62209000 | D119: ='2.'!V17 -> 61031000 | E119: =D119/C119 -> 0.98106383
A120: Kiszámlázott ÁFA (B406) | B120: ='2.'!T18 -> 26815000 | C120: ='2.'!U18 -> 27625000 | D120: ='2.'!V18 -> 37376000 | E120: =D120/C120 -> 1.3529774
...

Sheet 2.
A3: Az Önkormányzat által irányított költségvetési szervek kiemelt költségvetési bevételi előirányzat 2025.év | O3: Az Önkormányzat által irányított költségvetési szervek kiemelt költségvetési bevételi előirányzat 2025.év
V6: Ezer Ft.
B7: Bevételi jogcím | C7: Gyermekjóléti és Szoc. SzK. | F7: Játékvár Óvoda és Bölcsőde | I7: Városi Művelődési Központ és Könyvtár | L7: Polgármesteri Hivatal | P7: Bevételi jogcím | Q7: Martfű Város Önkormányzata | T7: Önkormányzat mindösszesen
C8: Eredeti előirányzat | D8: Módosított előirányzat | E8: Teljesítés | F8: Eredeti előirányzat | G8: Módosított előirányzat | H8: Teljesítés | I8: Eredeti előirányzat | J8: Módosított előirányzat | K8: Teljesítés | L8: Eredeti előirányzat | M8: Módosított előirányzat | N8: Teljesítés | Q8: Eredeti előirányzat | R8: Módosított előirányzat | S8: Teljesítés | T8: Eredeti előirányzat | U8: Módosított előirányzat | V8: Teljesítés
A9: 1. | B9: Működési c. tám. ÁHT-n belülről (B1) | C9: 1705000 | D9: 7280000 | E9: 6840000 | F9: 3057000 | G9: 13091000 | H9: 13599000 | I9: 1672000 | J9: 17393000 | K9: 18103000 | O9: 1. | P9: Működési c. tám. ÁHT-n belülről (B1) | Q9: 663968000 | R9: 849694000 | S9: 826088000 | T9: =SUM(C9,F9,I9,L9,Q9) -> 670402000 | U9: =SUM(D9,G9,J9,M9,R9) -> 887458000 | V9: =SUM(E9,H9,K9,N9,S9,) -> 864630000
A10: 2. | B10: Felhalmozási célú támogatás ÁHT-on belűlről (B2) | I10: 0 | J10: 841000 | K10: 841000 | O10: 2. | P10: Felhalmozási célú támogatás ÁHT-on belűlről (B2) | Q10: 554997000 | R10: 554997000 | S10: 160899000 | T10: =SUM(C10,F10,I10,L10,Q10) -> 554997000 | U10: =SUM(D10,G10,J10,M10,R10) -> 555838000 | V10: =SUM(E10,H10,K10,N10,S10,) -> 161740000
A11: 3. | B11: Közhatalmi bevételek (B3) | L11: 0 | M11: 0 | N11: 50000 | O11: 3. | P11: Közhatalmi bevételek (B3) | Q11: =+'1.'!B111 -> 1350500000 | R11: =+'1.'!C111 -> 1226439000 | S11: 1180861000 | T11: =SUM(C11,F11,I11,L11,Q11) -> 1350500000 | U11: =SUM(D11,G11,J11,M11,R11) -> 1226439000 | V11: =SUM(E11,H11,K11,N11,S11,) -> 1180911000
A12: 4. | B12: Működési bevételek (B4) összesen | C12: =SUM(C14:C23) -> 82184000 | D12: =SUM(D14:D23) -> 83770000 | E12: =SUM(E13:E23) -> 87676263 | G12: =SUM(G13:G23) -> 0 | H12: =SUM(H13:H23) -> 1154000 | I12: =SUM(I13:I23) -> 19020000 | J12: =SUM(J13:J23) -> 23220000 | K12: =SUM(K13:K23) -> 30696124 | L12: =SUM(L13:L23) -> 1153000 | M12: =SUM(M13:M23) -> 1153000 | N12: =SUM(N13:N23) -> 1967000 | O12: 4. | P12: Működési bevételek (B4) összesen | Q12: =SUM(Q13:Q23) -> 240041000 | R12: =SUM(R13:R23) -> 249558000 | S12: =SUM(S13:S23) -> 310681000 | T12: =SUM(T13:T23) -> 342398000 | U12: =SUM(U13:U23) -> 357701000 | V12: =SUM(V13:V23) -> 432174387
B13: Áru- és készletértékesítés ellenértéke (B401) | K13: 0 | P13: Áru- és készletértékesítés ellenértéke (B401) | T13: =SUM(C13,F13,I13,L13,Q13) -> 0 | U13: =SUM(D13,G13,J13,M13,R13) -> 0 | V13: =SUM(E13,H13,K13,N13,S13) -> 0
B14: Szolgáltatások ellenértéke (B402) | C14: 2240000 | D14: 2240000 | E14: 4325000 | I14: 14240000 | J14: 17240000 | K14: 22688000 | L14: 1000000 | M14: 1000000 | N14: 455000 | P14: Szolgáltatások ellenértéke (B402) | Q14: 8489000 | R14: 8489000 | S14: 10869000 | T14: =SUM(C14,F14,I14,L14,Q14) -> 25969000 | U14: =SUM(D14,G14,J14,M14,R14) -> 28969000 | V14: =SUM(E14,H14,K14,N14,S14) -> 38337000
B15: Közvetített szolgáltatások ellenértéke (B403) | C15: 34000 | D15: 34000 | E15: 33000 | I15: 2000000 | J15: 2000000 | K15: 2007000 | L15: 120000 | M15: 120000 | N15: 68000 | P15: Közvetített szolgáltatások ellenértéke (B403) | Q15: 21609000 | R15: 21609000 | S15: 14886000 | T15: =C15+F15+I15+L15+Q15 -> 23763000 | U15: =SUM(D15,G15,J15,M15,R15) -> 23763000 | V15: =SUM(E15,H15,K15,N15,S15) -> 16994000
B16: Tulajdonosi bevételek (B404) | C16: 0 | N16: 1260000 | P16: Tulajdonosi bevételek (B404) | Q16: 63798000 | R16: 63798000 | S16: 74054000 | T16: =SUM(C16,F16,I16,L16,Q16) -> 63798000 | U16: =SUM(D16,G16,J16,M16,R16) -> 63798000 | V16: =SUM(E16,H16,K16,N16,S16) -> 75314000
B17: Ellátási díjak (B405) | C17: 62209000 | D17: 62209000 | E17: 61031000 | P17: Ellátási díjak (B405) | T17: =SUM(C17,F17,I17,L17,Q17) -> 62209000 | U17: =SUM(D17,G17,J17,M17,R17) -> 62209000 | V17: =SUM(E17,H17,K17,N17,S17) -> 61031000
B18: KiszámlázottÁFA (B406) | C18: 17101000 | D18: 17101000 | E18: 17294000 | H18: 0 | I18: 2780000 | J18: 3590000 | K18: 4236000 | L18: 33000 | M18: 33000 | N18: 18000 | P18: KiszámlázottÁFA (B406) | Q18: 6901000 | R18: 6901000 | S18: 15828000 | T18: =SUM(C18,F18,I18,L18,Q18) -> 26815000 | U18: =SUM(D18,G18,J18,M18,R18) -> 27625000 | V18: =SUM(E18,H18,K18,N18,S18) -> 37376000
B19: ÁFA visszatérítés (B407) | C19: 0 | D19: 1586000 | E19: 1749000 | I19: 0 | J19: 390000 | K19: 1441000 | P19: ÁFA visszatérítés (B407) | Q19: 34244000 | R19: 34244000 | S19: 0 | T19: =SUM(C19,F19,I19,L19,Q19) -> 34244000 | U19: =SUM(D19,G19,J19,M19,R19) -> 36220000 | V19: =SUM(E19,H19,K19,N19,S19) -> 3190000
B20: Kamatbevételek (B408) | C20: 0 | D20: 0 | E20: 368263 | K20: 124 | P20: Kamatbevételek (B408) | Q20: 100000000 | R20: 109517000 | S20: 175335000 | T20: =SUM(C20,F20,I20,L20,Q20) -> 100000000 | U20: =SUM(D20,G20,J20,M20,R20) -> 109517000 | V20: =E20+H20+K20+N20+S20 -> 175703387
B21: Egyéb pénzügyi műveletek (B409) | P21: Egyéb pénzügyi műveletek (B409) | T21: =SUM(C21,F21,I21,L21,Q21) -> 0 | U21: =SUM(D21,G21,J21,M21,R21) -> 0 | V21: =SUM(E21,H21,K21,N21,S21) -> 0
B22: Biztosító által fizetett kártérítés (B410) | P22: Biztosító által fizetett kártérítés (B410) | S22: 408000 | T22: =SUM(C22,F22,I22,L22,Q22) -> 0 | U22: =SUM(D22,G22,J22,M22,R22) -> 0 | V22: =SUM(E22,H22,K22,N22,S22) -> 408000
B23: Egyéb működési bevételek (B411) | C23: 600000 | D23: 600000 | E23: 2876000 | H23: 1154000 | K23: 324000 | L23: 0 | M23: 0 | N23: 166000 | P23: Egyéb működési bevételek (B411) | Q23: 5000000 | R23: 5000000 | S23: 19301000 | T23: =SUM(C23,F23,I23,L23,Q23) -> 5600000 | U23: =SUM(D23,G23,J23,M23,R23) -> 5600000 | V23: =SUM(E23,H23,K23,N23,S23) -> 23821000
A24: 5. | B24: Felhalmozási bevételek (B5) | E24: 0 | N24: 25000 | O24: 5. | P24: Felhalmozási bevételek (B5) | Q24: 3000000 | R24: 3000000 | S24: 7705000 | T24: =SUM(C24,F24,I24,L24,Q24) -> 3000000 | U24: =SUM(D24,G24,J24,M24,R24) -> 3000000 | V24: =SUM(E24,H24,K24,N24,S24) -> 7730000
A25: 6. | B25: Működési célú átvett pénzeszközök (B6) | J25: 0 | K25: 211000 | O25: 6. | P25: Működési célú átvett pénzeszközök (B6) | Q25: ='1.'!B138 -> 0 | S25: 758000 | T25: =SUM(C25,F25,I25,L25,Q25) -> 0 | U25: =SUM(D25,G25,J25,M25,R25) -> 0 | V25: =SUM(E25,H25,K25,N25,S25) -> 969000
A26: 7. | B26: Felhalmozási célú átvett pénzeszközök (B7) | O26: 7. | P26: Felhalmozási célú átvett pénzeszközök (B7) | Q26: ='1.'!B143 -> 3500000 | R26: ='1.'!C143 -> 3500000 | S26: ='1.'!D143 -> 2753000 | T26: =SUM(C26,F26,I26,L26,Q26) -> 3500000 | U26: =SUM(D26,G26,J26,M26,R26) -> 3500000 | V26: =SUM(E26,H26,K26,N26,S26) -> 2753000
B27: Költségvetési bevételek összesen (B1+…+B7) | C27: =SUM(C9:C12,C24:C26) -> 83889000 | D27: =SUM(D9:D12,D24:D26) -> 91050000 | E27: =SUM(E9:E12,E24:E26) -> 94516263 | F27: =SUM(F9:F12,F24:F26) -> 3057000 | G27: =SUM(G9:G12,G24:G26) -> 13091000 | H27: =SUM(H9:H12,H24:H26) -> 14753000 | I27: =SUM(I9:I12,I24:I26) -> 20692000 | J27: =SUM(J9:J12,J24:J26) -> 41454000 | ... N27: =SUM(N9:N12,N24:N26) -> 2042000 | P27: Költségvetési bevételek összesen (B1+…+B7) | Q27: =SUM(Q9:Q12,Q24:Q26) -> 2816006000 | R27: =SUM(R9:R12,R24:R26) -> 2887188000 | S27: =SUM(S9:S12,S24:S26) -> 2489745000 | T27: =SUM(T9:T12,T24:T26) -> 2924797000 | U27: =SUM(U9:U12,U24:U26) -> 3033936000 | V27: =SUM(V9:V12,V24:V26) -> 2650907387
A28: 8. | B28: Finanszírozási bevételek (B8) | C28: 0 | D28: 3857000 | E28: 3857000 | G28: 1044000 | H28: 1044000 | I28: 0 | J28: 2876000 | K28: 2876000 | L28: 0 | M28: 20000 | N28: 20000 | O28: 8. | P28: Finanszírozási bevételek (B8) | Q28: 2536320000 | R28: 3539794000 | S28: =3241014000+298780000 -> 3539794000 | T28: =SUM(C28,F28,I28,L28,Q28) -> 2536320000 | U28: =SUM(D28,G28,J28,M28,R28) -> 3547591000 | V28: =SUM(E28,H28,K28,N28,S28)+2000 -> 3547593000
B29: Önkormányzat és Intézményei Bevételek összesen:(B1+…+B8) | C29: =SUM(C27:C28) -> 83889000 | D29: =SUM(D27:D28) -> 94907000 | E29: =SUM(E27:E28) -> 98373263 | F29: =SUM(F27:F28) -> 3057000 | G29: =SUM(G27:G28) -> 14135000 | H29: =SUM(H27:H28) -> 15797000 | I29: =SUM(I27:I28) -> 20692000 | J29: =SUM(J27:J28) -> 44330000 | ... N29: =SUM(N27:N28) -> 2062000 | P29: Önkormányzat és Intézményei Bevételek összesen:(B1+…+B8) | Q29: =SUM(Q27:Q28) -> 5352326000 | R29: =SUM(R27:R28) -> 6426982000 | S29: =SUM(S27:S28) -> 6029539000 | T29: =SUM(T27:T28) -> 5461117000 | U29: =SUM(U27:U28) -> 6581527000 | V29: =SUM(V27:V28) -> 6198500387
T31: =+T29-'1.'!B154 -> 0 | U31: =+U29-'1.'!C154 -> 0

Sheet 3.
A3: Az önkormányzat 2025. évi költségvetési kiadásainak alakulása
F7: Ezer Ft.
A9: Feladatok megnevezése | C9: Eredeti előirányzat | D9: Módosított előirányzat | E9: Teljesítés | F9: Teljesítés %-a
A11: I. Működési, fenntartási kiadások
A12: Ebből:
B13: - személyi juttatás (K1) | C13: ='4.'!T10 -> 780301000 | D13: ='4.'!U10 -> 862713798 | E13: ='4.'!V10 -> 846688807 | F13: =(E13/D13) -> 0.9814249
B14: - munkáltatót terhelő járulék (K2) | C14: ='4.'!T11 -> 105948000 | D14: ='4.'!U11 -> 118155880 | E14: ='4.'!V11 -> 117505688 | F14: =(E14/D14) -> 0.99449717
B15: - dologi kiadások (K3) | C15: ='4.'!T12 -> 774693000 | D15: ='4.'!U12 -> 815767015 | E15: ='4.'!V12 -> 560405327 | F15: =(E15/D15) -> 0.68696738
B16: - ellátottak pénzbeli juttatása (K4) | C16: ='4.'!T13 -> 44073000 | D16: ='4.'!U13 -> 43873000 | E16: ='4.'!V13 -> 40748000 | F16: =(E16/D16) -> 0.92877168
B17: - egyéb működési célú kiadások (K5) | C17: ='4.'!T14 -> 504785000 | D17: ='4.'!U14 -> 549509000 | E17: ='4.'!V14 -> 549291000 | F17: =(E17/D17) -> 0.99960328
B18: - általános tartalék | C18: ='4.'!T15 -> 276580000 | D18: ='4.'!U15 -> 826955000 | E18: ='4.'!V15 -> 0 | F18: =(E18/D18) -> 0
B19: - céltartalék | C19: ='4.'!T16 -> 127508000 | D19: ='4.'!U16 -> 73508000 | E19: ='4.'!V16 -> 0 | F19: =(E19/D19) -> 0
A21: I. Működési, fenntartási kiadások összesen: | C21: =SUM(C13:C20) -> 2613888000 | D21: =SUM(D13:D20) -> 3290481693 | E21: =SUM(E13:E20) -> 2114638822 | F21: =(E21/D21) -> 0.64265327
A23: II. Felhalmozási kiadások
A24: Ebből:
B25: - beruházás (K6) | C25: ='4.'!T20 -> 2678503000 | D25: ='4.'!U20 -> 2808712000 | E25: ='4.'!V20 -> 5.8429079e+08 | F25: =(E25/D25) -> 0.20802802
B26: - felújítás (K7) | C26: ='4.'!T21 -> 116907000 | D26: ='4.'!U21 -> 158667000 | E26: ='4.'!V21 -> 94949249 | F26: =(E26/D26) -> 0.59841838
B27: - egyéb felh.kiadások (K8) | C27: ='4.'!T22 -> 10000000 | D27: ='4.'!U22 -> 10000000 | E27: ='4.'!V22 -> 3000000 | F27: =(E27/D27) -> 0.3
B28: -felhalmozási célú céltartalék | C28: ='4.'!T23 -> 20665000 | D28: ='4.'!U23 -> 20665000 | E28: ='4.'!V23 -> 0 | F28: 0
A29: II. Felhalmozási kiadások összesen: | C29: =SUM(C25:C28) -> 2826075000 | D29: =SUM(D25:D28) -> 2998044000 | E29: =SUM(E25:E28) -> 6.8224004e+08 | F29: =(E29/D29) -> 0.22756172
A31: I-II. Tárgy évi kiadások összesen: | C31: =SUM(C21,C29) -> 5439963000 | D31: =SUM(D21,D29) -> 6288525693 | E31: =SUM(E21,E29) -> 2.7968789e+09 | F31: =(E31/D31) -> 0.44475907
A33: III. | B33: Finanszírozási kiadások (K9)
B34: 2021.01. havi állami támog.megelől.visszafiz. | C34: ='4.'!T25 -> 21153870 | D34: ='4.'!U25 -> 293000938 | E34: ='4.'!V25 -> 293000938 | F34: =(E34/D34) -> 1
B36: Kiadások mindösszesen: | C36: =SUM(C31,C34) -> 5461116870 | D36: =SUM(D31,D34) -> 6581526631 | E36: =SUM(E31,E34) -> 3.0898798e+09 | F36: =(E36/D36) -> 0.46947767

Sheet 4.
A3: Az önkormányzat által irányított költségvetési szervek kiemelt költségvetési kiadási előirányzat 2025. év | O3: Az önkormányzat által irányított költségvetési szervek kiemelt költségvetési kiadási előirányzat 2025. év
V5: Ezer Ft.
B6: Feladatok megnevezése | C6: Gyermekjóléti és Szoc. SzK. | F6: Játékvár Óvoda és Bölcsőde | I6: Városi Művelődési Központ | L6: Polgármesteri Hivatal | P6: Feladatok megnevezése | Q6: Martfű Város Önkormányzata | T6: Önkormányzat mindösszesen
C7: Eredeti előirányzat | D7: Módosított előirányzat | E7: Teljesítés | F7: Eredeti előirányzat | G7: Módosított előirányzat | H7: Teljesítés | I7: Eredeti előirányzat | J7: Módosított előirányzat | K7: Teljesítés | L7: Eredeti előirányzat | M7: Módosított előirányzat | N7: Teljesítés | Q7: Eredeti előirányzat | R7: Módosított előirányzat | S7: Teljesítés | T7: Eredeti előirányzat | U7: Módosított előirányzat | V7: Teljesítés
B8: I. Működési, fenntartási kiadások | P8: I. Működési, fenntartási kiadások
B9: Ebből: | P9: Ebből:
A10: 1. | B10: Személyi juttatás (K1) | C10: 199179000 | D10: 205816400 | E10: 199823993 | F10: 288335000 | G10: 303917726 | H10: 301685911 | I10: 77040000 | J10: 91924072 | K10: 88690903 | L10: ='13.'!C29 -> 152466000 | M10: ='13.'!D29 -> 170296600 | N10: ='13.'!E29 -> 169296000 | O10: 1. | P10: Személyi juttatás (K1) | Q10: ='12.'!C30 -> 63281000 | R10: ='12.'!D30 -> 90759000 | S10: ='12.'!E30 -> 87192000 | T10: =SUM(C10,F10,I10,L10,Q10) -> 780301000 | U10: =SUM(D10,G10,J10,M10,R10) -> 862713798 | V10: =SUM(E10,H10,K10,N10,S10) -> 846688807
A11: 2. | B11: Munkáltatót terh.járulék (K2) | C11: 26031000 | D11: 27712236 | E11: 27642783 | F11: 42538000 | G11: 44190116 | H11: 43991074 | I11: 10401000 | J11: 12718528 | K11: 12718528 | L11: ='13.'!C35 -> 19431000 | M11: ='13.'!D35 -> 23390000 | N11: ='13.'!E35 -> 23390000 | O11: 2. | P11: Munkáltatót terh.járulék (K2) | Q11: ='12.'!C37 -> 7547000 | R11: ='12.'!D37 -> 10145000 | S11: ='12.'!E37 -> 9763303 | T11: =SUM(C11,F11,I11,L11,Q11) -> 105948000 | U11: =SUM(D11,G11,J11,M11,R11) -> 118155880 | V11: =SUM(E11,H11,K11,N11,S11) -> 117505688
A12: 3. | B12: Dologi kiadás (K3) | C12: 175251000 | D12: 184768855 | E12: 159193128 | F12: 26105000 | G12: 27149336 | H12: 22791031 | I12: 89017000 | J12: 99693824 | K12: 83903168 | L12: ='13.'!C76 -> 30415000 | M12: ='13.'!D76 -> 33236000 | N12: ='13.'!E76 -> 25887000 | O12: 3. | P12: Dologi kiadás (K3) | Q12: ='12.'!C79 -> 453905000 | R12: ='12.'!D79 -> 470919000 | S12: ='12.'!E79 -> 268631000 | T12: =SUM(C12,F12,I12,L12,Q12) -> 774693000 | U12: =SUM(D12,G12,J12,M12,R12) -> 815767015 | V12: =SUM(E12,H12,K12,N12,S12) -> 560405327
A13: 4. | B13: Ellátottak pénzbeli jutt. (K4) | H13: 0 | M13: 0 | N13: 0 | O13: 4. | P13: Ellátottak pénzbeli jutt. (K4) | Q13: ='12.'!C85 -> 44073000 | R13: ='12.'!D85 -> 43873000 | S13: ='12.'!E85 -> 40748000 | T13: =SUM(C13,F13,I13,L13,Q13) -> 44073000 | U13: =SUM(D13,G13,J13,M13,R13) -> 43873000 | V13: =SUM(E13,H13,K13,N13,S13) -> 40748000
A14: 5. | B14: Egyéb működési célú kiadások (K5) | O14: 5. | P14: Egyéb működési célú kiadások (K5) | Q14: ='12.'!C120 -> 504785000 | R14: ='12.'!D120 -> 549509000 | S14: ='12.'!E120 -> 549291000 | T14: =SUM(C14,F14,I14,L14,Q14) -> 504785000 | U14: =SUM(D14,G14,J14,M14,R14) -> 549509000 | V14: =SUM(E14,H14,K14,N14,S14) -> 549291000
A15: 6. | B15: - általános tartalék | I15: 0 | O15: 6. | P15: - általános tartalék | Q15: ='12.'!C123 -> 276580000 | R15: ='12.'!D123 -> 826955000 | T15: =SUM(C15,F15,I15,L15,Q15) -> 276580000 | U15: =SUM(D15,G15,J15,M15,R15) -> 826955000 | V15: =SUM(E15,H15,K15,N15,S15) -> 0
A16: 7. | B16: - céltartalék | I16: 0 | O16: 7. | P16: - céltartalék | Q16: ='12.'!C132 -> 127508000 | R16: ='12.'!D132 -> 73508000 | S16: ='12.'!E132 -> 0 | T16: =SUM(C16,F16,I16,L16,Q16) -> 127508000 | U16: =SUM(D16,G16,J16,M16,R16) -> 73508000 | V16: =SUM(E16,H16,K16,N16,S16) -> 0
B17: Működési és fennt. kiad. összesen: | C17: =SUM(C10:C16) -> 400461000 | D17: =SUM(D10:D16) -> 418297491 | E17: =SUM(E10:E16) -> 386659904 | F17: =SUM(F10:F16) -> 356978000 | G17: =SUM(G10:G16) -> 375257178 | H17: =SUM(H10:H16) -> 368468016 | I17: =SUM(I10:I16) -> 176458000 | J17: =SUM(J10:J16) -> 204336424 | ... N17: =SUM(N10:N16) -> 218573000 | P17: Működési és fennt. kiad. összesen: | Q17: =SUM(Q10:Q16) -> 1477679000 | R17: =SUM(R10:R16) -> 2065668000 | S17: =SUM(S10:S16) -> 955625303 | T17: =SUM(T10:T16) -> 2613888000 | U17: =SUM(U10:U16) -> 3290481693 | V17: =SUM(V10:V16) -> 2114638822
B18: II. Felhalmozási kiadások | P18: II. Felhalmozási kiadások | V18: =SUM(I18,L18,Q18,F18,C18) -> 0
B19: Ebből: | I19: 0 | P19: Ebből: | V19: =SUM(I19,L19,Q19,F19,C19) -> 0
A20: 8. | B20: Beruházás (K6) | C20: ='5.'!D118 -> 5151000 | D20: ='5.'!E118 -> 5277000 | E20: ='5.'!F118 -> 2212601.6 | F20: ='5.'!D96 -> 1790000 | G20: ='5.'!E96 -> 1790000 | H20: ='5.'!F96 -> 1068263 | I20: ='5.'!D109 -> 5139000 | J20: ='5.'!E109 -> 7945000 | K20: ='5.'!F109 -> 6927811.3 | L20: ='5.'!D88 -> 2000000 | M20: ='5.'!E88 -> 4164000 | N20: ='5.'!F88 -> 2286201.9 | O20: 8. | P20: Beruházás (K6) | Q20: ='5.'!D81 -> 2664423000 | R20: ='5.'!E81 -> 2789536000 | S20: ='5.'!F81 -> 5.7179591e+08 | T20: =SUM(C20,F20,I20,L20,Q20) -> 2678503000 | U20: =D20+G20+J20+M20+R20 -> 2808712000 | V20: =SUM(E20,H20,K20,N20,S20) -> 5.8429079e+08
A21: 9. | B21: Felújítás (K7) | D21: 0 | E21: 0 | L21: ='5.'!D146 -> 0 | M21: ='5.'!E146 -> 8000 | N21: ='5.'!F146 -> 7499.35 | O21: 9. | P21: Felújítás (K7) | Q21: ='5.'!D141 -> 116907000 | R21: ='5.'!E141 -> 158659000 | S21: ='5.'!F141 -> 94941750 | T21: =SUM(C21,F21,I21,L21,Q21) -> 116907000 | U21: =J21+R21+G21+M21 -> 158667000 | V21: =SUM(E21,H21,K21,N21,S21) -> 94949249
A22: 10. | B22: Egyéb felhalmozási célú kiadások (K8) | I22: 0 | O22: 10. | P22: Egyéb felhalmozási célú kiadások (K8) | Q22: ='5.'!D154 -> 10000000 | R22: ='5.'!E154 -> 10000000 | S22: =+'5.'!F153 -> 3000000 | T22: =SUM(C22,F22,I22,L22,Q22) -> 10000000 | U22: =SUM(D22,G22,J22,M22,R22) -> 10000000 | V22: =SUM(E22,H22,K22,N22,S22) -> 3000000
A23: 11. | B23: Felhalmozási célú céltartalék | O23: 11. | P23: Felhalmozási célú céltartalék | Q23: ='5.'!D159 -> 20665000 | R23: ='5.'!E159 -> 20665000 | S23: ='5.'!F159 -> 0 | T23: =SUM(C23,F23,I23,L23,Q23) -> 20665000 | U23: =SUM(D23,G23,J23,M23,R23) -> 20665000
B24: Felhalmozási kiadás összesen: | C24: =SUM(C20:C22) -> 5151000 | D24: =SUM(D20:D22) -> 5277000 | E24: =SUM(E20:E22) -> 2212601.6 | F24: =SUM(F20:F22) -> 1790000 | G24: =SUM(G20:G22) -> 1790000 | H24: =SUM(H20:H22) -> 1068263 | I24: =SUM(I20:I22) -> 5139000 | J24: =SUM(J20:J22) -> 7945000 | ... N24: =SUM(N20:N22) -> 2293701.3 | P24: Felhalmozási kiadás összesen: | Q24: =SUM(Q20:Q23) -> 2811995000 | R24: =SUM(R20:R23) -> 2978860000 | S24: =SUM(S20:S23) -> 6.6973766e+08 | T24: =SUM(T20:T23) -> 2826075000 | U24: =SUM(U20:U23) -> 2998044000 | V24: =SUM(V20:V23) -> 6.8224004e+08
A25: 12. | B25: Finanszírozási kiadások (K9) | I25: 0 | O25: 12. | P25: Finanszírozási kiadások (K9) | Q25: 21153870 | R25: 293000938 | S25: 293000938 | T25: =C25+F25+I25+L25+Q25 -> 21153870 | U25: =SUM(D25,G25,J25,M25,R25) -> 293000938 | V25: =SUM(E25,H25,K25,N25,S25) -> 293000938
B26: Kiadások összesen: | C26: =SUM(C17,C24)+C25 -> 405612000 | D26: =SUM(D17,D24)+D25 -> 423574491 | E26: =SUM(E17,E24)+E25 -> 3.8887251e+08 | F26: =SUM(F17,F24)+F25 -> 358768000 | G26: =SUM(G17,G24)+G25 -> 377047178 | H26: =SUM(H17,H24)+H25 -> 3.6953628e+08 | I26: =SUM(I17,I24)+I25 -> 181597000 | J26: =SUM(J17,J24)+J25 -> 212281424 | ... N26: =SUM(N17,N24)+N25 -> 2.208667e+08 | P26: Kiadások összesen: | Q26: =SUM(Q17,Q24)+Q25 -> 4310827870 | R26: =SUM(R17,R24)+R25 -> 5337528938 | S26: =SUM(S17,S24)+S25 -> 1.9183639e+09 | T26: =SUM(T17,T24)+T25 -> 5461116870 | U26: =SUM(U17,U24)+U25 -> 6581526631 | V26: =SUM(V17,V24)+V25 -> 3.0898798e+09
A27: 13. | B27: III. Tervezett létszám: | C27: 40 | D27: 44 | E27: 44 | F27: 41 | G27: 41 | H27: 41 | I27: 11 | J27: 12 | K27: 12 | L27: 24 | M27: 24 | N27: 24 | O27: 13. | P27: III. Tervezett létszám: | Q27: 1 | R27: 2 | S27: 2 | T27: =SUM(C27,F27,I27,L27,Q27) -> 117 | U27: =SUM(D27,G27,J27,M27,R27) -> 123 | V27: =SUM(E27,H27,K27,N27,S27) -> 123
A28: 14. | B28: Tervezett létszáváltozás | C28: 0 | D28: 0 | E28: 0 | F28: 0 | G28: 0 | H28: 0 | I28: 0 | J28: 0 | K28: 0 | L28: 0 | M28: 0 | N28: 0 | P28: Tervezett létszáváltozás | Q28: 0 | R28: 0 | S28: 0 | T28: =SUM(C28,F28,I28,L28,Q28) -> 0 | U28: =SUM(D28,G28,J28,M28,R28) -> 0 | V28: =SUM(E28,H28,K28,N28,S28) -> 0
A29: 15. | B29: Képviselő-testületi tagok száma: | C29: 0 | D29: 0 | E29: 0 | F29: 0 | G29: 0 | H29: 0 | I29: 0 | J29: 0 | K29: 0 | L29: 0 | M29: 0 | N29: 0 | P29: Képviselő-testületi tagok száma: | Q29: 8 | R29: 8 | S29: 8 | T29: =SUM(C29,F29,I29,L29,Q29) -> 8 | U29: =SUM(D29,G29,J29,M29,R29) -> 8 | V29: =SUM(E29,H29,K29,N29,S29) -> 8
A30: 16. | B30: Pályázatból foglalkoztatott létszám: | C30: 0 | D30: 0 | E30: 0 | F30: 0 | G30: 0 | H30: 0 | I30: 0 | J30: 0 | K30: 0 | L30: 0 | M30: 0 | N30: 0 | O30: 15. | P30: Pályázatból foglalkoztatott létszám: | Q30: 0 | R30: 0 | S30: 0 | T30: =SUM(C30,F30,I30,L30,Q30) -> 0 | U30: =SUM(D30,G30,J30,M30,R30) -> 0 | V30: =SUM(E30,H30,K30,N30,S30) -> 0
A31: 17. | B31: 2025. évi nyári diákfoglalkoztatás létszám: | C31: 0 | D31: 0 | E31: 0 | F31: 0 | G31: 0 | H31: 0 | I31: 0 | J31: 0 | K31: 0 | L31: 0 | M31: 0 | N31: 0 | O31: 16. | P31: 2025.évi nyári diákfoglalkoztatás létszám: | Q31: 0 | R31: 0 | S31: 0 | T31: =SUM(C31,F31,I31,L31,Q31) -> 0 | U31: =SUM(D31,G31,J31,M31,R31) -> 0 | V31: =SUM(E31,H31,K31,N31,S31) -> 0
A32: 18. | B32: 2025.évi tervezett közfoglalkoztatottak: | C32: 5 | D32: 4 | E32: 4 | F32: 8 | G32: 7 | H32: 7 | I32: 3 | J32: 5 | K32: 5 | L32: 0 | M32: 0 | N32: 0 | O32: 17. | P32: 2025.évi tervezett közfoglalkoztatottak: | Q32: 15 | R32: 16 | S32: 16 | T32: =SUM(C32,F32,I32,L32,Q32) -> 31 | U32: =SUM(D32,G32,J32,M32,R32) -> 32 | V32: =SUM(E32,H32,K32,N32,S32) -> 32
A33: 19. | B33: 2025.évi tervezett össz létszám: | C33: =SUM(C27:C32) -> 45 | D33: =SUM(D27:D32) -> 48 | E33: =SUM(E27:E32) -> 48 | F33: =SUM(F27:F32) -> 49 | G33: =SUM(G27:G32) -> 48 | H33: =SUM(H27:H32) -> 48 | I33: =SUM(I27:I32) -> 14 | J33: =SUM(J27:J32) -> 17 | ... N33: =SUM(N27:N32) -> 24 | O33: 18. | P33: 2025.évi tervezett össz létszám: | Q33: =SUM(Q27:Q32) -> 24 | R33: =SUM(R27:R32) -> 26 | S33: =SUM(S27:S32) -> 26 | T33: =SUM(T27:T32) -> 156 | U33: =SUM(D33,G33,J33,M33,R33) -> 163 | V33: =SUM(E33,H33,K33,N33,S33) -> 163
B34: A létszám adatok teljesítés oszlopa az éves átlagos statisztikai állományi létszámot tartalmazza.

Sheet 5.
B2: Az önkormányzat 2025. évi felhalmozási kiadásai
G3: Ezer Ft.
B5: I. BERUHÁZÁSOK
A7: 1. Önkormányzat | H7: Könyvelés
B8: Feladatok megnevezése | D8: Eredeti előir. | E8: Mód. előir | F8: Teljesítés | G8: Teljesítés %-a | H8: nettó | I8: Bruttó
A9: 1. | B9: Település rendezési terv készítés | D9: 3000000 | E9: 3000000 | F9: =+I9 -> 1800000 | G9: =(F9/E9) -> 0.6 | H9: =600000+1200000 -> 1800000 | I9: =+H9 -> 1800000
A10: 2. | B10: Térfigyelő kamerarendszer bővítés | D10: 3000000 | E10: 3000000 | F10: 0 | G10: =(F10/E10) -> 0
A11: 3. | B11: Középfeszültség áthelyezés tervezés, kivitelezés-Zsófia halom | D11: 223600000 | E11: 223600000 | F11: 0 | G11: =(F11/E11) -> 0
A12: 4. | B12: Óváros, Kossuth Lajos úti csapadékvíz elvezetés | D12: 135000000 | E12: 135000000 | F12: =+I12 -> 1130300 | G12: =(F12/E12) -> 0.0083725926 | H12: 890000 | I12: =+H12*1.27 -> 1130300
A13: 5. | B13: Csapadékvíz elvezetés Virág, Déryné, Táncsics, Borostyán, Damjanich kb 1400 fm felszíni | D13: 20000000 | E13: 20000000 | F13: =+I13 -> 2227073.2 | G13: =(F13/E13) -> 0.11135366 | H13: 1661149 | I13: =+H13*1.27+36840+33618+12000+34956 -> 2227073.2
A14: 6. | B14: Szolnoki út-fák alatti járda, kerékpárút megvilágítása, terv és kivitel. | D14: 3000000 | E14: 3000000 | F14: 0 | G14: =(F14/E14) -> 0
A15: 7. | B15: Tósétány térvilágítás terv és kivitelezés | D15: 6000000 | E15: 6000000 | F15: 0 | G15: =(F15/E15) -> 0
A16: 8. | B16: Járdaépítés | D16: 30000000 | E16: 30000000 | F16: 0 | G16: =(F16/E16) -> 0
A17: 9. | B17: Géza fejedelem utca, bevásárló udvarokhoz járdaépítés | D17: 15000000 | E17: 15000000 | F17: =+I17 -> 14122082 | G17: =(F17/E17) -> 0.94147217 | H17: =980000+9789750+350000 -> 11119750 | I17: =+H17*1.27 -> 14122082
A18: 10. | B18: Móricz Zs.- Babits M. útig járdaépítés | D18: 10000000 | E18: 10000000 | F18: 0 | G18: =(F18/E18) -> 0
A19: 11. | B19: Szolnoki út és Ifjúsági út között járdaépítés | D19: 28000000 | E19: 0 | F19: 0 | G19: 0
A20: 12. | B20: Városháza körüli sétány burkolat felújítása, padok elhelyezése, virágágyások kialakítása | D20: 34000000 | E20: 34000000 | F20: =+I20 -> 33990390 | G20: =(F20/E20) -> 0.99971737 | H20: 26764087 | I20: =+H20*1.27 -> 33990390
A21: 13. | B21: Városháza melletti tó - Híd építése | D21: 51000000 | E21: 40157000 | F21: =+I21 -> 37408793 | G21: =(F21/E21) -> 0.93156344 | H21: 650000 | I21: =+H21*1.27+36583293 -> 37408793
A22: 14. | B22: TOP-PLUSZ-1.2.1-21-JN1-2022-00026 sz. „Élhető települések” pályázat -belvíz elvezetés | D22: 87934000 | E22: 87934000 | F22: =+I22 -> 2413000 | G22: =(F22/E22) -> 0.027441035 | H22: 1900000 | I22: =+H22*1.27 -> 2413000
A23: 15. | B23: TOP­PLUSZ-3.3.1-21-JN1-2022-00001 sz. „Kossuth úti tagóvoda isfrastrukturális fejl.” pályázat | D23: 7000000 | E23: 7000000 | F23: =+I23 -> 2890424.8 | G23: =(F23/E23) -> 0.41291782 | H23: 2275925 | I23: =+H23*1.27 -> 2890424.8
A24: 16. | B24: Géza fejedelem utca-Közvilágítás- Versenyképes Járások Program | D24: 17000000 | E24: 17000000 | F24: =+I24 -> 14262024 | G24: =(F24/E24) -> 0.83894258 | H24: 11229940 | I24: =+H24*1.27 -> 14262024
A25: 17. | B25: Galamb elleni védekezés | D25: 600000 | E25: 600000 | F25: 0 | G25: =(F25/E25) -> 0 | H25: -
A26: 18. | B26: TOP-PLUSZ -1.1.1-21-JN1-2022-00015 "Helyi gazdaságfejlesztés" elnevezésű pályázat | D26: 375000000 | E26: 375000000 | F26: =+I26 -> 1.2702772e+08 | G26: =(F26/E26) -> 0.33874058 | H26: =2244995+1496663+2244995 -> 5986653 | I26: =+H26*1.27+560000+44574251+29716167+44574251 -> 1.2702772e+08
A27: 19. | B27: TOP-PLUSZ -3.3.2-21-JN1-2022-00017 "Mentőállomás fejlesztés" elnevezésű pályázat I. ütem | D27: 106000000 | E27: 106000000 | F27: =+I27 -> 67307619 | G27: =(F27/E27) -> 0.63497754 | H27: =12324866+20541443+1575000+16433155+16433155 -> 67307619 | I27: =+H27 -> 67307619
A28: 20. | B28: TOP-PLUSZ -1.2.3-21-JN1-2022-00041 "Belterületi utak fejlesztése" pályázat | D28: 325000000 | E28: 325000000 | F28: =+I28 -> 89274996 | G28: =(F28/E28) -> 0.2746923 | H28: =1110000+740000 -> 1850000 | I28: =+H28*1.27+52155298+34770198 -> 89274996
A29: 21. | B29: Külterületi utak fejlesztése-pályázati önerő | D29: 10000000 | E29: 10000000 | F29: 0 | G29: =(F29/E29) -> 0
A30: 22. | B30: MÁV terület rendezése | D30: 45000000 | E30: 43000000 | G30: =(F30/E30) -> 0
A31: 23. | B31: Bentlakásos nyugdíjas otthon tervek és kivitelezés | D31: 400000000 | E31: 400000000 | F31: =+I31 -> 6083300 | G31: =(F31/E31) -> 0.01520825 | H31: =958000+3832000 -> 4790000 | I31: =+H31*1.27 -> 6083300
A32: 24. | B32: Zsófia halom-ivóvíz ellátás kiépítése | D32: 100000000 | E32: 100000000 | F32: =+I32 -> 2537460 | G32: =(F32/E32) -> 0.0253746 | H32: =1698000+300000 -> 1998000 | I32: =+H32*1.27 -> 2537460
A33: 25. | B33: Zsófia halom, Meggy, Cseresznye utca útburkolat felújítás | D33: 30000000 | E33: 30000000 | F33: 0 | G33: =(F33/E33) -> 0
A34: 26. | B34: Zsófia halmi út-Óváros hátsó összekötő út szakaszos aszfaltozása | D34: 45000000 | E34: 45000000 | F34: 0 | G34: =(F34/E34) -> 0
A35: 27. | B35: Fecskeház kivitelezése | D35: 300000000 | E35: 427000000 | F35: =+I35 -> 8069580 | G35: =(F35/E35) -> 0.018898314 | H35: 6354000 | I35: =+H35*1.27 -> 8069580
A36: 28. | B36: Garzon-elektromos hálózat fejlesztés | D36: 20000000 | E36: =24500000-2445000-616000 -> 21439000 | F36: =+I36 -> 604020.89 | G36: =(F36/E36) -> 0.02817393 | H36: =130881+39370+80000+75370-190012+339998 -> 475607 | I36: =+H36*1.27 -> 604020.89
A37: 29. | B37: Kossuth út-Rákóczi út kereszteződésében gyalogátkelő kivitelezés,kialakítása | D37: 4000000 | E37: 10000000 | F37: =+I37 -> 1104900 | G37: =(F37/E37) -> 0.11049 | H37: 870000 | I37: =+H37*1.27 -> 1104900
A38: 30. | B38: Temetőhöz vezető úton csapadékvíz csatorna csere | D38: 41000000 | E38: 41000000 | F38: =+I38 -> 40309086 | G38: =(F38/E38) -> 0.98314845 | H38: 31739438 | I38: =+H38*1.27 -> 40309086
A39: 31. | B39: Sportcsarnok-vízmérőóra csere (szűkítés) | D39: 7000000 | E39: 7000000 | F39: 0 | G39: =(F39/E39) -> 0
A40: 32. | B40: FIAT Ducato ponyva + váz | D40: 584000 | E40: 584000 | F40: 584000 | G40: =(F40/E40) -> 1 | H40: 460000 | I40: =+H40*1.27 -> 584200
A41: 33. | B41: Tolólap beszerzés munkagéphez | D41: 2032000 | E41: 2032000 | F41: 0 | G41: =(F41/E41) -> 0
A42: 34. | B42: Hóeke beszerzés | D42: 2502000 | E42: 2502000 | F42: 0 | G42: =(F42/E42) -> 0
A43: 35. | B43: Rider diesel fűnyíró beszerzés | D43: 11430000 | E43: 11430000 | F43: =+I43 -> 11430000 | G43: =(F43/E43) -> 1 | H43: 9000000 | I43: =+H43*1.27 -> 11430000
A44: 36. | B44: Szárzúzó adapter beszerzés | D44: 2540000 | E44: 2540000 | F44: =+I44-204000 -> 2539200 | G44: =(F44/E44) -> 0.99968504 | H44: 2160000 | I44: =+H44*1.27 -> 2743200
A45: 37. | B45: ISEKI kistraktorhoz vágóasztal beszerzés | D45: 508000 | E45: =508000+1159000 -> 1667000 | F45: =1312571*1.27 -> 1666965.2 | G45: =(F45/E45) -> 0.99997911 | H45: 1312571 | I45: =+H45*1.27 -> 1666965.2
A46: 38. | B46: Félipari tisztítógép-sportcsarnokhoz | D46: 1524000 | E46: 1750000 | F46: =+I46 -> 1749990.2 | G46: =(F46/E46) -> 0.99999437 | H46: 1377945 | I46: =+H46*1.27 -> 1749990.2
A47: 39. | B47: Elektromos kisteherautó beszerzés | D47: 27940000 | E47: 27714000 | G47: =(F47/E47) -> 0
A48: 40. | B48: Földterület vásárlás | D48: 8000000 | E48: 8000000 | F48: 8000000 | G48: =(F48/E48) -> 1 | H48: 8000000 | I48: =+H48 -> 8000000
A49: 41. | B49: PUMPA pálya kialakítása, önrész | D49: 20000000 | E49: =20000000+22545000 -> 42545000 | F49: =+I49 -> 42545000 | G49: =(F49/E49) -> 1 | H49: =200000+33300000 -> 33500000 | I49: =+H49*1.27 -> 42545000
A50: 42. | B50: Művelődési Központ előtti kandeláberek tervezése, cseréje | D50: 5000000 | E50: 0 | F50: =+I50 -> 0 | G50: 0
A51: 43. | B51: Parkolók építése | D51: 50000000 | E51: =50000000-24060000 -> 25940000 | F51: =+I51+204000 -> 2299500 | G51: =(F51/E51) -> 0.088646877 | H51: 1650000 | I51: =+H51*1.27 -> 2095500
A52: 44. | B52: KAP-RD43-1-24 Külterületi utak fejlesztése pályázati önerő | D52: 0 | E52: 7500000 | F52: =+I52 -> 2952750 | G52: =(F52/E52) -> 0.3937 | H52: 2325000 | I52: =+H52*1.27 -> 2952750
A53: 45. | B53: Szent István téri Időkapu körüli járda felújítása, kiépítése | D53: 0 | E53: 10000000 | F53: =+I53 -> 9923033.2 | G53: =(F53/E53) -> 0.99230332 | H53: 7813412 | I53: =+H53*1.27 -> 9923033.2
A54: 46. | B54: 2. számú fogorvosi körzetbe fogorvosi szék beszerzés | D54: 0 | E54: 6350000 | F54: =+I54 -> 4817498.6 | G54: =(F54/E54) -> 0.7586612 | H54: =3319606+393700+80000 -> 3793306 | I54: =+H54*1.27 -> 4817498.6
A55: 47. | B55: Aktív Magyarország Országos Futópálya-építési Program 2026 | D55: 0 | E55: 616000 | F55: =+I55 -> 615950 | G55: =(F55/E55) -> 0.99991883 | H55: 485000 | I55: =+H55*1.27 -> 615950
A56: 48. | B56: Polgármesteri Hivatal ingatlan
B57: 1. | C57: Számítógép fejleszések műszaki iroda 4 db | D57: 1000000 | E57: 1000000 | G57: =(F57/E57) -> 0
B58: 2. | C58: Szoftverek (AutoCad, Terc) | D58: 1500000 | E58: 1500000 | G58: =(F58/E58) -> 0
B59: 3. | C59: Klíma csere 4 db | D59: 0 | E59: 2000000 | F59: =+I59 -> 1399999.7 | G59: =(F59/E59) -> 0.69999987 | H59: =527559+574803 -> 1102362 | I59: =+H59*1.27 -> 1399999.7
A60: 49. | B60: Gyermekjóléti és Szociális Szolg. Központ ingatlan
B61: 1. | C61: AC raktár-vízmérőóra csere (szűkítés) | D61: 7000000 | E61: 7000000 | F61: 0 | G61: =(F61/E61) -> 0
B62: 2. | C62: AC raktár-első bejárati homlokzat szigetelése, festése, öltözők ablakcseréje | D62: 3810000 | E62: 3810000 | F62: 0 | G62: =(F62/E62) -> 0
B63: 3. | C63: AC raktár-gépjárműtároló tetőszigetelése | D63: 1905000 | E63: 1905000 | F63: 0 | G63: =(F63/E63) -> 0
B64: 4. | C64: Tálalókonyha nyílászáró cseréje és az épület szerkezeti helyreállítása | D64: 1905000 | E64: 1905000 | F64: 0 | G64: =(F64/E64) -> 0
B65: 5. | C65: Konyhai parkoló térkövezése, légtisztító körüli kerítés cseréje | D65: 953000 | E65: 953000 | F65: 0 | G65: =(F65/E65) -> 0
B66: 6. | C66: Konyha-kerékpártároló | D66: 127000 | E66: 127000 | F66: 0 | G66: =(F66/E66) -> 0
A67: 50. | B67: Óvoda ingatlan
B68: 1. | C68: Kossuth úti óvoda-aszfaltozás | D68: 2500000 | E68: 2500000 | F68: =+I68 -> 2042426.7 | G68: =(F68/E68) -> 0.81697068 | H68: 1608210 | I68: =+H68*1.27 -> 2042426.7
B69: 2. | C69: Munkácsy úti, Kossuth úti óvoda-kerítés felújítás, építés | D69: 10500000 | E69: 13706000 | F69: =+I69 -> 11999918 | G69: =(F69/E69) -> 0.87552295 | H69: 9448754 | I69: =+H69*1.27 -> 11999918
B70: 3. | C70: Klíma berendezés - Munkácsy úti csoportszobák | D70: 902000 | E70: =902000+213000 -> 1115000 | F70: =+I70 -> 1115000.3 | G70: =(F70/E70) -> 1.0000003 | H70: 877953 | I70: =+H70*1.27 -> 1115000.3
A71: 51. | B71: Művelődési Központ és Könyvtár ingatlan
B72: 1. | C72: Légtechnika felújítás | D72: 4000000 | E72: 8400000 | F72: 8398929 | G72: =(F72/E72) -> 0.9998725 | H72: =5730550+882780 -> 6613330 | I72: =+H72*1.27 -> 8398929.1
B73: 2. | C73: Vízmérőóra csere (szűkítés) | D73: 7000000 | E73: 7000000 | F73: 0 | G73: =(F73/E73) -> 0 | H73: 1905701 | I73: =+H73*1.27 -> 2420240.3
A74: Kisértékű tárgyieszköz beszerzés
B75: Önkormányzat
A76: 52. | B76: KRESZ táblák pótlása, cseréje | D76: 4000000 | E76: 4000000 | F76: =+I76 -> 432308 | G76: =(F76/E76) -> 0.108077 | H76: =330900+9500 -> 340400 | I76: =+H76*1.27 -> 432308
A77: 53. | B77: Karácsonyi díszkivilágítás bővítése | D77: 2000000 | E77: 2000000 | F77: =+I77 -> 1128007.6 | G77: =(F77/E77) -> 0.56400382 | H77: 888195 | I77: =+H77*1.27 -> 1128007.6
A78: 54. | B78: Adventi faházak 4 db | E78: 2445000 | F78: =+I78 -> 2444835.3 | G78: =(F78/E78) -> 0.99993263 | H78: 1910327 | I78: =+H78*1.27+18720 -> 2444835.3
A79: 55. | B79: Egyéb kisértékű gép, berendezés, informatikai eszközbeszerzés | D79: 1000000 | E79: =1000000+143000 -> 1143000 | F79: =+I79 -> 1142934 | G79: =(F79/E79) -> 0.99994222 | H79: =349800+19677+3854+44331+32677+56146+250394+143069 -> 899948 | I79: =+H79*1.27 -> 1142934
A80: 56. | B80: TOP-PLUSZ -3.3.2-21-JN1-2022-00017 pályázat I. ütem Kossuth Lajos Utca Energetikai korszerűsítés | D80: 127000 | E80: 127000 | F80: =+I80 -> 4894.58 | G80: =(F80/E80) -> 0.03854 | H80: 3854 | I80: =+H80*1.27 -> 4894.58
C81: Önkormányzat beruházásai összesen: | D81: =SUM(D9:D80) -> 2664423000 | E81: =SUM(E9:E80) -> 2789536000 | F81: =SUM(F9:F80) -> 5.7179591e+08 | G81: =F81/E81 -> 0.20497886 | H81: ez van képletezve!
A83: 2. Polgármesteri Hivatal | H83: Könyvelés
B84: Feladatok megnevezése | D84: Eredeti előir. | E84: Mód. előir | F84: Teljesítés | G84: Teljesítés %-a | H84: nettó | I84: Bruttó
A85: 1. | B85: Számítógép csere | E85: 2172000 | F85: =+I85 -> 2171700 | G85: =F85/E85 -> 0.99986188 | H85: 1710000 | I85: =+H85*1.27 -> 2171700
A86: Kisértékű tárgyieszköz beszerzés
A87: 1. | B87: Egyéb kisértékű gép,berendezés, informatikai eszköz beszerzés | D87: 2000000 | E87: 1992000 | F87: =+I87 -> 114501.93 | G87: =F87/E87 -> 0.057480889 | H87: =57160+32999 -> 90159 | I87: =+H87*1.27 -> 114501.93
C88: Polgármesteri Hivatal beruházásai összesen: | D88: =SUM(D85:D87) -> 2000000 | E88: =SUM(E85:E87) -> 4164000 | F88: =SUM(F85:F87) -> 2286201.9 | G88: =F88/E88 -> 0.54903985 | H88: =SUM(H85:H87) -> 1800159 | I88: =SUM(I85:I87) -> 2286201.9
A90: 3. Játékvár Óvoda és Bölcsőde | H90: Könyvelés
B91: Feladatok megnevezése | D91: Eredeti előir. | E91: Mód. előir | F91: Teljesítés | G91: Teljesítés %-a | H91: nettó | I91: Bruttó
B92: 3.Játékvár Óvoda és Bölcsőde
A93: 1. | B93: Mosogatógép Omniwash Elite | D93: 621000 | E93: 621000 | F93: =+I93 -> 620999.52 | G93: =F93/E93 -> 0.99999923 | H93: =522200-33224 -> 488976 | I93: =+H93*1.27 -> 620999.52
A94: Kisértékű tárgyieszköz beszerzés
A95: 1. | B95: Egyéb kisértékű gép, berendezés, informatikai eszközbeszerzés | D95: 1169000 | E95: 1169000 | F95: =+I95 -> 447263.52 | G95: =F95/E95 -> 0.38260352 | H95: =16700+39716+111803+33224+48000+49591+53142 -> 352176 | I95: =+H95*1.27 -> 447263.52
C96: Játékvár Óvoda és Bölcsőde beruházásai összesen: | D96: =SUM(D93:D95) -> 1790000 | E96: =SUM(E93:E95) -> 1790000 | F96: =SUM(F93:F95) -> 1068263 | G96: =F96/E96 -> 0.59679499 | H96: =SUM(+H93)+H95 -> 841152 | I96: =SUM(+I93)+I95 -> 1068263
A98: 4. Városi Művelődési Központ és Könyvtár | H98: Könyvelés
B99: Feladatok megnevezése | D99: Eredeti előir. | E99: Mód. előir | F99: Teljesítés | G99: Teljesítés %-a | H99: nettó | I99: Bruttó
A100: 1. | B100: Csörlő színpadra | D100: 318000 | E100: 318000 | G100: =F100/E100 -> 0
A101: 2. | B101: Klíma-tanácsterem | D101: 444000 | E101: 444000 | F101: =+I101 -> 444000.17 | G101: =F101/E101 -> 1.0000004 | H101: 370671 | I101: =+H101*1.27-26752 -> 444000.17
A102: 3. | B102: Riasztó-Pécskői gyűjtemény | D102: 351000 | E102: 351000 | F102: =+I102 -> 350520 | G102: =F102/E102 -> 0.99863248 | H102: 276000 | I102: =+H102*1.27 -> 350520
A103: 4. | B103: Könyvtári szervergép beszerzés | E103: 671000 | F103: =+I103 -> 670560 | G103: =F103/E103 -> 0.99934426 | H103: 528000 | I103: =+H103*1.27 -> 670560
A104: 5. | B104: Mozi nézőtéri világítás szabályozó rendszer kiépítése | F104: =+I104 -> 989256.34 | H104: 778942 | I104: =+H104*1.27 -> 989256.34
A105: Kisértékű tárgyieszköz beszerzés
A106: 1. | B106: Kisértékű kulturális javak beszerzése | D106: 2326000 | E106: 2771000 | F106: =+I106 -> 2771000 | G106: =F106/E106 -> 1 | I106: =2788950-17950 -> 2771000
...

Sheet 6.
A2: Az önkormányzat által irányított költségvetési szervek
A3: 2025.évi költségvetési támogatása
H6: Ezer Ft.
A8: Intézmény, szervezet megnevezése | C8: 2025. évi Önkormányzati költségv.támog. finanszírozás eredeti eir. | D8: 2025. évi Önkormányzati költségv.támog. finanszírozás mód.eir. | E8: 2025. évi Önkormányzati költségv.támog. finanszírozás teljesítés (4.+5.) | F8: Ebből állami támogatás | G8: Ebből önkormányzati költségvetési kiegészítés | H8: Teljesítés %-a (3./2.)
C9: 1. | D9: 2. | E9: 3. | F9: 4. | G9: 5. | H9: 6.
B10: Önkormányzat | F10: =+'1.'!D9+'1.'!D10+'1.'!D11+'1.'!D12+'1.'!D13+'1.'!D14+'1.'!D15+'1.'!D67+'1.'!D66+'1.'!D65 -> 179121000
A11: 1. | B11: Gyermekjóléti és Szoc. Szolg. Központ | C11: 321723000 | D11: 328668000 | E11: 293816000 | F11: =+'1.'!D42+'1.'!D56+4519000 -> 109622000 | G11: =E11-F11 -> 184194000 | H11: =E11/D11 -> 0.89395986
A12: 2. | B12: Játékvár Óvoda és Bölcsőde | C12: 355711000 | D12: 362912000 | E12: 355081000 | F12: =+'1.'!D33+'1.'!D48+1610000 -> 323192000 | G12: =E12-F12 -> 31889000 | H12: =E12/D12 -> 0.97842177
A13: 3. | B13: Városi Műv. Központ és Könyvtár | C13: 160905000 | D13: 167951000 | E13: 141059000 | F13: =+'1.'!C60+'1.'!D69+'1.'!D70 -> 25024000 | G13: =E13-F13 -> 116035000 | H13: =E13/D13 -> 0.83988187
A14: 4. | B14: Polgármesteri Hivatal | C14: 203159000 | D14: 229922000 | E14: 218809000 | F14: =+'1.'!D8 -> 152939000 | G14: =E14-F14 -> 65870000 | H14: =E14/D14 -> 0.95166622
B17: 1-4-ig összesen: | C17: =SUM(C11:C14) -> 1041498000 | D17: =SUM(D11:D14) -> 1089453000 | E17: =SUM(E11:E14) -> 1008765000 | F17: =SUM(F11:F14) -> 610777000 | G17: =SUM(G11:G14) -> 397988000 | H17: =E17/D17 -> 0.92593714
B18: Technikai összesen: | F18: =SUM(F10,F17) -> 789898000

Sheet 7.
A3: Martfű Város Önkormányzata
A4: A működési célú bevételeinek és kiadásainak
A5: 2025. évi egyenlege
I7: Ezer Ft.
A8: I. Működési célú bevételek | C8: Eredeti előirányzat | D8: Módosított előirányzat | E8: Teljesítés | F8: I. Működési célú kiadások | H8: Eredeti előirányzat | I8: Módosított előirányzat | J8: Teljesítés
A10: 1. | B10: Működési c. tám. ÁHT-n belülről (B1) | C10: ='1.'!B88 -> 670402000 | D10: ='1.'!C88 -> 887456000 | E10: ='1.'!D88 -> 864630000 | F10: 1. | G10: Személyi juttatások (K1) | H10: ='4.'!T10 -> 780301000 | I10: ='4.'!U10 -> 862713798 | J10: ='4.'!V10 -> 846688807
A11: 2. | B11: Közhatalmi bevételek (B3) | C11: ='1.'!B111 -> 1350500000 | D11: ='1.'!C111 -> 1226439000 | E11: ='1.'!D111 -> 1180911000 | F11: 2. | G11: Munkaadót terhelő járulékok (K2) | H11: ='4.'!T11 -> 105948000 | I11: ='4.'!U11 -> 118155880 | J11: ='4.'!V11 -> 117505688
A12: 3. | B12: Működési bevételek (B4) | C12: ='1.'!B126 -> 342398000 | D12: ='1.'!C126 -> 357701000 | E12: ='1.'!D126 -> 432174387 | F12: 3. | G12: Dologi kiadások (K3) | H12: ='4.'!T12 -> 774693000 | I12: ='4.'!U12 -> 815767015 | J12: ='4.'!V12 -> 560405327
A13: 4. | B13: Működési célú átvett pénzeszközök (B6) | C13: ='1.'!B138 -> 0 | D13: ='1.'!C138 -> 0 | E13: ='1.'!D138 -> 969000 | F13: 4. | G13: Ellátottak pénzbeni juttása (K4) | H13: ='4.'!T13 -> 44073000 | I13: ='4.'!U13 -> 43873000 | J13: ='4.'!V13 -> 40748000
F14: 5. | G14: Egyéb működési célú kiadások (K5) | H14: ='4.'!T14 -> 504785000 | I14: ='4.'!U14 -> 549509000 | J14: ='4.'!V14 -> 549291000
F15: 6. | G15: Tartalékok | H15: ='4.'!T15+'4.'!T16 -> 404088000 | I15: ='4.'!U15+'4.'!U16 -> 900463000 | J15: ='4.'!V15+'4.'!V16 -> 0
A17: Működési célú bevételek öszesen: | C17: =SUM(C10:C16) -> 2363300000 | D17: =SUM(D10:D16) -> 2471596000 | E17: =SUM(E10:E16) -> 2478684387 | F17: Működési célú kiadások összesen: | H17: =SUM(H10:H15) -> 2613888000 | I17: =SUM(I10:I15) -> 3290481693 | J17: =SUM(J10:J15) -> 2114638822
A19: Működési célú többletbevétel vagy hiány: | C19: =C17-H17 -> -250588000 | D19: =D17-I17 -> -818885693 | E19: =E17-J17 -> 364045565
A22: Martfű Város Önkormányzata
A23: Felhalmozási célú bevételeinek és kiadásainak
A24: 2025. évi egyenlege
I26: Ezer Ft.
A27: II. Felhalmozási célú bevételek | C27: Eredeti előirányzat | D27: Módosított előirányzat | E27: Teljesítés | F27: II. Felhalmozási célú kiadások | H27: Eredeti előirányzat | I27: Módosított előirányzat | J27: Teljesítés
A29: 1. | B29: Felhalmozási célú támogatás ÁHT-on belülről (B2) | C29: ='1.'!B94 -> 554997000 | D29: ='1.'!C94 -> 555838000 | E29: ='1.'!D94 -> 161740000 | F29: 1. | G29: Beruházási kiadások (ÁFA-val) (K6) | H29: ='4.'!T20 -> 2678503000 | I29: ='4.'!U20 -> 2808712000 | J29: ='4.'!V20 -> 5.8429079e+08
A30: 2. | B30: Felhalmozási bevételek (B5) | C30: ='1.'!B132 -> 3000000 | D30: ='1.'!C132 -> 3000000 | E30: ='1.'!D132 -> 7730000 | F30: 2. | G30: Felújítási kiadások (ÁFA-val) (K7) | H30: ='4.'!T21 -> 116907000 | I30: ='4.'!U21 -> 158667000 | J30: ='4.'!V21 -> 94949249
A31: 3. | B31: Felhalmozási célú átvett pénzeszközök (B7) | C31: ='1.'!B143 -> 3500000 | D31: ='1.'!C143 -> 3500000 | E31: ='1.'!D143 -> 2753000 | F31: 3. | G31: Egyéb felhalmozási célú kiadások (K8) | H31: ='4.'!T22 -> 10000000 | I31: ='4.'!U22 -> 10000000 | J31: ='4.'!V22 -> 3000000
F32: 4. | G32: Felhalmozási célú céltartalék | H32: ='4.'!T23 -> 20665000 | I32: ='4.'!U23 -> 20665000 | J32: ='4.'!V23 -> 0
A35: Felhalmozási célú bevételek összesen: | C35: =SUM(C29:C32) -> 561497000 | D35: =SUM(D29:D32) -> 562338000 | E35: =SUM(E29:E32) -> 172223000 | F35: Felhalmozási célú kiadások összesen: | H35: =SUM(H29:H32) -> 2826075000 | I35: =SUM(I29:I32) -> 2998044000 | J35: =SUM(J29:J32) -> 6.8224004e+08
A37: Felhalmozási célú hiány vagy többlet: | C37: =C35-H35 -> -2264578000 | D37: =D35-I35 -> -2435706000 | E37: =E35-J35 -> -5.1001704e+08 | H37: 0
A39: Költségvetési bevételek összesen (B1+…+B7) | C39: =C17+C35 -> 2924797000 | D39: =D17+D35 -> 3033934000 | E39: =E17+E35 -> 2650907387 | F39: Folyó évi kiadások összesen | H39: =H17+H35 -> 5439963000 | I39: =I17+I35+I37 -> 6288525693 | J39: =J17+J35+J37 -> 2.7968789e+09
A40: 1. | B40: Forráshiány, többlet | C40: =C39-H39 -> -2515166000 | D40: =D39-I39 -> -3254591693 | E40: =E39-J39 -> -1.4597147e+08
A41: 2. | B41: Finanszírozási bevételek (B8) | C41: ='1.'!B151 -> 2536320000 | D41: ='1.'!C151 -> 3547593000 | E41: ='1.'!D151 -> 3547593000 | F41: 1. | G41: Finanszírozási kiadások (K9) | H41: ='4.'!T25 -> 21153870 | I41: ='4.'!U25 -> 293000938 | J41: ='4.'!V25 -> 293000938
A43: Önkormányzat és Intézményei Bevételek összesen:(B1+…+B8) | C43: =C39+C41 -> 5461117000 | D43: =D39+D41 -> 6581527000 | E43: =E39+E41 -> 6198500387 | F43: Kiadások mindösszesen: | H43: =SUM(H39,H41) -> 5461116870 | I43: =SUM(I39,I41) -> 6581526631 | J43: =SUM(J39,J41) -> 3.0898798e+09
A59: (07 + 23.)

Sheet 8.
A1: Martfű Város Önkormányzata saját bevételeinek részletezése az adósságot keletkeztető
A2: ügyletekből származó tárgyévi fizetési kötelezettség megállapításához
F4: Ezer Ft.
A5: Sor-szám | B5: Bevételi jogcimek | C5: 2025. évi előirányzat | D5: 2025. évi teljesítés | E5: 2026. évi előirányzat | F5: 2027. évi előirányzat | G5: 2028. évi előirányzat
A6: 1. | B6: Helyi adók | C6: ='1.'!B103 -> 1349000000 | D6: ='1.'!D103 -> 1178328000 | E6: 1369000000 | F6: 1400000000 | G6: 1420000000
A7: 2. | B7: Az önkormányzati vagyon és az önkormányzatot megillető vagyoni értékű jog értékesítéséből és hasznosításából származó bevétel | C7: ='1.'!B132 -> 3000000 | D7: ='1.'!D132 -> 7730000 | E7: 67340000 | F7: 80000000 | G7: 80000000
A8: 3. | B8: Osztalék, koncesziós díj, hozambevétel
A9: 4. | B9: Tárgyi eszköz és immaterális jószág; részvény; részesedés; vállalat értékesítéséből, vagy privatizációból származó bevételek | C9: 0
A10: 5. | B10: Bírság-, pótlék- és díjbevétel | C10: ='1.'!B109 -> 1500000 | D10: ='1.'!D109 -> 2583000 | E10: 1500000 | F10: 1000000 | G10: 1000000
A11: 6. | B11: Kezességvállalással kapcsolatos megtérülés
A12: Saját bevételek összesen*: | C12: =SUM(C6:C11) -> 1353500000 | D12: =SUM(D6:D11) -> 1188641000 | E12: =SUM(E6:E11) -> 1437840000 | F12: =SUM(F6:F11) -> 1481000000 | G12: =SUM(G6:G11) -> 1501000000
A13: Saját bevételek 50 %-a összesen**: | C13: =C12*0.5 -> 676750000 | D13: =D12*0.5 -> 594320500 | E13: =E12*0.5 -> 718920000 | F13: =F12*0.5 -> 740500000 | G13: =G12*0.5 -> 750500000
A15: * Az adósságot keletkeztető ügyletekhez történő hozzájárulás részletes szabályairól szóló 353/2011. (XII.31.) Korm.Rendelet 2. § (1) bekezdése alapján
A16: **Az adósságot keletkeztető ügyletekhez történő hozzájárulás részletes szabályairól szóló 353/2011. (XII.31.) Korm.Rendelet 2. § (3) bekezdése alapján
A19: Martfű Város Önkormányzata adósságot keletkeztető ügyletekből és kezességvállalásokból
A20: fennálló kötelezettségei
F21: Ezer Ft.
A22: Sor-szám | B22: Megnevezés | C22: 2025. | D22: 2026. | E22: 2027. | F22: 2028.
A23: 1. | B23: Hitelállomány | C23: - | D23: - | E23: - | F23: -
A24: Összes kötelezettség: | C24: 0 | D24: 0 | E24: 0 | F24: 0

Sheet 9.
A2: TÁJÉKOZTATÓ
A4: Martfű Város Önkormányzatának
A5: 2025. évi költségvetésének
A6: pénzügyi mérlege
A8: BEVÉTELEK
G11: Ezer Ft.
E12: 2025. év eredeti előirányzat | F12: 2024. módosított előirányzat | G12: Teljesítés | H12: Teljesítés %-a
A13: 1. | B13: Működési c. tám. ÁHT-n belülről (B1) | E13: ='1.'!B88 -> 670402000 | F13: =+'1.'!C88 -> 887456000 | G13: =+'1.'!D88 -> 864630000 | H13: =G13/F13 -> 0.97427929
A14: 2. | B14: Felhalmozási célú támogatás ÁHT-on belülről (B2) | E14: ='1.'!B94 -> 554997000 | F14: ='1.'!C94 -> 555838000 | G14: ='1.'!D94 -> 161740000 | H14: =G14/F14 -> 0.29098406
A15: 3. | B15: Közhatalmi bevételek (B3) | E15: ='1.'!B111 -> 1350500000 | F15: ='1.'!C111 -> 1226439000 | G15: ='1.'!D111 -> 1180911000 | H15: =G15/F15 -> 0.96287789
A16: 4. | B16: Működési bevételek (B4) | E16: ='1.'!B126 -> 342398000 | F16: ='1.'!C126 -> 357701000 | G16: ='1.'!D126 -> 432174387 | H16: =G16/F16 -> 1.2082001
A17: 5. | B17: Felhalmozási bevételek (B5) | E17: ='1.'!B132 -> 3000000 | F17: ='1.'!C132 -> 3000000 | G17: ='1.'!D132 -> 7730000 | H17: =G17/F17 -> 2.5766667
A18: 6. | B18: Működési célú átvett pénzeszközök (B6) | E18: ='1.'!B138 -> 0 | F18: ='1.'!C138 -> 0 | G18: ='1.'!D138 -> 969000 | H18: 0
A19: 7. | B19: Felhalmozási célú átvett pénzeszközök (B7) | E19: ='1.'!B143 -> 3500000 | F19: ='1.'!C143 -> 3500000 | G19: ='1.'!D143 -> 2753000 | H19: =G19/F19 -> 0.78657143
A21: 8. | B21: Megtérülések
B23: Költségvetési bevételek összesen (B1+…B7) | E23: =SUM(E13:E21) -> 2924797000 | F23: =SUM(F13:F21) -> 3033934000 | G23: =SUM(G13:G21) -> 2650907387 | H23: =G23/F23 -> 0.87375249
A25: 9. | B25: Finanszírozási bevételek (B8) | E25: ='1.'!B151 -> 2536320000 | F25: ='1.'!C151 -> 3547593000 | G25: ='1.'!D151 -> 3547593000 | H25: =G25/F25 -> 1
B27: Önkormányzat és Intézményei Bevételek összesen:(B1+…+B8) | E27: =SUM(E25,E23) -> 5461117000 | F27: =SUM(F25,F23) -> 6581527000 | G27: =SUM(G25,G23) -> 6198500387 | H27: =G27/F27 -> 0.94180277
A29: Martfű Város Önkormányzatának
A30: 2025. évi költségvetésének
A31: pénzügyi mérlege
A33: KIADÁSOK
G36: Ezer Ft.
E37: 2025. év eredeti előirányzat | F37: 2025. módosított előirányzat | G37: Teljesítés | H37: Teljesítés %-a
A38: I. | B38: Működési, fenntartási kiadások | E38: =SUM(E39:E45) -> 2613888000 | F38: =SUM(F39:F45) -> 3290481693 | G38: =SUM(G39:G45) -> 2114638822 | H38: =G38/F38 -> 0.64265327
B39: - | C39: Személyi juttatás (K1) | E39: ='4.'!T10 -> 780301000 | F39: ='4.'!U10 -> 862713798 | G39: ='4.'!V10 -> 846688807 | H39: =G39/F39 -> 0.9814249
B40: - | C40: Munkáltatót terhelő járulékok (K2) | E40: ='4.'!T11 -> 105948000 | F40: ='4.'!U11 -> 118155880 | G40: ='4.'!V11 -> 117505688 | H40: =G40/F40 -> 0.99449717
B41: - | C41: Dologi kiadások (K3) | E41: ='4.'!T12 -> 774693000 | F41: ='4.'!U12 -> 815767015 | G41: ='4.'!V12 -> 560405327 | H41: =G41/F41 -> 0.68696738
B42: - | C42: Ellátottak pénzbeni juttatásai (K4) | E42: ='4.'!T13 -> 44073000 | F42: ='4.'!U13 -> 43873000 | G42: ='4.'!V13 -> 40748000 | H42: =G42/F42 -> 0.92877168
B43: - | C43: Egyéb működési célú kiadások (K5) | E43: ='4.'!T14 -> 504785000 | F43: ='4.'!U14 -> 549509000 | G43: ='4.'!V14 -> 549291000 | H43: =G43/F43 -> 0.99960328
B44: - | C44: Általános tartalék | E44: ='4.'!T15 -> 276580000 | F44: ='4.'!U15 -> 826955000 | G44: ='4.'!V15 -> 0 | H44: =G44/F44 -> 0
B45: - | C45: Céltartalék | E45: ='4.'!T16 -> 127508000 | F45: ='4.'!U16 -> 73508000 | G45: ='4.'!V16 -> 0 | H45: =G45/F45 -> 0
A47: II. | B47: Felhalmozási és tőke jellegű kiadások | E47: =SUM(E48:E51) -> 2826075000 | F47: =SUM(F48:F51) -> 2998044000 | G47: =SUM(G48:G51) -> 6.8224004e+08 | H47: =G47/F47 -> 0.22756172
B48: - | C48: Beruházás (K6) | E48: ='4.'!T20 -> 2678503000 | F48: ='4.'!U20 -> 2808712000 | G48: ='4.'!V20 -> 5.8429079e+08 | H48: =G48/F48 -> 0.20802802
B49: - | C49: Felújítás (K7) | E49: ='4.'!T21 -> 116907000 | F49: ='4.'!U21 -> 158667000 | G49: ='4.'!V21 -> 94949249 | H49: =G49/F49 -> 0.59841838
B50: - | C50: Egyéb felhalmozási célú kiadások (K8) | E50: ='4.'!T22 -> 10000000 | F50: ='4.'!U22 -> 10000000 | G50: ='4.'!V22 -> 3000000 | H50: =G50/F50 -> 0.3
B51: - | C51: Felhalmozási célú céltartalék | E51: ='4.'!T23 -> 20665000 | F51: ='4.'!U23 -> 20665000 | G51: ='4.'!V23 -> 0 | H51: =G51/F51 -> 0
A53: III. | B53: Folyó évi kiadások összesen | E53: =SUM(E38,E47) -> 5439963000 | F53: =SUM(F38,F47) -> 6288525693 | G53: =SUM(G38,G47) -> 2.7968789e+09 | H53: =G53/F53 -> 0.44475907
A55: IV. | B55: Finanszírozási kiadások (K9) | E55: ='4.'!T25 -> 21153870 | F55: ='4.'!U25 -> 293000938 | G55: ='4.'!V25 -> 293000938 | H55: =G55/F55 -> 1
A57: V. | B57: Kiadások összesen: | E57: =SUM(E53,E55) -> 5461116870 | F57: =SUM(F53,F55) -> 6581526631 | G57: =SUM(G53,G55) -> 3.0898798e+09 | H57: =G57/F57 -> 0.46947767
A60: Tervezett létszám | E60: =+'4.'!T27 -> 117 | F60: =+'4.'!U27 -> 123 | G60: =+'4.'!V27 -> 123 | H60: =G60/F60 -> 1
A61: Tervezett létszámváltozás | E61: =+'4.'!T28 -> 0 | F61: =+'4.'!U28 -> 0 | G61: =+'4.'!V28 -> 0 | H61: 0
A62: képviselő-testületi tagok száma | E62: =+'4.'!T29 -> 8 | F62: =+'4.'!U29 -> 8 | G62: =+'4.'!V29 -> 8 | H62: 0
A63: Pályaztból foglalkoztatott létszám | E63: =+'4.'!T30 -> 0 | F63: =+'4.'!U30 -> 0 | G63: =+'4.'!V30 -> 0 | H63: 0
A64: 2025.évi nyári diákfolglkoztatás létszám | E64: 0 | F64: 0 | G64: 0 | H64: 0
A65: 2025.évi tervezett közfoglalkoztatottak | E65: =+'4.'!T32 -> 31 | F65: =+'4.'!U32 -> 32 | G65: =+'4.'!V32 -> 32 | H65: =G65/F65 -> 1
A66: 2025. évi tervezett össz létszám: | E66: =SUM(E60:E65) -> 156 | F66: =SUM(F60:F65) -> 163 | G66: =SUM(G60:G65) -> 163 | H66: =G66/F66 -> 1
A68: Megjegyzés: A létszám adatok teljesítés oszlopa az éves átlagos statisztikai állományi létszámot tartalmazza.

Sheet 10.
A3: TÁJÉKOZTATÓ
A6: Több éves elkötelezettséggel járó kiadási tételek évenkénti bontásban
B9: Feladat megnevezése | C9: 2025.év | D9: 2026.év | E9: 2027.év | F9: 2028.év | G9: 2029.év | H9: Tartós kötelezettség
A10: 1.
B11: Összesen: | C11: 0 | D11: 0 | E11: 0 | F11: 0 | G11: 0
A17: 2. | B17: Martfű Város Önkormányzata tulajdonában álló gazdálkodó szervezet, és a működéséből származó kötelezettség, részesedés
B18: Az önkormányzata tulajdonában álló gazdálkodó szervezet | F18: részesedés összege | H18: működési kötelezettségek
B19: Bács-Víz Zrt, | F19: 68 | H19: 0
B20: Tisza Cipő Zrt | F20: 1 | H20: 0

Sheet 11.
A3: TÁJÉKOZTATÓ
A6: Környezetvédelmi Alap felhasználás 2025.
E9: Ezer Ft.
C10: eredeti előirányzat | D10: módosított előirányzat | E10: teljesítés
B12: Nyitó egyenleg 2025. 01. 01-én: | E12: 407000
B14: Bevétel
B16: Lorenz Group Kft.- bírság | C16: 0 | D16: 0 | E16: 75000
B17: Kamatbevétel | C17: 0 | D17: 0 | E17: =908.95+959.29+1064.63+1031.43+1032.01+1068.67+1071.02+1004.12+1110.27+1078.02+953.73+504.59 -> 11786.73
B18: Bevétel Összesen | C18: =SUM(C16:C17) -> 0 | D18: =SUM(D16:D17) -> 0 | E18: =+E17+E16 -> 86786.73
B20: Kiadás
B21: Rigó Kft. Babafa tábla gyártása 21 db | C21: 0 | D21: 0 | E21: 104013
B22: Alföld Smaragd KKT- Babafa rendelés 27 db | C22: 0 | D22: 0 | E22: 196400
B23: Bankköltség-Pénzforgalmi díj, Tranzakciós díj | C23: 0 | D23: 0 | E23: =234.03+31.2+441.9+58.92 -> 766.05
B24: Kiadás Összesen | C24: =SUM(C21:C23) -> 0 | D24: =SUM(D21:D23) -> 0 | E24: =SUM(E21:E23) -> 301179.05
B28: Záró egyenleg 2025. 12.31-én | C28: 0 | D28: 0 | E28: =+E12+E18-E24 -> 192607.68

Sheet 12.
A1: TÁJÉKOZTATÓ
A3: Tájékoztató az Önkormányzat tételes kiadásairól
A4: 2025. év
A5: Megnevezés
E6: Ezer Ft.
A7: A./SZEMÉLYI JUTTATÁSOK ÖSSZESEN (K1) | C7: Eredeti előirányzat | D7: Módosított előirányzat | E7: Teljesítés | F7: Teljesítés %-a
A8: I.Foglalkoztatottak személyi juttatásai (K11)
A9: 1. | B9: Törvény szerinti alapilletmények, munkabér összesen (K1101) | C9: 10723000 | D9: 30784000 | E9: 28309000 | F9: =E9/D9 -> 0.91960109
A10: 2. | B10: Normatív jutalmak (K1102) | C10: 0 | D10: 0 | E10: 0 | F10: 0
A11: 3. | B11: Céljuttatás, projektprémium (K1103) | C11: 6457000 | D11: 0 | E11: 0 | F11: 0
A12: 4. | B12: Készenléti, ügyeleti, helydíj, túlóra (K1104) | C12: 0 | D12: 0 | E12: 0 | F12: 0
A13: 5. | B13: Végkielégítés (K1105) | C13: 0 | D13: 0 | E13: 0 | F13: 0
A14: 6. | B14: Jubileumi jutalom (K1106) | C14: 0 | D14: 0 | E14: 0 | F14: 0
A15: 7. | B15: Béren kívüli juttatások (K1107) | C15: 0 | D15: 200000 | E15: 200000 | F15: 0
A16: 8. | B16: Ruházati költségtérítés (K1108) | C16: 0 | D16: 0 | E16: 0 | F16: 0
A17: 9. | B17: Közlekedési költségtérítés (K1109) | C17: 0 | D17: 0 | E17: 0 | F17: 0
A18: 10. | B18: Egyéb költségtérítések (K110) | C18: 0 | D18: 0 | E18: 0 | F18: 0
A19: 11. | B19: Foglalkoztatottak egyéb személyi juttatása (K1113) | C19: 25000 | D19: 1101000 | E19: 960000 | F19: =E19/D19 -> 0.8719346
B20: I.Foglalkoztatottak személyi juttatásai (K11) összesen: | C20: =SUM(C9:C19) -> 17205000 | D20: =SUM(D9:D19) -> 32085000 | E20: =SUM(E9:E19) -> 29469000 | F20: =E20/D20 -> 0.91846657
A22: II. Külső személyi juttatások (K12)
A23: 1. | B23: Választott tisztségviselők juttatása (K121) | C23: 38205000 | D23: 41529000 | E23: 41404000 | F23: =E23/D23 -> 0.99699006
A24: 2. | B24: Állományba nem tartozók megbízási díja (K122) | C24: 4336000 | D24: 10367000 | E24: 9840000 | F24: =E24/D24 -> 0.94916562
A25: 3. | B25: Egyéb külső személyi juttatás -kitüntetettek (K123) | C25: 1535000 | D25: 1535000 | E25: 1194000 | F25: =E25/D25 -> 0.77785016
A26: 4. | B26: Egyéb külső személyi juttatás -reprezentáció (K123) | C26: 2000000 | D26: 5243000 | E26: 5285000 | F26: =E26/D26 -> 1.0080107
A27: 5. | B27: Egyéb különféle külső személyi juttatás (K123) | C27: 0 | D27: 0 | E27: 0 | F27: 0
B28: Külső személyi juttatások (K12) összesen: | C28: =SUM(C23:C27) -> 46076000 | D28: =SUM(D23:D27) -> 58674000 | E28: =SUM(E23:E27) -> 57723000 | F28: =E28/D28 -> 0.9837918
B30: A./SZEMÉLYI JUTTATÁSOK (K1) ÖSSZESEN | C30: =C20+C28 -> 63281000 | D30: =D20+D28 -> 90759000 | E30: =E20+E28 -> 87192000 | F30: =E30/D30 -> 0.96069811
A32: B. /MUNKAADÓKAT TERHELŐ JÁRULÉK (K2)
A33: 1. | B33: Szociális hozzájárulási adó (13%) | C33: 6886000 | D33: 9045000 | E33: 8249000 | F33: =E33/D33 -> 0.91199558
A34: 2. | B34: Rehabilitációs hozzájárulás | C34: 0 | D34: 0 | E34: 0 | F34: 0
A35: 3. | B35: Táppénz hozzájárulás | C35: 0 | D35: 0 | E35: 292303 | F35: 0
A36: 4. | B36: Munkaadókat terhelő egyéb járulék (Szja) | C36: 661000 | D36: 1100000 | E36: 1222000 | F36: 0
B37: B. /MUNKAADÓKAT TERHELŐ JÁRULÉK (K2) ÖSSZESEN | C37: =SUM(C33:C36) -> 7547000 | D37: =SUM(D33:D36) -> 10145000 | E37: =SUM(E33:E36) -> 9763303 | F37: =E37/D37 -> 0.96237585
A39: C./ DOLOGI KIADÁSOK (K3)
A41: 1. Készletbeszerzések (K31)
A42: Szakmai anyagok (K311) | C42: 520000 | D42: 882000 | E42: 401000 | F42: =E42/D42 -> 0.45464853
A43: Üzemeltetési anyagok beszerzése (K312) | C43: 9000000 | D43: 9945000 | E43: 7227000 | F43: =E43/D43 -> 0.72669683
A44: Árubeszerzés (K313) | C44: 0 | D44: 0 | E44: 0 | F44: 0
B46: 1. Készletbeszerzések (K31) összesen: | C46: =SUM(C42:C45) -> 9520000 | D46: =SUM(D42:D45) -> 10827000 | E46: =SUM(E42:E45) -> 7628000 | F46: =E46/D46 -> 0.70453496
A48: 2. Kommunikációs szolgáltatások (K32)
A49: Informatikai szolgáltatások (K321) | C49: 3000000 | D49: 2500000 | E49: 1700000 | F49: =E49/D49 -> 0.68
A50: Egyéb kommunikációs szolgáltatások (K322) | C50: 400000 | D50: 950000 | E50: 460000 | F50: =E50/D50 -> 0.48421053
B51: 2. Kommunikációs szolgáltatások (K32) összesen: | C51: =SUM(C49:C50) -> 3400000 | D51: =SUM(D49:D50) -> 3450000 | E51: =SUM(E49:E50) -> 2160000 | F51: =E51/D51 -> 0.62608696
A53: 3. Szolgáltatási kiadások (K33)
A54: Villamosenergia szolgáltatás díja (K3311) | C54: 23000000 | D54: 22800000 | E54: 16972000 | F54: =E54/D54 -> 0.74438596
A55: Gázenergia szolgáltatás díja (K3312) | C55: 11000000 | D55: 17900000 | E55: 14898000 | F55: =E55/D55 -> 0.8322905
A56: Távhő-és melegvíz szolgáltatás díja (K3313) | C56: 3500000 | D56: 4000000 | E56: 3581000 | F56: =E56/D56 -> 0.89525
A57: Víz- és csatorna szolgáltatás díja (K3314) | C57: 4500000 | D57: 5600000 | E57: 4906000 | F57: =E57/D57 -> 0.87607143
A58: Vásárolt élelmezés (K332) | C58: 50000 | D58: 50000 | E58: 0 | F58: =E58/D58 -> 0
A59: Bérleti és lízing díjak (K333 ) | C59: 1750000 | D59: 1750000 | E59: 0 | F59: =E59/D59 -> 0
A60: Karbantartási, kisjavítási szolgáltatások (K334) | C60: 15000000 | D60: 14300000 | E60: 5968000 | F60: =E60/D60 -> 0.41734266
A61: Közvetített szolgáltatások (K335) | C61: 13500000 | D61: 14500000 | E61: 12940000 | F61: =E61/D61 -> 0.89241379
A62: Szakmai tevékenységet segítő szolgáltatások (K336) | C62: 57000000 | D62: 57700000 | E62: 45188000 | F62: =E62/D62 -> 0.78315425
A63: Egyéb szolgáltatások (K337) | C63: 33543000 | D63: 33543000 | E63: 30123000 | F63: =E63/D63 -> 0.89804132
B64: 3. Szolgáltatási kiadások (K33) összesen: | C64: =SUM(C54:C63) -> 162843000 | D64: =SUM(D54:D63) -> 172143000 | E64: =SUM(E54:E63) -> 134576000 | F64: =E64/D64 -> 0.78176865
A66: 4. Kiküldetések, reklám-és propag. Kiadások (K34)
A67: Kiküldetések kiadásai (K341)
A68: 1. | B68: Belföldi kiküldetések | C68: 50000 | D68: 50000 | E68: 0 | F68: =E68/D68 -> 0
A69: Reklám-és propaganda kiadások (K342) | C69: 2000000 | D69: 2000000 | E69: 15000 | F69: =E69/D69 -> 0.0075
B70: 4. Kiküldetések, reklám-és propag. Kiadások (K34) összesen: | C70: =SUM(C68:C69) -> 2050000 | D70: =SUM(D68:D69) -> 2050000 | E70: =SUM(E68:E69) -> 15000 | F70: =E70/D70 -> 0.0073170732
A72: 5. Különféle befizetések és egyéb dologi kiadások (K35)
A73: Működéci célú előzet.felszámított ÁFA (K351) | C73: 48963000 | D73: 50559000 | E73: 32178000 | F73: =E73/D73 -> 0.63644455
A74: Fizetendő ÁFA (K352) | C74: 212066000 | D74: 216909000 | E74: 80022000 | F74: =E74/D74 -> 0.36891969
A75: Kamatkiadások (K354) | C75: 0 | D75: 0 | E75: 0 | F75: 0
A76: Egyéb dologi kiadások (K355) | C76: 15063000 | D76: 14981000 | E76: 12052000 | F76: =E76/D76 -> 0.80448568
B77: 5. Különféle befizetések és egyéb dologi kiadások (K35) összesen: | C77: =SUM(C73:C76) -> 276092000 | D77: =SUM(D73:D76) -> 282449000 | E77: =SUM(E73:E76) -> 124252000 | F77: =E77/D77 -> 0.43990951
B79: C./ DOLOGI KIADÁSOK (K3) ÖSSZESEN | C79: =C46+C51+C64+C70+C77 -> 453905000 | D79: =D46+D51+D64+D70+D77 -> 470919000 | E79: =E46+E51+E64+E70+E77 -> 268631000 | F79: =E79/D79 -> 0.57043993
A81: D./ELLÁTOTTAK PÉNZBELI JUTTATÁSA (K4)
A82: 1. | B82: Köztemetés | C82: 1500000 | D82: 1500000 | E82: 0 | F82: =E82/D82 -> 0
A83: 2. | B83: Települési segély,egyéb az Önkormányzat rendeletében megállapított juttatás(Születési támogatás,Szoc.ösztöndíjak,70 év felettiek | C83: 41773000 | D83: 41573000 | E83: 31247000 | F83: =E83/D83 -> 0.75161764
A84: 3. | B84: Települési támogatás (Szoctv. 45.§) | C84: 800000 | D84: 800000 | E84: 9501000 | F84: =E84/D84 -> 11.87625
B85: D./ELLÁTOTTAK PÉNZBELI JUTTATÁSA (K4) ÖSSZESEN | C85: =SUM(C82:C84) -> 44073000 | D85: =SUM(D82:D84) -> 43873000 | E85: =SUM(E82:E84) -> 40748000 | F85: =E85/D85 -> 0.92877168
A88: E./EGYÉB MŰKÖDÉSI CÉLÚ KIADÁSOK (K5)
A89: Elvonások és befizetések(K502) | C89: 474708000 | D89: 518708000 | E89: 518615000 | F89: =E89/D89 -> 0.99982071
A90: Egyéb működési célú tám. ÁHT-n belülre (K506)
A91: 1. | B91: Tiszazugi Önkorm. Társulása támogatása | C91: 0 | D91: 83000 | E91: 83000 | F91: =E91/D91 -> 1
A92: 2. | B92: Szolnoki Kistérség Töbcélú Társulása támogatása | C92: 12500000 | D92: 12500000 | E92: 12475000 | F92: =E92/D92 -> 0.998
B93: Egyéb működési célú tám. ÁHT-n belülre (K506) összesen: | C93: =SUM(C91:C92) -> 12500000 | D93: =SUM(D91:D92) -> 12583000 | E93: =SUM(E91:E92) -> 12558000 | F93: =E93/D93 -> 0.99801319
A95: Műk.célú visszatérítendő tám.,kölcsönök nyújtása ÁHT-n kívülre (K508) | C95: 1000000 | D95: 1200000 | E95: 1200000 | F95: =E95/D95 -> 1
A97: Egyéb működési célú tám. ÁHT-n kívülre (K512)
A98: 1. | B98: Sport támogatás összesen: | C98: 10000000 | D98: 10000000 | E98: =SUM(E99:E105) -> 10000000 | F98: =E98/D98 -> 1
B99: Martfűi Labdarugó Sportegyesület | C99: 2800000 | D99: =+C99 -> 2800000 | E99: 2800000 | F99: =E99/D99 -> 1
B100: Martfűi Városi Sportegyesület | C100: 1570000 | D100: =+C100 -> 1570000 | E100: 1570000 | F100: =E100/D100 -> 1
B101: Victory Martfűi Kyokushin Karate Klub | C101: 1470000 | D101: =+C101 -> 1470000 | E101: 1470000 | F101: =E101/D101 -> 1
B102: Martfűi Úszó és Triatlon Klub | C102: 2140000 | D102: =+C102 -> 2140000 | E102: 2140000 | F102: =E102/D102 -> 1
B103: József Attila Általános Iskola DSE | C103: 1060000 | D103: =+C103 -> 1060000 | E103: 1060000 | F103: =E103/D103 -> 1
B104: "No Limits" Sportegyesület | C104: 380000 | D104: 380000 | E104: 380000 | F104: =E104/D104 -> 1
B105: Fight Club Martfű Sportegyesület | C105: 580000 | D105: =+C105 -> 580000 | E105: 580000 | F105: =E105/D105 -> 1
A107: 2. | B107: Civil szervezetek támogatása | C107: 2100000 | D107: 2191000 | E107: =+D107 -> 2191000 | F107: =E107/D107 -> 1
A109: 3. | B109: Egyéb nonprofit szervezetek tám.összesen: | C109: =SUM(C110:C113) -> 1350000 | D109: 1700000 | E109: =SUM(E110:E113) -> 1700000 | F109: =E109/D109 -> 1
B110: Martfűi Polgárőr Egyesület támogatása | C110: 400000 | D110: 400000 | E110: 400000 | F110: =E110/D110 -> 1
B111: Magyar Máltai Szeretetszolgálat támogatása | C111: 300000 | D111: 500000 | E111: 500000 | F111: =E111/D111 -> 1
B112: Római Katolikus Plébánia Tf. Támogatása | C112: 275000 | D112: 350000 | E112: 350000 | F112: =E112/D112 -> 1
B113: Martfűi Református Egyházközösség támogatása | C113: 375000 | D113: 450000 | E113: 450000 | F113: =E113/D113 -> 1
A115: 4. | B115: Kóbor ebek befogása | C115: 100000 | D115: 100000 | E115: 0 | F115: =E115/D115 -> 0
A117: 5. | B117: Tiszaföldvári Önk.-i Tűzoltó Parancsnokság támogatása | C117: 3027000 | D117: 3027000 | E117: 3027000 | F117: =E117/D117 -> 1
A118: Egyéb működési célú tám. ÁHT-n kívülre (K512) összesen: | C118: =+C117+C115+C109+C107+C98 -> 16577000 | D118: =+D117+D115+D109+D107+D98 -> 17018000 | E118: =+E98+E107+E109+E117 -> 16918000 | F118: =E118/D118 -> 0.99412387
B120: Egyéb működési támogatások összesen (K502-K512): | C120: =SUM(C89,C93,C118,C95) -> 504785000 | D120: =SUM(D89,D93,D118,D95) -> 549509000 | E120: =SUM(E89,E93,E118,E95) -> 549291000 | F120: =E120/D120 -> 0.99960328
A122: 6. | B122: Tartalékok (K513)
B123: a) Általános tartalék | C123: 276580000 | D123: 826955000 | E123: 0 | F123: =E123/D123 -> 0
...

Sheet 13.
A2: TÁJÉKOZTATÓ
A4: Polgármesteri Hivatal tételes kiadásai
A5: 2025. év
E6: Ezer Ft.
A7: A./SZEMÉLYI JUTTATÁSOK ÖSSZESEN (K1) | C7: Eredeti előirányzat | D7: Módosított előirányzat | E7: Teljesítés | F7: Teljesítés %-a
A8: I.Foglalkoztatottak személyi juttatásai (K11)
A9: 1. | B9: Törvény szerinti alapilletmények, munkabér összesen (K1101) | C9: 128229000 | D9: 135932000 | E9: 135150000 | F9: =E9/D9 -> 0.99424712
A10: 2. | B10: Normatív jutalmak (K1102) | C10: 0 | D10: 6923000 | E10: 6917000 | F10: =E10/D10 -> 0.99913332
A11: 3. | B11: Céljuttatás, projektprémium (K1103) | C11: 0 | D11: 0 | E11: 0 | F11: 0
A12: 4. | B12: Készenléti, ügyeleti, helydíj, túlóra (K1104) | C12: 0 | D12: 0 | E12: 0 | F12: 0
A13: 5. | B13: Végkielégítés (K1105) | C13: 0 | D13: 0 | E13: 0 | F13: 0
A14: 6. | B14: Jubileumi jutalom (K1106) | C14: 9887000 | D14: 12056600 | E14: 12057000 | F14: =E14/D14 -> 1.0000332 | H14: 0
A15: 7. | B15: Béren kívüli juttatások-Cafetéria 24 fő (K1107) | C15: 9600000 | D15: 9600000 | E15: 9595000 | F15: =E15/D15 -> 0.99947917
A16: 8. | B16: Ruházati költségtérítés (K1108) | C16: 200000 | D16: 100000 | E16: 89000 | F16: =E16/D16 -> 0.89
A17: 9. | B17: Közlekedési költségtérítés (K1109) | C17: 350000 | D17: 650000 | E17: 614000 | F17: =E17/D17 -> 0.94461538
A18: 10. | B18: Egyéb költségtérítések (K1110) | C18: 3000000 | D18: 0 | E18: 0 | F18: 0
A19: 11. | B19: Foglalkoztatottak egyéb személyi juttatása (K1113) | C19: 1000000 | D19: 4435000 | E19: 4419000 | F19: =E19/D19 -> 0.99639233
B20: I.Foglalkoztatottak személyi juttatásai (K11) összesen: | C20: =SUM(C9:C19) -> 152266000 | D20: =SUM(D9:D19) -> 169696600 | E20: =SUM(E9:E19) -> 168841000 | F20: =E20/D20 -> 0.99495806
A22: II. Külső személyi juttatások (K12)
A23: 1. | B23: Választott tisztségviselők juttatása (K121) | C23: 0 | D23: 0 | E23: 0 | F23: 0
A24: 2. | B24: Egyéb külső személyi juttatás | C24: 0 | D24: 0 | E24: 0 | F24: 0
A25: 3. | B25: Egyéb külső személyi juttatás -reprezentáció (K123) | C25: 200000 | D25: 600000 | E25: 455000 | F25: =E25/D25 -> 0.75833333
A26: 4. | B26: Állományba nem tartozók megbízási díja(K122) | C26: 0 | D26: 0 | E26: 0 | F26: 0
B27: Külső személyi juttatások (K12) összesen: | C27: =SUM(C23:C26) -> 200000 | D27: =SUM(D23:D26) -> 600000 | E27: =SUM(E25:E26) -> 455000 | F27: =E27/D27 -> 0.75833333
B29: A./SZEMÉLYI JUTTATÁSOK (K1) ÖSSZESEN | C29: =C20+C27 -> 152466000 | D29: =D20+D27 -> 170296600 | E29: =E20+E27 -> 169296000 | F29: =E29/D29 -> 0.99412437
A31: B. /MUNKAADÓKAT TERHELŐ JÁRULÉK (K2)
A32: 1. | B32: Szociális hozzájárulási adó (17,5%,15,5%) | C32: 19431000 | D32: 23390000 | E32: 21636000 | F32: =E32/D32 -> 0.92501069
A33: 2. | B33: Táppénz hozzájárulás | C33: 0 | D33: 0 | E33: 77000 | F33: 0
A34: 3. | B34: Munkaadókat terhelő egyéb járulék (Szja) | C34: 0 | D34: 0 | E34: 1677000 | F34: 0
B35: B. /MUNKAADÓKAT TERHELŐ JÁRULÉK (K2) ÖSSZESEN | C35: =SUM(C32:C34) -> 19431000 | D35: =SUM(D32:D34) -> 23390000 | E35: =SUM(E32:E34) -> 23390000 | F35: =E35/D35 -> 1
A37: C./ DOLOGI KIADÁSOK (K3)
A39: 1. Készletbeszerzések (K31)
A40: Szakmai anyagok (K311) | C40: 291000 | D40: 291000 | E40: 177000 | F40: =E40/D40 -> 0.60824742
A41: Üzemeltetési anyagok beszerzése (K312) | C41: 3200000 | D41: 3200000 | E41: 2619000 | F41: =E41/D41 -> 0.8184375
A42: Árubeszerzés (K313) | C42: 0 | D42: 0 | E42: 0 | F42: 0
B43: 1. Készletbeszerzések (K31) összesen: | C43: =SUM(C40:C42) -> 3491000 | D43: =SUM(D40:D42) -> 3491000 | E43: =SUM(E40:E42) -> 2796000 | F43: =E43/D43 -> 0.80091664
A45: 2. Kommunikációs szolgáltatások (K32)
A46: Informatikai szolgáltatások (K321) | C46: 2800000 | D46: 3131000 | E46: 2975000 | F46: =E46/D46 -> 0.95017566
A47: Egyéb kommunikációs szolgáltatások (K322) | C47: 300000 | D47: 500000 | E47: 152000 | F47: =E47/D47 -> 0.304
B48: 2. Kommunikációs szolgáltatások (K32) összesen: | C48: =SUM(C46:C47) -> 3100000 | D48: =SUM(D46:D47) -> 3631000 | E48: =SUM(E46:E47) -> 3127000 | F48: =E48/D48 -> 0.86119526
A50: 3. Szolgáltatási kiadások (K33)
A51: Villamosenergia szolgáltatás díja (K3311) | C51: 2200000 | D51: 2220000 | E51: 1092000 | F51: =E51/D51 -> 0.49189189
A52: Gázenergia szolgáltatás díja (K3312) | C52: 6000000 | D52: 5390000 | E52: 4181000 | F52: =E52/D52 -> 0.77569573
A53: Víz- és csatorna szolgáltatás díja (K3314) | C53: 700000 | D53: 1480000 | E53: 1088000 | F53: =E53/D53 -> 0.73513514
A54: Vásárolt élelmezés (K332) | C54: 0 | D54: 0 | E54: 0 | F54: 0
A55: Bérleti és lízing díjak (K333 ) | C55: 150000 | D55: 150000 | E55: 0 | F55: =E55/D55 -> 0
A56: Karbantartási, kisjavítási szolgáltatások (K334) | C56: 2500000 | D56: 3410000 | E56: 3323000 | F56: =E56/D56 -> 0.9744868
A57: Közvetített szolgáltatások (K335) | C57: 170000 | D57: 190000 | E57: 168000 | F57: =E57/D57 -> 0.88421053
A58: Szakmai tevékenységet segítő szolgáltatások (K336) | C58: 650000 | D58: 875000 | E58: 848000 | F58: =E58/D58 -> 0.96914286
A59: Egyéb szolgáltatások (K337) | C59: 4295000 | D59: 4845000 | E59: 4676000 | F59: =E59/D59 -> 0.96511868
B60: 3. Szolgáltatási kiadások (K33) összesen: | C60: =SUM(C51:C59) -> 16665000 | D60: =SUM(D51:D59) -> 18560000 | E60: =SUM(E51:E59) -> 15376000 | F60: =E60/D60 -> 0.82844828
A62: 4. Kiküldetések, reklám-és propag. Kiadások (K34)
A63: Kiküldetések kiadásai (K341)
A64: 1. | B64: Belföldi kiküldetések | C64: 300000 | D64: 300000 | E64: 14000 | F64: =E64/D64 -> 0.046666667
A65: Reklám-és propaganda kiadások (K342) | C65: 0 | D65: 0 | E65: 0 | F65: 0
B66: 4. Kiküldetések, reklám-és propag. Kiadások (K34) összesen: | C66: =SUM(C64:C65) -> 300000 | D66: =SUM(D64:D65) -> 300000 | E66: =SUM(E64:E65) -> 14000 | F66: =E66/D66 -> 0.046666667
A68: 5. Különféle befizetések és egyéb dologi kiadások (K35)
A69: Működéci célú előzet.felszámított ÁFA (K351)
A70: 1. | B70: Működéci célú előzet.felszámított levonható ÁFA | C70: 6019000 | D70: 6614000 | E70: 4243000 | F70: 0
A71: 2. | B71: Működéci célú előzet.felszámított le nem vonható ÁFA | C71: 0 | D71: 0 | E71: 0 | F71: 0
A72: Fizetendő ÁFA (K352) | C72: 0 | D72: 16000 | E72: 16000 | F72: =E72/D72 -> 1
A73: Egyéb dologi kiadások (K355) | C73: 840000 | D73: 624000 | E73: 315000 | F73: =E73/D73 -> 0.50480769
B74: 5. Különféle befizetések és egyéb dologi kiadások (K35) összesen: | C74: =SUM(C70:C73) -> 6859000 | D74: =SUM(D70:D73) -> 7254000 | E74: =SUM(E70:E73) -> 4574000 | F74: =E74/D74 -> 0.63054866
B76: C./ DOLOGI KIADÁSOK (K3) ÖSSZESEN | C76: =C43+C48+C60+C66+C74 -> 30415000 | D76: =D43+D48+D60+D66+D74 -> 33236000 | E76: =E43+E48+E60+E66+E74 -> 25887000 | F76: =E76/D76 -> 0.77888434
A78: D./ELLÁTOTTAK PÉNZBELI JUTTATÁSA (K4)
A80: Rendszeres gyermekvéd. kedv.részes. pénzbeni támog. | C80: 0 | D80: 0 | E80: 0 | F80: 0
B81: D./ELLÁTOTTAK PÉNZBELI JUTTATÁSA (K4) ÖSSZESEN | C81: 0 | D81: 0 | E81: 0 | F81: 0
A83: E./EGYÉB MŰKÖDÉSI CÉLÚ KIADÁSOK (K5) | C83: 0 | D83: 0 | E83: 0 | F83: 0
A85: MŰKÖDÉSI KIADÁSOK ÖSSZESEN: | C85: =C29+C35+C76+C81+C83 -> 202312000 | D85: =D29+D35+D76+D81+D83 -> 226922600 | E85: =E29+E35+E76+E81+E83 -> 218573000 | F85: =E85/D85 -> 0.96320508
A91: FELHALMOZÁSI KIADÁSOK
A93: A/ Beruházások (K6) | C93: ='5.'!D88 -> 2000000 | D93: ='5.'!E88 -> 4164000 | E93: ='5.'!F88 -> 2286201.9 | F93: =E93/D93 -> 0.54903985
A95: B./ Felújítások (K7) | C95: ='5.'!D146 -> 0 | D95: ='5.'!E146 -> 8000 | E95: ='5.'!F146 -> 7499.35 | F95: =E95/D95 -> 0.93741875
A97: C./ Egyéb felhalmozási célú kiadások (K8) | C97: 0 | D97: 0 | E97: 0 | F97: 0
A100: FELHALMOZÁSI KIADÁSOK ÖSSZESEN: | C100: =SUM(C93:C99) -> 2000000 | D100: =SUM(D93:D99) -> 4172000 | E100: =SUM(E93:E99) -> 2293701.3 | F100: =E100/D100 -> 0.54978458
A103: D./ Finanszírozási kiadások (K9) | C103: 0 | D103: 0 | E103: 0 | F103: 0
A106: KIADÁSOK MINDÖSSZESEN: | C106: =C85+C100 -> 204312000 | D106: =D85+D100 -> 231094600 | E106: =E85+E100 -> 2.208667e+08 | F106: =E106/D106 -> 0.95574151

Sheet 14.
A1: Martfű Város Önkormányzata kötelező,önként vállalt és államigagatási bevételei és kiadásai intézményi bontásban
A2: 2025. év
C3: KIADÁS | D3: BEVÉTELEK | N3: Ezer Ft
B4: Intézmények, Szakfeladatok | C4: Összesen: | D4: Működési célú tám. ÁHT-n bel. (B1) | E4: Felhalmozási célú tám. ÁHT-n bel. (B2) | F4: Közhatalmi bevételek (B3) | G4: Működési bevételek (B4) | H4: Felhalmozási bevételek (B5) | I4: Működési célú átvett pénzeszk. (B6) | J4: Felhalmozási célú átvett pénzeszk. (B7) | K4: Finanszírozási bevétel (B8) | L4: Önkormányzati finanszírozás (állami támogatás nélkül) | M4: Összesen: | N4: Önkorm. finanszírozás az össz.kiadás %-ában
A5: Gyermekjóléti és Szoc. SzK.
B6: Kötelezően ellátandó feladat
A7: 1. | B7: Gyermekjóléti szolg.,családsegítés, közétkeztetés | C7: =155915000+9281000+1856000+24004000 -> 191056000 | D7: 105103000 | G7: 50087000 | K7: 3857000 | L7: 30806000 | M7: =SUM(D7:L7) -> 189853000
A8: 2. | B8: Városüzemeltetési feladatok | C8: =6373000+45454000+142689000 -> 194516000 | D8: 6840000 | G8: 35844000 | H8: 0 | L8: 151832000 | M8: =SUM(D8:L8) -> 194516000
B9: Kötelezően ellátandó feladat összesen: | C9: =SUM(C7:C8) -> 385572000 | D9: =SUM(D7:D8) -> 111943000 | E9: =SUM(E7:E8) -> 0 | F9: =SUM(F7:F8) -> 0 | G9: =SUM(G7:G8) -> 85931000 | H9: =SUM(H7:H8) -> 0 | I9: =SUM(I7:I8) -> 0 | J9: =SUM(J7:J8) -> 0 | ... M9: =SUM(M7:M8) -> 384369000 | N9: =L9/C9 -> 0.47368066
B10: Önként vállalt feladat
A11: 1. | B11: Üdülői szálláshely szolg. | C11: 3301000 | G11: 1745000 | L11: 1556000 | M11: =SUM(D11:L11) -> 3301000
B12: Önként vállalt feladat összesen: | C12: =SUM(C11:C11) -> 3301000 | D12: =SUM(D11) -> 0 | E12: =SUM(E11:E11) -> 0 | F12: =SUM(F11:F11) -> 0 | G12: =SUM(G11:G11) -> 1745000 | H12: =SUM(H11:H11) -> 0 | I12: =SUM(I11:I11) -> 0 | J12: =SUM(J11:J11) -> 0 | K12: =SUM(K11:K11) -> 0 | L12: =L11 -> 1556000 | M12: =M11 -> 3301000 | N12: =L12/C12 -> 0.47137231
B13: Összesen: | C13: =C9+C12 -> 388873000 | D13: =D9+D12 -> 111943000 | E13: =E9+E12 -> 0 | F13: =F9+F12 -> 0 | G13: =G9+G12 -> 87676000 | H13: =H9+H12 -> 0 | I13: =I9+I12 -> 0 | J13: =J9+J12 -> 0 | ... M13: =M9+M12 -> 387670000 | N13: =L13/C13 -> 0.47366107
A14: Játékvár Óvoda és Bölcsőde
B15: Kötelezően ellátandó feladat
A16: 1. | B16: Óvoda nevelés, ellátás, éteztetés | C16: 267444000 | D16: =236495000+13599000 -> 250094000 | G16: 360000 | K16: 1044000 | L16: 23351000 | M16: =SUM(D16:L16) -> 274849000
B17: Kötelezően ellátandó feladat összesen: | C17: =SUM(C16) -> 267444000 | D17: =SUM(D16) -> 250094000 | E17: =SUM(E16) -> 0 | F17: =SUM(F16) -> 0 | G17: =SUM(G16) -> 360000 | H17: =SUM(H16) -> 0 | I17: =SUM(I16) -> 0 | J17: =SUM(J16) -> 0 | ... M17: =SUM(M16) -> 274849000 | N17: =L17/C17 -> 0.087311736
B18: Önként vállalt feladat | L18: =C18-D18-E18-F18-G18-K18 -> 0 | M18: =SUM(D18:L18) -> 0
A19: 1. | B19: Bölcsődei ellátás | C19: 102092000 | D19: 85087000 | G19: 794000 | L19: 8538000 | M19: =SUM(D19:L19) -> 94419000
B20: Önként vállalt feladat összesen: | C20: =SUM(C19) -> 102092000 | D20: =SUM(D19) -> 85087000 | E20: =SUM(E19) -> 0 | F20: =SUM(F19) -> 0 | G20: =SUM(G19) -> 794000 | H20: =SUM(H19) -> 0 | I20: =SUM(I19) -> 0 | J20: =SUM(J19) -> 0 | ... M20: =SUM(M19) -> 94419000
B21: Összesen: | C21: =C17+C20 -> 369536000 | D21: =D17+D20 -> 335181000 | E21: =E17+E20 -> 0 | F21: =F17+F20 -> 0 | G21: =G17+G20 -> 1154000 | H21: =H17+H20 -> 0 | I21: =I17+I20 -> 0 | J21: =J17+J20 -> 0 | ... M21: =M17+M20 -> 369268000 | N21: =L21/C21 -> 0.086294705
A22: Városi Művelődési Központ és Könyvtár
B23: Kötelezően ellátandó feladat
A24: 1. | B24: Közművelődési tevékenységek, intézmények, könyvtár működtetése | C24: 135707000 | D24: 41811000 | E24: 564000 | G24: 14978000 | I24: 211000 | K24: 2876000 | L24: 82780000 | M24: =SUM(D24:L24) -> 143220000
B25: Kötelezően ellátandó feladat összesen: | C25: =SUM(C24) -> 135707000 | D25: =SUM(D24) -> 41811000 | E25: =SUM(E24) -> 564000 | F25: =SUM(F24) -> 0 | G25: =SUM(G24) -> 14978000 | H25: =SUM(H24) -> 0 | I25: =SUM(I24) -> 211000 | J25: =SUM(J24) -> 0 | ... M25: =SUM(M24) -> 143220000 | N25: =L25/C25 -> 0.60999064
B26: Önként vállalt feladat
A27: 1. | B27: Kiadói tevékenység (Martfű Magazin) | C27: 24283000 | D27: 0 | G27: 1121000 | L27: 23162000 | M27: =SUM(D27:L27) -> 24283000
A28: 2. | B28: Városi TV. | D28: 0 | M28: =SUM(D28:L28) -> 0
A29: 3. | B29: Terembérlet | C29: 0 | M29: =SUM(D29:L29) -> 0
A30: 4. | B30: Múzeum | C30: 10255000 | D30: 600000 | G30: 157000 | L30: 9498000 | M30: =SUM(D30:L30) -> 10255000
A31: 5. | B31: Mozi | C31: 16028000 | D31: 716000 | E31: 277000 | G31: 14440000 | L31: 595000 | M31: =SUM(D31:L31) -> 16028000
A32: 6. | B32: Önk.m.n.s.nemzetközi kapcsol. | C32: 5967000 | L32: 5967000 | M32: =SUM(D32:L32) -> 5967000
B33: Önként vállalt feladat összesen: | C33: =SUM(C27:C32) -> 56533000 | D33: =SUM(D27:D32) -> 1316000 | E33: =SUM(E27:E32) -> 277000 | F33: =SUM(F27:F32) -> 0 | G33: =SUM(G27:G32) -> 15718000 | H33: =SUM(H27:H32) -> 0 | I33: =SUM(I27:I32) -> 0 | J33: =SUM(J27:J32) -> 0 | ... M33: =SUM(M27:M32) -> 56533000
B34: Összesen: | C34: =C25+C33 -> 192240000 | D34: =D25+D33 -> 43127000 | E34: =E25+E33 -> 841000 | F34: =F25+F33 -> 0 | G34: =G25+G33 -> 30696000 | H34: =H25+H33 -> 0 | I34: =I25+I33 -> 211000 | J34: =J25+J33 -> 0 | K34: =K25+K33 -> 2876000 | L34: =SUM(L27:L31,L24) -> 116035000 | M34: =M25+M33 -> 199753000 | N34: =L34/C34 -> 0.60359447
A35: Polgármesteri Hívatal
B36: Kötelezően ellátandó feladat | L36: =C36-SUM(D36:K36) -> 0 | M36: =SUM(D36:L36) -> 0
A37: 1. | B37: Önkormányzati jogalkotás, igazgatási tevékenység | C37: ='4.'!N26 -> 2.208667e+08 | D37: ='1.'!D8 -> 152939000 | F37: 50000 | G37: ='2.'!N12 -> 1967000 | H37: 25000 | K37: ='2.'!N28 -> 20000 | L37: 65870000 | M37: =SUM(D37:L37) -> 220871000
B38: Kötelezően ellátandó feladat összesen: | C38: =SUM(C37:C37) -> 2.208667e+08 | D38: =SUM(D37:D37) -> 152939000 | E38: =SUM(E37:E37) -> 0 | F38: =SUM(F37:F37) -> 50000 | G38: =SUM(G37:G37) -> 1967000 | H38: =SUM(H37:H37) -> 25000 | I38: =SUM(I37:I37) -> 0 | J38: =SUM(J37:J37) -> 0 | ... M38: =SUM(M37:M37) -> 220871000 | N38: =L38/C38 -> 0.29823418
B39: Államigazgatási feladat | L39: =C39-SUM(D39:K39) -> 0 | M39: =SUM(D39:L39) -> 0
A40: 1. | B40: Önkormányzati jogalkotás, igazgatási tevékenység | C40: ='4.'!N29 -> 0 | K40: ='2.'!N31 -> 0 | M40: =SUM(D40:L40) -> 0
B41: Államigazgatási feladat összesen: | C41: =SUM(C40) -> 0 | D41: =SUM(D40) -> 0 | E41: =SUM(E40) -> 0 | F41: =SUM(F40) -> 0 | G41: =SUM(G40) -> 0 | H41: =SUM(H40) -> 0 | I41: =SUM(I40) -> 0 | J41: =SUM(J40) -> 0 | ... L41: =SUM(L40) -> 0 | M41: =SUM(M40:M40) -> 0
B42: Összesen: | C42: =C38+C41 -> 2.208667e+08 | D42: =D38+D41 -> 152939000 | E42: =E38+E41 -> 0 | F42: =F38+F41 -> 50000 | G42: =G38+G41 -> 1967000 | H42: =H38+H41 -> 25000 | I42: =I38+I41 -> 0 | J42: =J38+J41 -> 0 | ... M42: =M38+M41 -> 220871000 | N42: =L42/C42 -> 0.29823418
C44: KIADÁS | D44: BEVÉTELEK
B45: Intézmények, Szakfeladatok | C45: Összesen: | D45: Működési célú tám. ÁHT-n bel. (B1) | E45: Felhalmozási célú tám. ÁHT-n bel. (B2) | F45: Közhatalmi bevételek (B3) | G45: Működési bevételek (B4) | H45: Felhalmozási bevételek (B5) | I45: Működési célú átvett pénzeszk. (B6) | J45: Felhalmozási célú átvett pénzeszk. (B7) | K45: Finanszírozási bevétel (B8) | L45: Önkormányzati finanszírozás (állami támogatás nélkül) | M45: Összesen: | N45: Önkorm. finanszírozás az össz.kiadás %-ában
A46: Önkormányzat
B47: Kötelezően ellátandó feladat
A48: 1. | B48: Önkormányzati jogalkotás, igazgatási tevékenység | C48: 39258000 | D48: 6346000 | E48: 0 | G48: 1000000 | H48: 75000 | I48: 100000 | L48: 31737000 | M48: =SUM(D48:L48) -> 39258000
A49: 2. | B49: Köztemető fenntartás, üzemeltetés | C49: 3331000 | G49: 3883000 | L49: -552000 | M49: =SUM(D49:L49) -> 3331000
A50: 3. | B50: Közterület rendjének fenntartása
A51: 4. | B51: Közutak, hidak, alagutak üzemeltetése, fenntartása | C51: 96000 | L51: 96000 | M51: =SUM(D51:L51) -> 96000
A52: 5. | B52: Közvilágítás | C52: 28050000 | G52: 11198000 | L52: 16852000 | M52: =SUM(D52:L52) -> 28050000
A53: 6. | B53: Zöldterület kezelése | C53: 51000 | L53: 51000 | M53: =SUM(D53:L53) -> 51000
A54: 7. | B54: Önkormányzati vagyongazdálkodás | C54: 92210000 | G54: 85572000 | H54: 4835000 | L54: 1803000 | M54: =SUM(D54:L54) -> 92210000
A55: 8. | B55: Városgazdálkodás | C55: 1172700000 | D55: 186072000 | E55: 86719000 | F55: 1180911000 | G55: =50464000+149640000 -> 200104000 | H55: 2715000 | J55: 8000 | K55: 3539794000 | L55: -4023573000 | M55: =SUM(D55:L55) -> 1172750000
A56: 9. | B56: TOP pályázat | C56: 314644000 | L56: 314644000 | M56: =SUM(D56:L56) -> 314644000
A57: 10. | B57: Központi, gyermekorvosi rendelő, ügyelet, foglalkozás-és iskola eü, védőnői szolg. | C57: =8508000+12478000+860000 -> 21846000 | G57: 5253000 | H57: 80000 | L57: 16513000 | M57: =SUM(D57:L57) -> 21846000
A58: 11. | B58: Sportpálya működtetése, versenysport tám. | C58: =9336000+42606000+10000000 -> 61942000 | G58: 3207000 | J58: 0 | L58: 58735000 | M58: =SUM(D58:L58) -> 61942000
A59: 12. | B59: Ellátottak pénzbeli juttatásai | C59: 40748000 | I59: 658000 | L59: 40090000 | M59: =SUM(D59:L59) -> 40748000
A60: 13. | B60: Közfoglalkoztatás | C60: 33175000 | D60: 29022000 | L60: 4153000 | M60: =SUM(D60:L60) -> 33175000
A61: 14. | B61: Út- és járda építés, felújítás | C61: 93037000 | E61: 74180000 | L61: 18857000 | M61: =SUM(D61:L61) -> 93037000
A62: 15. | B62: Kerékpárút építés, felújítás | C62: 404000 | L62: 404000 | M62: =SUM(D62:L62) -> 404000
B63: Kötelezően ellátandó feladat összesen: | C63: =SUM(C48:C62) -> 1901492000 | D63: =SUM(D48:D62) -> 221440000 | E63: =SUM(E48:E62) -> 160899000 | F63: =SUM(F48:F62) -> 1180911000 | G63: =SUM(G48:G62) -> 310217000 | H63: =SUM(H48:H62) -> 7705000 | I63: =SUM(I48:I62) -> 758000 | J63: =SUM(J48:J62) -> 8000 | ... M63: =SUM(M48:M62) -> 1901542000
A64: Önkormányzat
B65: Önként vállalt feladat | C65: 0 | L65: 0 | M65: 0
A66: 1. | B66: Piac üzemeltetés | C66: 323000 | G66: 464000 | L66: -141000 | M66: =SUM(G66:L66) -> 323000
A67: 2. | B67: Ingatlan korszerűsítési, vásárlási támogatások | C67: 3000000 | J67: 2745000 | L67: 255000 | M67: =SUM(D67:L67) -> 3000000
A68: 3. | B68: Labor | M68: =SUM(D68:L68) -> 0
A69: 4. | B69: Civil szervezetek, alapítványok támogatása | C69: 2191000 | L69: 2191000 | M69: =SUM(D69:L69) -> 2191000
A70: 5. | B70: Egyéb nonprofit szervezetek támog. | C70: 4727000 | L70: 4727000 | M70: =SUM(D70:L70) -> 4727000
A71: 6. | B71: Egyéb szabadidős tevékenység (játszótér üzemeltetése) | C71: 6631000 | L71: 6631000 | M71: =SUM(D71:L71) -> 6631000
B72: Önként vállalt feladat összesen: | C72: =SUM(C66:C71) -> 16872000 | D72: =SUM(D66:D71) -> 0 | E72: =SUM(E66:E71) -> 0 | F72: =SUM(F66:F71) -> 0 | G72: =SUM(G66:G71) -> 464000 | H72: =SUM(H66:H71) -> 0 | I72: =SUM(I66:I71) -> 0 | J72: =SUM(J66:J71) -> 2745000 | ... M72: =SUM(M66:M71) -> 16872000
A73: . | B73: Összesen: | C73: =C63+C72 -> 1918364000 | D73: =D63+D72 -> 221440000 | E73: =E63+E72 -> 160899000 | F73: =F63+F72 -> 1180911000 | G73: =G63+G72 -> 310681000 | H73: =H63+H72 -> 7705000 | I73: =I63+I72 -> 758000 | J73: =J63+J72 -> 2753000 | ... M73: =M63+M72 -> 1918414000
B74: Kötelezően ellátandó feladat összesen: | C74: =C9+C17+C25+C42+C63 -> 2.9110817e+09 | D74: =D9+D17+D25+D42+D63 -> 778227000 | E74: =E8+E17+E25+E42+E63 -> 161463000 | F74: =F8+F17+F25+F341+F63 -> 1180911000 | G74: =G9+G17+G25+G42+G63 -> 413453000 | H74: =H8+H17+H25+H42+H63 -> 7730000 | I74: =I8+I17+I25+I42+I63 -> 969000 | J74: =J8+J17+J25+J42+J63 -> 8000 | K74: =K9+K17+K25+K42+K63 -> 3547591000 | L74: =L9+L17+L25+L42+L63 -> -3165551000 | M74: =M9+M17+M25+M42+M63 -> 2924851000
B75: Önként vállalt feladat összesen: | C75: =C12+C20+C33+C72 -> 178798000 | D75: =D20+D33+D72+D12 -> 86403000 | E75: =E20+E33+E72+E12 -> 277000 | F75: =F20+F33+F72+F12 -> 0 | G75: =G20+G33+G72+G12 -> 18721000 | H75: =H20+H33+H72+H12 -> 0 | I75: =I20+I33+I72+I12 -> 0 | J75: =J20+J33+J72+J12 -> 2745000 | K75: =K20+K33+K72 -> 0 | L75: =L12+L20+L33+L72 -> 62979000 | M75: =M20+M33+M72 -> 167824000
B76: Önkormányzat mindösszesen: | C76: =SUM(C74:C75) -> 3.0898797e+09 | D76: =SUM(D74:D75) -> 864630000 | E76: =SUM(E74:E75) -> 161740000 | F76: =SUM(F74:F75) -> 1180911000 | G76: =SUM(G74:G75) -> 432174000 | H76: =SUM(H74:H75) -> 7730000 | I76: =SUM(I74:I75) -> 969000 | J76: =SUM(J74:J75) -> 2753000 | K76: =SUM(K74:K75)+2000 -> 3547593000 | L76: =SUM(L74:L75) -> -3102572000 | M76: =SUM(M74:M75) -> 3092675000

Sheet 15.
A2: Az Önkormányzatnál 2025-ben európai forrásból finanszírozott projektek
A4: Ssz. | B4: Intézmények/Pályázatok azonosítója | C4: Megítélt/pályázott támogatás (Ft) | D4: Pályázati önerő bruttó (Ft) | E4: Saját önerő vagy ÁFA | F4: Pályázat keretében elszámolható költség (Ft) | G4: 2025-ben felhasznált költség (Ft)
A5: I. | B5: Önkormányzat
A6: 1. | B6: TOP-Plusz-1.2.3-21-JN1-2022-00041 Martfű Város belterületi útjainak fejlesztése | C6: 250000000 | D6: 0 | F6: =C6 -> 250000000 | G6: 116998075
A7: 2. | B7: TOP-Plusz-1.1.1-21-JN1-2022-00015 Martfű Város iparterületeinek és helyi piacának fejlesztése | C7: 500000000 | D7: 0 | F7: =C7 -> 500000000 | G7: 167716658
A8: 3. | B8: TOP-Plusz-3.3.2-21-JN1-2022-00017 Mentőállomás fejlesztése I.ütem | C8: 100000000 | D8: 0 | E8: 128918627 | F8: 100000000 | G8: 86355275
A9: 4. | B9: TOP-Plusz-1.2.1-21-JN1-2022-00026 Martfű Város komplex élhető városfejlesztés | C9: 363014781 | D9: 0 | E9: 0 | F9: 363014781 | G9: 6099800
A10: 5. | B10: TOP-Plusz-3.3.1-21-JN1-2022-00001 A martfűi Kossuth úti tagóvoda infrastrukturális fejlesztése | C10: 68888135 | D10: 0 | E10: 50000000 | F10: 68888135 | G10: 31250483
A11: 6. | B11: TOP-Plusz-2.1.1-21-JN1-2022-00001 Nyugdíjas Klub épületének közel nulla energiaigényű korszerűsítése Martfűn | G11: 0
B12: Összesen: | C12: =SUM(C6:C11) -> 1281902916 | D12: =SUM(D6:D11) -> 0 | E12: =SUM(E6:E11) -> 178918627 | F12: =SUM(F6:F11) -> 1281902916 | G12: =SUM(G6:G11) -> 408420291

Sheet 16.
A3: TÁJÉKOZTATÓ
A5: Közvetett támogatások 2025. évben
A9: 1. Helyi adókedvezmények
A11: Kedvezmények:
B12: 1.Környezetvédelmi osztálykód alapján
C13: - Tehergépkocsi
C14: - Nyergesvontató
C15: - Autóbusz
C16: Összesen: | E16: =SUM(E13:E15) -> 0
A18: Adómentesség:
B19: 2. Mozgáskorlátozottak gépjárművei után
B20: 3. Egyházi mentesség
B21: 4. Költségvetési szerv, egyesület
B22: 5. | C22: Környezetkímélő kocsi
C23: Összesen: | E23: =SUM(E19:E22) -> 0
A25: Kedvezmények és mentességek együttes összege: | E25: =SUM(E16,E23) -> 0
A28: 2. A helységek eszközök hasznosításából származó kedvezmény, mentesség
B29: Rendőrségi székház bérleti díjának elengedése | E29: 240000
B30: Máltai Szeretet Szolgálat által igénybevett épület bérleti díjának elengedése | E30: 240000
A33: 3.A lakosság részére lakásépítéshez felújításhoz nyújtott kölcsönök elengedett összege
E35: 0
A37: 4. Az ellátottak térítési díjának,kártérítésének méltányossági alapon történő elengedése
B39: 1. | C39: Gyermek étkeztetés térítési díj
C40: méltányossági alapon elengedése | E40: 0
B41: 2. | C41: Felnőtt étkeztetési térítési díj
C42: méltányossági alapon elengedése | E42: 0
A44: 5. Egyéb nyújtott kedvezmények, vagy kölcsönök elengedésének összege
E46: 0
C48: Közvetett támogatások összesen: | E48: =E42+E40+E30+E29 -> 480000

Sheet 17.
A3: 2025. évi Maradványkimutatás
I6: Ezer Ft.
C7: Jogcím | D7: Gyermekjóléti és Szoc. SzK. | E7: Játékvár Óvoda és Bölcsőde | F7: Városi Művelődési Központ | G7: Polgármesteri Hivatal | H7: Martfű Város Önkormányzata | I7: Önkormányzat mindösszesen
I8: =SUM(D8:H8) -> 0
A9: 01. | B9: 01. | C9: Alaptevékenység költségvetési bevételei | D9: 94516234 | E9: 14752772 | F9: 49851184 | G9: 2041990 | H9: 2489744827 | I9: =SUM(D9:H9) -> 2650907007
A10: 02. | B10: 02. | C10: Alaptevékenység költségvetési kiadásai | D10: 388872507 | E10: 369536279 | F10: 192240409 | G10: 220867124 | H10: 1625363514 | I10: =SUM(D10:H10) -> 2796879833
A11: 03. | B11: I. | C11: Alaptevékenység költségvetési egyenlege (=01-02) | D11: =D9-D10 -> -294356273 | E11: =E9-E10 -> -354783507 | F11: =F9-F10 -> -142389225 | G11: =G9-G10 -> -218825134 | H11: =H9-H10 -> 864381313 | I11: =SUM(D11:H11) -> -145972826
A12: 04. | B12: 03. | C12: Alaptevékenység finanszírozási bevételei | D12: 297672995 | E12: 356125408 | F12: 143934977 | G12: 218828476 | H12: 35789795886 | I12: =SUM(D12:H12) -> 36806357742
A13: 05. | B13: 04. | C13: Alaptevékenység finanszírozási kiadásai | H13: 33551765708 | I13: =SUM(D13:H13) -> 33551765708
A14: 06. | B14: II. | C14: Alaptevékenység finanszírozási egyenlege (=03-04) | D14: =D12-D13 -> 297672995 | E14: =E12-E13 -> 356125408 | F14: =F12-F13 -> 143934977 | G14: =G12-G13 -> 218828476 | H14: =H12-H13 -> 2238030178 | I14: =SUM(D14:H14) -> 3254592034
A15: 07. | B15: A) | C15: Alaptevékenység maradványa (=+-I+-II) | D15: =D11+D14 -> 3316722 | E15: =E11+E14 -> 1341901 | F15: =F11+F14 -> 1545752 | G15: =G11+G14 -> 3342 | H15: =H11+H14 -> 3102411491 | I15: =SUM(D15:H15) -> 3108619208
A16: 08. | B16: 05. | C16: Vállalkozási tevékenység költségvetési bevételei | I16: =SUM(D16:H16) -> 0
A17: 09. | B17: 06. | C17: Vállalkozási tevékenység költségvetési kiadásai | H17: 0 | I17: =SUM(D17:H17) -> 0
A18: 10. | B18: III. | C18: Vállalkozási tevékenység költségvetési egyenlege (=05-06) | D18: =D16-D17 -> 0 | E18: =E16-E17 -> 0 | F18: =F16-F17 -> 0 | G18: =G16-G17 -> 0 | H18: =H16-H17 -> 0 | I18: =SUM(D18:H18) -> 0
A19: 11. | B19: 07. | C19: Vállalkozási tevékenység finanszrozási bevételei | F19: 0 | I19: =SUM(D19:H19) -> 0
A20: 12. | B20: 08. | C20: Vállalkozási tevékenység finanszrozási kiadásai | I20: =SUM(D20:H20) -> 0
A21: 13. | B21: IV. | C21: Vállalkozási tevékenység finanszrozási egyenlege (=07-08) | D21: =D19-D20 -> 0 | E21: =E19-E20 -> 0 | F21: =F19-F20 -> 0 | G21: =G19-G20 -> 0 | H21: =H19-H20 -> 0 | I21: =SUM(D21:H21) -> 0
A22: 14. | B22: B) | C22: Vállalkozási tevékenység maradványa (=+-III+-IV) | D22: =D18+D21 -> 0 | E22: =E18+E21 -> 0 | F22: =F18+F21 -> 0 | G22: =G18+G21 -> 0 | H22: =H18+H21 -> 0 | I22: =SUM(D22:H22) -> 0
A23: 15. | B23: C) | C23: Összes maradvány (=A+B) | D23: =D15+D22 -> 3316722 | E23: =E15+E22 -> 1341901 | F23: =F15+F22 -> 1545752 | G23: =G15+G22 -> 3342 | H23: =H15-H22 -> 3102411491 | I23: =SUM(D23:H23) -> 3108619208
A24: 16. | B24: D) | C24: Alaptevékenység kötelezettségvállalással terhelt maradványa | E24: 1080653 | H24: 421205537 | I24: =SUM(D24:H24) -> 422286190
A25: 17. | B25: E) | C25: Alaptevékenység szabad maradványa (=A-D) | D25: =D15-D24 -> 3316722 | E25: =E15-E24 -> 261248 | F25: =F15-F24 -> 1545752 | G25: =G15-G24 -> 3342 | H25: =H15-H24 -> 2681205954 | I25: =SUM(D25:H25) -> 2686333018
A26: 18. | B26: F) | C26: Vállalkozási tevékenységet terhelő befizetési kötelezettség (=B*0,1) | D26: =D22*0.1 -> 0 | E26: =E22*0.1 -> 0 | F26: =F22*0.1 -> 0 | G26: =G22*0.1 -> 0 | H26: =H22*0.1 -> 0 | I26: =SUM(D26:H26) -> 0
A27: 19. | B27: G) | C27: Vállalkozási tevékenység felhasználható maradványa (=B-F) | D27: =D22-D26 -> 0 | E27: =E22-E26 -> 0 | F27: =F22-F26 -> 0 | G27: =G22-G26 -> 0 | H27: =H22-H26 -> 0 | I27: =SUM(D27:H27) -> 0

Sheet 18.
B1: Vagyonkimutatás
B2: 2025.év
B3: Martfű Város Önkormányzata
M4: Ezer Ft.
A5: Eszközök | F5: 2024.év | G5: 2025.év | H5: Források | L5: 2024.év | M5: 2025.év
A6: A | B6: Nemzeti vagyonba tartozó befektetett eszközök | H6: G | I6: Saját tőke
B7: I. | C7: Immateriális javak | I7: I. | J7: Nemzeti vagyon induláskori értéke | L7: 5461031000 | M7: 5461031000
I8: II. | J8: Nemzeti vagyon változásai | L8: 1309396000 | M8: 1812388000
C9: I/1 | D9: B | E9: Korlátozottan forgalomképes vagyoni értékű jogok | F9: 549 | G9: 2304 | I9: III. | J9: Egyéb eszközök induláskori értéke és változásai | L9: 250198000 | M9: 250198000
C10: I/2 | D10: B | E10: Korlátozottan forgalomképes szellemi termékek | F10: 10281 | G10: 8860 | I10: IV. | J10: Felhalmozott eredmény | L10: 2474222000 | M10: 2852252000
E11: Immateriális javak összesen: | F11: =SUM(F9:F10) -> 10830 | G11: =SUM(G9:G10) -> 11164 | I11: VI. | J11: Mérleg szerinti eredmény | L11: -104143000 | M11: 596465000
B12: II. | C12: Tárgyi eszközök | H12: Saját tőke összesen | L12: =SUM(L7:L11) -> 9390704000 | M12: =SUM(M7:M11) -> 10972334000
C13: II/1 | D13: A | E13: Üzleti (forg.k.) ingatlanok és a kapcs. vagyoni értékű jogok | F13: 495721 | G13: =+'19.'!H206+'19.'!H232+'19.'!H268+'19.'!H300 -> 490598183 | H13: H | I13: Kötelezettségek
E14: (intézményenként részletes vagyonkimutatás szerint) | I14: I. | J14: Költségvetési évben esedékes kötelezettségek | L14: 11478000 | M14: 9648000
D15: B | E15: Korlátozottan forgalomképes ing. és a kapcs. vagy. ért. jogok | F15: 4392272 | G15: 5063522000 | I15: II. | J15: Költségvetési évet követően esedékes kötelezettségek | L15: 52808000 | M15: 51763000
D16: C | E16: Forgalomképtelen ingatlanok és a kapcs. vagy. ért. jogok | F16: 2178826 | G16: =+'19.'!H1257 -> 2143545527 | I16: III. | J16: Kötelezettség jellegű sajátos elszámolások | L16: 36382000 | M16: 199763000
D17: D | E17: Nemzetgazdasági szempontból kiemelt jelentőségű törzsvagyon | G17: 0
E18: (intézményenként részletes vagyonkimutatás szerint) | G18: 0 | H18: Kötelezettségek összesen: | L18: =SUM(L14:L16) -> 100668000 | M18: =SUM(M14:M16) -> 261174000
C19: II/2 | D19: A | E19: Üzleti (forg.k.) gépek, berendezések, felszerelések, járművek | G19: =+'19.'!H307 -> 3429140 | M19: 0
D20: B | E20: Korlátozottan forgalomképes gépek, berend. és felszerelések, járművek | F20: 205023 | G20: =+'19.'!H19+'19.'!H70+'19.'!H104+'19.'!H149+'19.'!H742+'19.'!H1272 -> 346395445 | H20: I | I20: Egyéb sajátos forrásoldali elszámolások | L20: 0 | M20: 0
D21: C | E21: Forgalomképtelen gépek, berend.és felszerelések, járművek | G21: 0
D22: D | E22: Nemzetgazdasági szempontból kiemelt jelentőségű törzsvagyon | G22: 0
E23: (intézményenként részletes vagyonkimutatás szerint) | G23: 0
C24: II/3 | D24: A | E24: Üzleti(forg.k.) Tenyészállatok | G24: 0
D25: B | E25: Korlátozottan forgalomképes Tenyészállatok | G25: 0
D26: C | E26: Forgalomképtelen Tenyészállatok | G26: 0
D27: D | E27: Nemzetgazdasági szempontból kiemelt jelentőségű törzsvagyon | G27: 0
C28: II/4 | D28: A | E28: Üzleti(forg.k.) beruházások | G28: 0
D29: B | E29: Korlátozottan forgalomképes beruházások | F29: 146782 | G29: =+'19.'!H728 -> 472837130 | H29: J | I29: Passzív időbeli elhatárolások | L29: 1996568000 | M29: 1640713000
D30: C | E30: Forgalomképtelen beruházások | G30: 0
D31: D | E31: Nemzetgazdasági szempontból kiemelt jelentőségű törzsvagyon | G31: 0
E32: (intézményenként részletes vagyonkimutatás szerint) | G32: 0
C33: II/5 | D33: A | E33: Üzleti (forg.k.)Tárgyi eszközök értékhelyesbítése | G33: 0
D34: B | E34: Korlátozottan forgalomképes Tárgyi eszközök értékhelyesbítése | G34: 0
D35: C | E35: Forgalomképtelen Tárgyi eszközök értékhelyesbítése | G35: 0
D36: D | E36: Nemzetgazdasági szempontból kiemelt jelentőségű törzsvagyon | G36: 0
E37: Tárgyi eszközök összesen: | F37: =SUM(F13:F36) -> 7418624 | G37: =SUM(G13:G36) -> 8520327425
B38: III. | C38: Befektetett pénzügyi eszközök
C39: III/1 | D39: A | E39: Üzleti (forg.k.)vagyon:: Tartós részesedés | F39: 0 | G39: 0
D40: B | E40: Korlátozottan forg.képes tartós részesedés | F40: 68 | G40: 68
D41: C | E41: Forgalomképtelen Tartós részesedés | F41: 0 | G41: 0
D42: D | E42: Nemzetgazdasági szempontból kiemelt jelentőségű törzsvagyon | F42: 0 | G42: 0
C43: III/2 | D43: A | E43: Üzleti(forg.k.) Tartós hitelviszonyt megtestesítő értékpapír | F43: 0 | G43: 0
D44: B | E44: Korlátozottan forg.Tartós hitelviszonyt megtestesítő értékpapír | F44: 0 | G44: 0
D45: C | E45: Forgalomképtelen Tartós hitelviszonyt megtestesítő értékpapír | F45: 0 | G45: 0
D46: D | E46: Nemzetgazdasági szempontból kiemelt jelentőségű törzsvagyon | F46: 0 | G46: 0
C47: III/3 | D47: A | E47: Üzleti (forg.k.) Befektetett pénzügyi eszközök értékhelyesbítése | F47: 0 | G47: 0
D48: B | E48: Korlátozottan forg.képes Befektetett pénzügyi eszközök értékhelyesbítése | F48: 0 | G48: 0
D49: C | E49: Forgalomképtelen Befektetett pénzügyi eszközök értékhelyesbítése | F49: 0 | G49: 0
D50: D | E50: Nemzetgazdasági szempontból kiemelt jelentőségű törzsvagyon | F50: 0 | G50: 0
E51: Befektetett pénzügyi eszközök összesen: | F51: =SUM(F39:F50) -> 68 | G51: =SUM(G39:G50) -> 68
B52: IV. | C52: Koncesszióba, vagyonkezelésbe adott eszközök
C53: IV/1 | D53: A | E53: Üzleti (forg.képes) átadott eszközök | G53: =+'19.'!H1290 -> 1626504
D54: B | E54: Korlátozottan forgalomképes átadott eszközök | G54: {=+'19.'!G1285:H1285+'19.'!H1289+'19.'!H1291+'19.'!H1296} -> 304408102 | H54: 302630657
A55: Nemzeti vagyonba tartozó befektetett eszközök összesen: | F55: =F11+F37+F51 -> 7429522 | G55: =G11+G37+G51+G53+G54 -> 8826373263
A56: B | B56: Nemzeti vagyonba tartozó forgóeszközök (törzsvagyonon kívüli egyéb vagyon)
B57: I. | E57: Készletek | F57: 2180 | G57: 4206000
B58: II. | E58: Értékpapírok | F58: 0 | G58: 0
A59: Nemzeti vagyonba tartozó forgóeszközök összesen: | F59: =SUM(F57:F58) -> 2180 | G59: =SUM(G57:G58) -> 4206000
A60: C | B60: Pénzeszközök | F60: 3277103 | G60: =SUM(G61:G63) -> 3241400000
B61: I. | E61: Lekötött bankbetétek | F61: 2981843000 | G61: 3208372000
B62: II. | E62: Pénztárak,csekkek,betétkönyvek | F62: 261 | G62: 242000
B63: III. | E63: Forintszámlák | F63: 294999000 | G63: 32786000
B64: IV. | E64: Devizaszámlák | G64: 0
A65: D | B65: Követelések
B66: I. | E66: Költségvetési évben esedékes követelések | F66: 57447 | G66: 97498000
B67: II. | E67: Költségvetési évet követően esedékes követelések | F67: 713720 | G67: 649816000
B68: III. | E68: Követelés jellegű sajátos elszámolások | F68: 6913 | G68: 62101000
B69: Követelések összesen: | F69: =SUM(F66:F68) -> 778080 | G69: =SUM(G66:G68) -> 809415000
A70: E | B70: Egyéb sajátos eszközoldali elszámolások | F70: 1055 | G70: -7173000
A71: F | B71: Aktív időbeli elhatárolások | F71: 0 | G71: 0
B72: Eszközök összesen: | F72: =F55+F59+F60+F69+F70 -> 11487940 | G72: =G55+G59+G60+G69+G70 -> 12874221263 | H72: Források összesen: | L72: =SUM(L12,L18,L20,L29) -> 11487940000 | M72: =M12+M18+M20+M29+M37 -> 12874221000

Sheet 19.
A3: 1. | B3: Martfű Városi Művelődési Központ és Könyvtár
A5: B/ Korlátozottan forgalomképes vagyona
A8: Sorsz. | B8: Intézmény, vagyontárgy megnevezése | G8: Nyilvántartási érték (Ft)
B10: Immateriális javak
C11: Alaptevékenység szellemi termékei | H11: 0
C12: Immateriális javak Összesen: | H12: =SUM(H11) -> 0
B14: Gépek, berendezések és felszerelések
C15: Szobor | H15: 70000
C16: Informatikai eszközök | H16: 755099
C17: Egyéb gépek, berendezések | H17: 10622533
C18: Hangszerek | H18: 22130
C19: Gépek, berendezések és felszerelések Összesen: | H19: =SUM(H15:H18) -> 11469762
A22: Korlátozottan forgalomképes vagyon összesen: | H22: =SUM(H12+H19) -> 11469762
A24: Városi Művelődési Központ és Könyvtár összesen: | H24: =SUM(H22:H23) -> 11469762
A28: Városi Művelődési Központ és Könyvtár kiegészítő adatok:
A30: Korlátozottan forgalomképes kisértékű kulturális javak | L30: 0
A31: Teljesen (0-ig) vagy maradványértékig leírt korlátozottan forgalomképes kisértékű kulturális javak | L31: 22395781
A33: Összesen: | L33: =SUM(L30:L32) -> 22395781
A34: Korlátozottan forgalomképes kisértékű informatikai eszközök | L34: 0
A35: Korlátozottan forgalomképes kisértékű egyéb gép, berendezés és felszerelés | L35: 0
A36: Korlátozottan forgalomképes kisértékű hangszerek | L36: 0
A37: Teljesen (0-ig) vagy maradványértékig leírt korlátozottan forgalomképes kisértékű informatikai eszközök | L37: 3239800
A38: Teljesen (0-ig) vagy maradványértékig leírt korlátozottan forgalomképes kisértékű egyéb gép, berendezés és felsz. | L38: 22402028
A39: Teljesen (0-ig) vagy maradványértékig leírt korlátozottan forgalomképes kisértékű hangszerek | L39: 177329
A41: Összesen: | L41: =SUM(L34:L40) -> 25819157
A42: Teljesen (0-ig) vagy maradványértékig leírt, korlátozottan forgalomképes vagyoni értékű jogok | L42: 689374
A43: Teljesen (0-ig) vagy maradványértékig leírt, korlátozottan forgalomképes szellemi termékek | L43: 132970
A44: Teljesen (0-ig) vagy maradványértékig leírt korlátozottan forgalomképes informatikai eszközök | L44: 2773405
A45: Teljesen (0-ig) vagy maradványértékig leírt korlátozottan forgalomképes egyéb gép, berendezés és felszerelés | L45: 45511420
A47: Összesen: | L47: =SUM(L42:L46) -> 49107169
A50: A 01-02. számlacsoportban nyilvántartott eszközök | L50: 0
A51: Kulturális javak és régészeti leletek | L51: 0
A54: 2. | B54: Martfű Város Önkormányzata Gyermekjóléti és Szociális Szolgáltató Központ
A56: Sorsz. | B56: Intézmény, vagyontárgy megnevezése | G56: Nyilvántartási érték (Ft)
A58: B/ Korlátozottan forgalomképes vagyona
B59: Immateriális javak
C60: vagyoni értékű jogok | H60: 0
B61: Immateriális javak Összesen: | H61: =SUM(H60) -> 0
B63: Gépek, berendezések és felszerelések
C64: Számítógépek, számítástechnikai eszközök | H64: 0
C65: Egyéb gépek, berendezések | H65: 4280854
C66: Járművek | H66: 318401
B67: Gépek, berendezések és felszerelések Összesen: | H67: =SUM(H64:H66) -> 4599255
A70: Korlátozottan forgalomképes vagyon összesen: | H70: =SUM(H61+H67) -> 4599255
A72: Martfű Város Önkormányzata Gyermekjóléti és Szociális Szolgáltató Központ összesen: | H72: =SUM(H70:H71) -> 4599255
A75: Martfű Város Önkormányzata Gyermekjóléti és Szociális Szolgáltató Központ kiegészítő adatok:
A77: Korlátozottan forgalomképes kisértékű informatikai eszközök | L77: 0
A78: Korlátozottan forgalomképes kisértékű egyéb gép, berendezés és felszerelés | L78: 0
A79: Teljesen (0-ig) vagy maradványértékig leírt korlátozottan forgalomképes kisértékű informatikai eszközök | L79: 717515
A80: Teljesen (0-ig) vagy maradványértékig leírt korlátozottan forgalomképes kisértékű egyéb gép, berendezés és felsz. | L80: 8769405
A81: Teljesen (0-ig) vagy maradványértékig leírt korlátozottan forgalomképes kisértékű járművek | L81: 46457
A83: Összesen: | L83: =SUM(L77:L82) -> 9533377
A84: Teljesen (0-ig) vagy maradványértékig leírt korlátozottan forgalomképes vagyoni értékű jogok | L84: 263199
A85: Teljesen (0-ig) vagy maradványértékig leírt korlátozottan forgalomképes informatikai eszközök | L85: 0
A86: Teljesen (0-ig) vagy maradványértékig leírt korlátozottan forgalomképes egyéb gép berendezés és felszerelés | L86: 12510356
A87: Teljesen (0-ig) vagy maradványértékig leírt korlátozottan forgalomképes járművek értéke | L87: 3545114
A88: Összesen: | L88: =SUM(L84:L87) -> 16318669
A91: A 01-02. számlacsoportban nyilvántortott eszközök | L91: 0
A92: Kulturális javak és régészeti leletek | L92: 0
A95: 3. | B95: Játékvár Óvoda és Bölcsőde
A96: Sorsz. | B96: Intézmény, vagyontárgy megnevezése | G96: Nyilvántartási érték (Ft)
A98: B/ Korlátozottan forgalomképes vagyona
B100: Gépek, berendezések és felszerelések
C101: egyéb gépek berendezések Összesen | H101: 831417
A104: Korlátozottan forgalomképes vagyon összesen: | H104: =SUM(H101:H103) -> 831417
A106: Játékvár Óvoda és Bölcsőde összesen: | H106: =SUM(H104:H105) -> 831417
A109: Játékvár Óvoda és Bölcsőde kiegészítő adatok:
A111: Korlátozottan forgalomképes kisértékű informatikai eszközök | L111: 0
A112: Korlátozottan forgalomképes kisértékű egyéb gép, berendezés és felszerelés | L112: 0
A113: Teljesen (0-ig) vagy maradványértékig leírt korlátozottan forgalomképes kisértékű informatikai eszköz | L113: 646291
A114: Teljesen (0-ig) vagy maradványértékig leírt korlátozottan forgalomképes kisértékű egyéb gép,berendezés és felsz. | L114: 14230301
A116: Összesen: | L116: =SUM(L111:L115) -> 14876592
A118: Teljesen (0-ig) vagy maradványértékig leírt korlátozottan forgalomképes vagyoni értékű jogok | L118: 19650
A119: Teljesen (0-ig) vagy maradványértékig leírt korlátozottan forgalomképes szellemi termékek | L119: 113000
A120: Teljesen (0-ig) vagy maradványértékig leírt korlátozottan forgalomképes informatikai eszközök | L120: 205200
A121: Teljesen (0-ig) vagy maradványértékig leírt korlátozottan forgalomképes egyéb gép,berendezés és felszerelés | L121: 4082068
A122: Összesen: | L122: =SUM(L118:L121) -> 4419918
A125: A 01-02. számlacsoportban nyilvántartott eszközök | L125: 0
A126: Kulturális javak és régészeti leletek | L126: 0
A129: 4. | B129: Polgármesteri Hivatal
A131: Sorsz. | B131: Intézmény, vagyontárgy megnevezése | G131: Nyilvántartási érték (Ft)
A133: B/ Korlátozottan forgalomképes vagyona
B135: Immateriális javak
C136: Alaptevékenységhez kapcsolódó vagyoni értékű jogok | H136: 0
C137: Összesen: | H137: =SUM(H136) -> 0
B140: Gépek, berendezések és felszerelések
C141: Alaptevékenység ügyviteli és számítástechnikai eszközei | H141: 2150
C142: Alaptevékenység egyéb gépei, berendezései , felszerelései | H142: 165757
C143: Képzőművészeti alkotások | H143: 894000
C144: Összesen: | H144: =SUM(H141:H143) -> 1061907
A147: Korlátozottan forgalomképes vagyon összesen: | H147: =SUM(H137+H144) -> 1061907
A149: Polgármesteri Hivatal összesen: | H149: =SUM(H147:H148) -> 1061907
A151: Polgármesteri Hivatal kiegészítő adatok:
A153: Teljesen (0-ig) vagy maradványértékig leírt, korlátozottan forgalomképes kisértékű szellemi termékek | L153: 46800
A154: Korlátozottan forgalomképes kisértékű informatikai eszközök | L154: 0
A155: Korlátozottan forgalomképes kisértékű egyéb gép, berendezés és felszerelés | L155: 0
A156: Teljesen (0-ig) vagy maradványértékig leírt, korlátozottan forgalomképes kisértékű informatikai eszköz | L156: 5243455
A157: Teljesen (0-ig) vagy maradványértékig leírt, korlátozottan forgalomképes kisértékű egyéb gép berendezés és felsz. | L157: 2575838
A158: Teljesen (0-ig) vagy maradványértékig leírt, üzemeltetésre ,kezelésbe adott korlátozottan forgalomképes kisértékű egyéb gép és felsz. | L158: 27560
A160: Összesen: | L160: =SUM(L153:L159) -> 7893653
...

Sheet 20
A1: Földgáz 2025. év
A3: Intézmény | B3: Beavatkozás módja | C3: Termálvíz hőhasznostás és költsége | E3: Földgáztüzelés esetén a számított hőmennyiség* és költsége (6,44 Ft/MJ ) | G3: Megtakarítás összege ** nettó Ft-ban
C4: MJ | D4: Ft | E4: MJ | F4: Ft
A5: Városi Művelőd.Közp. | B5: Földgáz felhasználás csökkentése megújuló energia hasznosítással: a hőenergia biztosítása - termálvíz alapfűtés, szükség estén földgáz ráfűtéssel | C5: 631200 | D5: =C5*6.612 -> 4173494.4 | E5: =C5/0.85 -> 742588.24 | F5: =E5*6.44 -> 4782268.2 | G5: =D5-F5 -> -608773.84
A6: Bérlők háza I. Bérlők háza II. Bérlők háza III. | C6: 542020 | D6: =C6*6.612 -> 3583836.2 | E6: =C6/0.85 -> 637670.59 | F6: =E6*6.44 -> 4106598.6 | G6: =D6-F6 -> -522762.35
A7: Összesen: | C7: =SUM(C5:C6) -> 1173220 | D7: =SUM(D5:D6) -> 7757330.6 | E7: =SUM(E5:E6) -> 1380258.8 | F7: =SUM(F5:F6) -> 8888866.8 | G7: =SUM(G5:G6) -> -1131536.2
E8: * - kazánhatásfok 85 %
E9: ** - a termálhő ára közel 4%-al emelkedett az előző évhez viszonyítva
A10: Földgáz vételezés és költségeinek alakulása | F10: változás *** | G10: Költségváltozás előző évhez viszonyítva nettó Ft-ban
A11: 2024. év | B11: 82852 | C11: 2025. év | E11: 98758 | F11: =E11/B11-1 -> 0.19198088
B12: 2847933 | E12: 3405886 | F12: =E12/B12-1 -> 0.19591507
B13: 23133165 | E13: 24218975 | F13: =E13/B13-1 -> 0.046937373
A14: Összes intézmény | B14: vételezés versenypiaci, Ft alapú szerződés keretein belül, saját hatáskörben lefolytatott közbeszerzési eljárást követően | C14: energiadíj változása: ** előző évi gázár átlag (5,405 Ft/MJ) és tárgyévi gázár átlag (5,538 Ft/MJ) különbözete x tárgyévi összfogyasztás | F14: =5.538-5.405 -> 0.133 | G14: =F14*E12 -> 452982.84
C15: RHD és adó jellegű díjak változása: *** előző évi átlag (2,598 Ft/MJ) és tárgyévi átlag ( 1,576 Ft/MJ) különbözete x tárgyévi összfogyasztás | F15: =1.576-2.598 -> -1.022 | G15: =F15*E12 -> -3480815.5
A16: Költségváltozás összesen: | G16: =SUM(G14:G15) -> -3027832.7
A18: A megújuló energiahasznosítással elért megtakarítás és a tárgyévi költségváltozás összege: | G18: =G7+G16 -> -4159368.8
A19: ** - az energiadíj átlagos növekedése az előző évhez viszonyítva 2,46 %
A20: *** - az RHD és adó jellegű díjak átlagos csökkenése az előző évhez viszonyítva 39,33 %

Sheet 21
B1: Villamos energia 2025. év
B3: Intézmény | C3: Beavatkozás módja | D3: Teljesít-mény (kWp) | E3: HMKE-k 2024. évi termelése kWh | F3: * HMKE-k 2025. évi termelése kWh | G3: napenergia részaránya az összes felhasználáson belül | H3: Napelemek termelésének változása az előző évhez viszonyítva | I3: *** Megtakarítás összege nettó Ft-ban
J4: 5 | K4: 6
B5: Napelemek termelésének alakulása
B6: Óvoda Kossuth u. 22. 2011.04-től | C6: A villamosenergia-felhasználás folyamatának optimalizálása: napelemes háztartási méretű kiserőmű (HMKE) létesítésével, a helyileg megtermelt villamos energia közvetlen, saját célú felhasználásával a közcélú hálózatból vételezett villamos energia mennyiségének csökkentése | D6: 5.8 | E6: 4687 | F6: 4436 | G6: =4436/(7540+4436) -> 0.37040748 | H6: =1+-E6/F6 -> -0.056582507 | I6: -356851 | J6: 6095 | K6: 6000
B7: Óvoda Munkácsy 79. 2011.04 és 2019.09-től | D7: =3.2+10 -> 13.2 | E7: 10963 | F7: 7905 | G7: =7905/(5319+7905) -> 0.59777677 | H7: =1+-E7/F7 -> -0.38684377 | I7: -635944 | J7: 10846
B8: Bölcsőde Május 1 út 19. 2019.03-tól | D8: 7 | E8: 8824 | F8: 8884 | G8: =8884/(7206+8884) -> 0.55214419 | H8: =1+-E8/F8 -> 0.0067537145 | I8: -714758
B9: Polgármesteri Hivatal 2011.04 és 2019.06-tól | D9: 40 | E9: 39046 | F9: 48061 | G9: =24724/(5218+24724) -> 0.82572974 | H9: =1+-E9/F9 -> 0.18757412 | I9: -2100829 | J9: 70000 | K9: 35428
B10: Városi Művelőd.Közp. 2011.04 és 2017.12.04 -től | D10: =15.9+25.92 -> 41.82 | E10: 27725 | F10: 27625 | G10: =27725/(44849+27725) -> 0.38202387 | H10: =1-E10/F10 -> -0.0036199095 | I10: -2347333 | J10: 107000
B11: Egészségház * 2012.04-től 2023.10. | D11: 14.9 | E11: 14753 | F11: 16794 | G11: =16794/(1664+16794) -> 0.90984939 | H11: =1+-E11/F11 -> 0.1215315 | I11: -1351057 | J11: 16701
B12: AC raktár ** 2018.05-től | D12: 7 | E12: 6767 | F12: 7877 | G12: =7000/(8062+7000) -> 0.46474572 | H12: =1+-E12/F12 -> 0.14091659 | I12: -633718
B13: Sportcsarnok 2015.08-tól és 2021.11-től további 15 kW | D13: =35+15 -> 50 | E13: 39735 | F13: 39717 | G13: =39735/39735 -> 1 | H13: =1+-E13/F13 -> -0.00045320644 | I13: -1894663 | J13: 38333
B14: Konyha ** 2020.04-től | D14: 12.4 | E14: 11450 | F14: 11514 | G14: =11514/(35496+11514) -> 0.24492661 | H14: =1+-E14/F14 -> 0.0055584506 | I14: -978339
B15: Garzon 2021.10-től | D15: 7.5 | E15: 8481 | F15: 8104 | G15: =8104.09/8104.09 -> 1 | H15: =1+-E15/F15 -> -0.046520237 | I15: -651975
B16: Közösségi ház 2024.09.05-tól | D16: 4 | E16: 718 | F16: 3452 | G16: =3452/(5271+3452) -> 0.39573541 | H16: =1+-E16/F16 -> 0.79200463 | I16: =-277746 -> -277746
B17: Összesen : | D17: =SUM(D6:D16) -> 203.62 | E17: =SUM(E6:E16) -> 173149 | F17: =SUM(F6:F16) -> 184369 | G17: =E17/(3165+2859+5125+5463+61387+3899+3851+37611+3433+173149) -> 0.57727494 | H17: =1-E17/F17 -> 0.060856218 | I17: =SUM(I6:I16) -> -11943213
B19: Kereskedőnek kiszámlázandó túltermelés:** | G19: A számlázási egységár egyeztetése folyamatban van a kereskedővel.
B21: * - az éves szaldó elszámolásnál a jóváíráson felüli többlettermelés elszámolása a kereskedővel történik
B22: ** - napelemek termeléséből (hálózati vételezés csökkenéséből) származó megtakarítás, vételezési teljes átlagárral számítva.
B24: Villamos energia vételezés és költségeinek alakulása | H24: változás | I24: Költségváltozás előző évhez viszonyítva
B25: 2024. év | C25: 288216 | D25: 2025. év ** | F25: 283293 | H25: =1-C25/F25 -> -0.017377768
B26: Összes intézmény | C26: vételezés versenypiaci szerződés keretein belül beszerzési eljárás lefolytatását követően | D26: energiadíj változása: * előző évi áramár (46,70 Ft/kWh) és tárgyévi áramár átlag (53,78 Ft/kWh) különbözete x tárgyévi összfogyasztás | H26: =(-46.7+53.77) -> 7.07 | I26: =H26*F25 -> 2002881.5 | J26: =C25*H26 -> 2037687.1
D27: RHD és adó jellegű díjak változása: * előző évi átlag (41,91 Ft/kWh) és tárgyévi átlag (46,56 Ft/kWh) különbözete x tárgyévi összfogyasztás | H27: =(-41.91+46.58) -> 4.67 | I27: =H27*F25 -> 1322978.3
B28: Költségváltozás összesen: | I28: =I26+I27 -> 3325859.8
B30: A napelemek termelésével elért megtakarítás, a kiszámlázott túltermelés értéke és a tárgyévi költségváltozás összege | I30: =I17+I28 -> -8617353.2
B32: * - az áram ára az előző évhez viszonyítva 15,16 %-al, az RHD és az adó jellegű díjak pedig közel 11,1 %-al növekedtek
B33: ** - a közvilágítás korszerűsítésének eredménye: a fogyasztás csökkenése a bázisévhez (2021) viszonyítva több mint 70%.

Sheet 22.
A3: Az államháztartásról szóló 2011. évi CXCV. törvény 24. § (4) bekezdés d) pontja alapján
A4: a költségvetési évet követő három év tervezett előirányzatainak keretszámai
I7: Ezer Ft.
A8: Bevételi jogcímek | E8: 2025. év terv | F8: 2025. év tény | G8: 2026. év | H8: 2027. év | I8: 2028. év
A9: 1. | B9: Működési c. tám. ÁHT-n belülről (B1) | E9: ='1.'!B88 -> 670402000 | F9: ='1.'!D88 -> 864630000 | G9: 792942000 | H9: 670000000 | I9: 680000000
A10: 2. | B10: Felhalmozási célú támogatás ÁHT-on belülről (B2) | E10: ='1.'!B94 -> 554997000 | F10: ='1.'!D94 -> 161740000 | G10: 631154000
A11: 3. | B11: Közhatalmi bevételek (B3) | E11: ='1.'!B111 -> 1350500000 | F11: ='1.'!D111 -> 1180911000 | G11: 1370500000 | H11: 1350000000 | I11: 1400000000
A12: 4. | B12: Működési bevételek (B4) | E12: ='1.'!B126 -> 342398000 | F12: ='1.'!D126 -> 432174387 | G12: 399720000 | H12: 474800000 | I12: 414300000
A13: 5. | B13: Felhalmozási bevételek (B5) | E13: ='1.'!B132 -> 3000000 | F13: ='1.'!D132 -> 7730000 | G13: 16077000 | H13: 200000 | I13: 200000
A14: 6. | B14: Működési célú átvett pénzeszközök (B6) | E14: ='1.'!B138 -> 0 | F14: ='1.'!D138 -> 969000 | G14: 0
A15: 7. | B15: Felhalmozási célú átvett pénzeszközök (B7) | E15: ='1.'!B143 -> 3500000 | F15: ='1.'!D143 -> 2753000 | G15: 3500000 | H15: 5000000 | I15: 5500000
B17: Tárgyévi költségvetési bevételek összesen (B1+…+B7) | E17: =SUM(E9:E16) -> 2924797000 | F17: =SUM(F9:F16) -> 2650907387 | G17: =SUM(G9:G16) -> 3213893000 | H17: =SUM(H9:H16) -> 2500000000 | I17: =SUM(I9:I16) -> 2500000000
A19: 8. | B19: Finanszírozási bevételek (B8) | E19: ='1.'!B151 -> 2536320000 | F19: ='1.'!D151 -> 3547593000 | G19: 2187417000 | H19: 1677000000 | I19: 1242900000
B21: Önkormányzat és Intézményei Bevételek összesen:(B1+…+B8) | E21: =SUM(E19,E17) -> 5461117000 | F21: =SUM(F19,F17) -> 6198500387 | G21: =SUM(G19,G17) -> 5401310000 | H21: =SUM(H19,H17) -> 4177000000 | I21: =SUM(I19,I17) -> 3742900000
A23: Kiadási jogcímek | E23: 2025. év terv | F23: 2025. év tény | G23: 2026. év | H23: 2027. év | I23: 2028. év
A24: I. | B24: Működési, fenntartási kiadások | E24: =SUM(E25:E31) -> 2613888000 | F24: =SUM(F25:F31) -> 2114638822 | G24: =SUM(G25:G31) -> 2853131000 | H24: =SUM(H25:H31) -> 2769000000 | I24: =SUM(I25:I31) -> 2762900000
B25: - | C25: Személyi juttatás (K1) | E25: ='4.'!T10 -> 780301000 | F25: ='4.'!V10 -> 846688807 | G25: 890316000 | H25: 950000000 | I25: 1000000000
B26: - | C26: Munkáltatót terhelő járulékok (K2) | E26: ='4.'!T11 -> 105948000 | F26: ='4.'!V11 -> 117505688 | G26: 121131000 | H26: 104000000 | I26: 107900000
B27: - | C27: Dologi kiadások (K3) | E27: ='4.'!T12 -> 774693000 | F27: ='4.'!V12 -> 560405327 | G27: 767682000 | H27: 780000000 | I27: 800000000
B28: - | C28: Ellátottak pénzbeni juttatásai (K4) | E28: ='4.'!T13 -> 44073000 | F28: ='4.'!V13 -> 40748000 | G28: 44073000 | H28: 45000000 | I28: 45000000
B29: - | C29: Egyéb működési célú kiadások (K5) | E29: ='4.'!T14 -> 504785000 | F29: ='4.'!V14 -> 549291000 | G29: 458056000 | H29: 470000000 | I29: 490000000
B30: - | C30: Általános tartalék | E30: ='4.'!T15 -> 276580000 | F30: ='4.'!V15 -> 0 | G30: 276580000 | H30: 250000000 | I30: 250000000
B31: - | C31: Céltartalék | E31: ='4.'!T16 -> 127508000 | F31: ='4.'!V16 -> 0 | G31: 295293000 | H31: 170000000 | I31: 70000000
A33: II. | B33: Felhalmozási és tőke jellegű kiadások | E33: =SUM(E34:E37) -> 2826075000 | F33: =SUM(F34:F37) -> 6.8224004e+08 | G33: =SUM(G34:G37) -> 2521245000 | H33: =SUM(H34:H37) -> 1380000000 | I33: =SUM(I34:I37) -> 950000000
B34: - | C34: Beruházás (K6) | E34: ='4.'!T20 -> 2678503000 | F34: ='4.'!V20 -> 5.8429079e+08 | G34: 2392243000 | H34: 1250000000 | I34: 800000000
B35: - | C35: Felújítás (K7) | E35: ='4.'!T21 -> 116907000 | F35: ='4.'!V21 -> 94949249 | G35: 100566000 | H35: 100000000 | I35: 120000000
B36: - | C36: Egyéb felhalmozási célú kiadások (K8) | E36: ='4.'!T22 -> 10000000 | F36: ='4.'!V22 -> 3000000 | G36: 10000000 | H36: 10000000 | I36: 10000000
B37: - | C37: Felhalmozási célú céltartalék | E37: ='4.'!T23 -> 20665000 | F37: ='4.'!V23 -> 0 | G37: 18436000 | H37: 20000000 | I37: 20000000
A39: III. | B39: Tárgyévi költségvetési kiadások összesen (K1+…+K8) | E39: =SUM(E24,E33) -> 5439963000 | F39: =SUM(F24,F33) -> 2.7968789e+09 | G39: =SUM(G24,G33) -> 5374376000 | H39: =SUM(H24,H33) -> 4149000000 | I39: =SUM(I24,I33) -> 3712900000
A41: IV. | B41: Finanszírozási kiadások (K9) | E41: ='4.'!T25 -> 21153870 | F41: ='4.'!V25 -> 293000938 | G41: 26934000 | H41: 28000000 | I41: 30000000
A43: V. | B43: Kiadások összesen: | E43: =SUM(E39,E41) -> 5461116870 | F43: =SUM(F39,F41) -> 3.0898798e+09 | G43: =SUM(G39,G41) -> 5401310000 | H43: =SUM(H39,H41) -> 4177000000 | I43: =SUM(I39,I41) -> 3742900000
